BEGIN:VCALENDAR
VERSION:2.0
PRODID:-//Innovation Women - ECPv6.15.20//NONSGML v1.0//EN
CALSCALE:GREGORIAN
METHOD:PUBLISH
X-WR-CALNAME:Innovation Women
X-ORIGINAL-URL:https://innovationwomen.com
X-WR-CALDESC:Events for Innovation Women
REFRESH-INTERVAL;VALUE=DURATION:PT1H
X-Robots-Tag:noindex
X-PUBLISHED-TTL:PT1H
BEGIN:VTIMEZONE
TZID:UTC
BEGIN:STANDARD
TZOFFSETFROM:+0000
TZOFFSETTO:+0000
TZNAME:UTC
DTSTART:20190101T000000
END:STANDARD
END:VTIMEZONE
BEGIN:VEVENT
DTSTART;VALUE=DATE:20201116
DTEND;VALUE=DATE:20201121
DTSTAMP:20260420T023616
CREATED:20200102T162933Z
LAST-MODIFIED:20200729T212317Z
UID:6821-1605484800-1605916799@innovationwomen.com
SUMMARY:Women in Technology World Series
DESCRIPTION:10\,000+ female tech professionals and diversity advocates from across the globe will unite at The Women in Technology World Series Online Festival this November. \nJoin this week-long festival to celebrate the power of resilience amongst female tech professionals as we shine a light on the transformative tech engineered by women of all diverse backgrounds across the world. \nLet us unite\, not just in preserving the sense of unity amongst the females in the tech community\, but in solidarity in our collective mission to inspire warriors to fight against the systemic injustices women face. \nUnite to define and transform what it means to be a Woman in Tech in the post COVID era.
URL:https://innovationwomen.com/event/women-of-silicon-valley/
LOCATION:Online
CATEGORIES:Register For Events
ATTACH;FMTTYPE=image/png:https://innovationwomen.com/wp-content/uploads/2020/01/women-in-tech-world-series.png
END:VEVENT
BEGIN:VEVENT
DTSTART;VALUE=DATE:20201116
DTEND;VALUE=DATE:20201121
DTSTAMP:20260420T023616
CREATED:20200114T184043Z
LAST-MODIFIED:20200817T220428Z
UID:6544-1605484800-1605916799@innovationwomen.com
SUMMARY:Lesbians Who Tech & Allies Debug 2020 Summit
DESCRIPTION:The Lesbians Who Tech & Allies Debug 2020 Summit is the largest LGBTQ professional event in the world. We focus on increasing the visibility of LGBTQ women\, trans and gender nonconforming individuals\, LGBTQ people of color\, and demographics that are underrepresented in the tech sector and LGBTQ spaces. We’ve been called\, “the best tech conference\, ever\,” “the most diverse tech conference they’ve ever been to\,” and our favorite\, “It’s like TED\, but with cooler people.” \nWe are a tech conference first — a tech conference where the speakers happen to be 80% queer women\, 50% women of color\, 25% Black & Latinx\, and 10% transgender and/or non-binary. We cover topics from top technical trends to how technology will shape our future to career growth so that our community can grow and thrive.
URL:https://innovationwomen.com/event/lesbians-who-tech/
LOCATION:Online
CATEGORIES:Register For Events
ATTACH;FMTTYPE=image/png:https://innovationwomen.com/wp-content/uploads/2020/01/debug-2020-summit-header-2.png
END:VEVENT
BEGIN:VEVENT
DTSTART;VALUE=DATE:20201119
DTEND;VALUE=DATE:20201121
DTSTAMP:20260420T023616
CREATED:20200916T201726Z
LAST-MODIFIED:20200916T201726Z
UID:9966-1605744000-1605916799@innovationwomen.com
SUMMARY:iRelaunch Return to Work Conference 2020
DESCRIPTION:At iRelaunch\, we have doubled down to focus on how we can best support our relauncher and employer communities\, and our mission has never been clearer. The tools\, events\, thought leadership\, and programming that are the foundation of our company\, including our flagship iRelaunch Return to Work Conference have been reviewed\, updated\, enhanced and expanded during this unprecedented time. \nCarol Fishman Cohen will be delivering the keynote address at the iRelaunch Return to Work Conferences this October 1-2 and November 19-20.
URL:https://innovationwomen.com/event/irelaunch-return-to-work-conference-2020-2/
LOCATION:Online
CATEGORIES:Register For Events
ATTACH;FMTTYPE=image/png:https://innovationwomen.com/wp-content/uploads/2020/09/irelaunch.png
END:VEVENT
END:VCALENDAR