BEGIN:VCALENDAR
VERSION:2.0
PRODID:-//Innovation Women - ECPv6.15.20//NONSGML v1.0//EN
CALSCALE:GREGORIAN
METHOD:PUBLISH
X-WR-CALNAME:Innovation Women
X-ORIGINAL-URL:https://innovationwomen.com
X-WR-CALDESC:Events for Innovation Women
REFRESH-INTERVAL;VALUE=DURATION:PT1H
X-Robots-Tag:noindex
X-PUBLISHED-TTL:PT1H
BEGIN:VTIMEZONE
TZID:America/New_York
BEGIN:DAYLIGHT
TZOFFSETFROM:-0500
TZOFFSETTO:-0400
TZNAME:EDT
DTSTART:20190310T070000
END:DAYLIGHT
BEGIN:STANDARD
TZOFFSETFROM:-0400
TZOFFSETTO:-0500
TZNAME:EST
DTSTART:20191103T060000
END:STANDARD
BEGIN:DAYLIGHT
TZOFFSETFROM:-0500
TZOFFSETTO:-0400
TZNAME:EDT
DTSTART:20200308T070000
END:DAYLIGHT
BEGIN:STANDARD
TZOFFSETFROM:-0400
TZOFFSETTO:-0500
TZNAME:EST
DTSTART:20201101T060000
END:STANDARD
BEGIN:DAYLIGHT
TZOFFSETFROM:-0500
TZOFFSETTO:-0400
TZNAME:EDT
DTSTART:20210314T070000
END:DAYLIGHT
BEGIN:STANDARD
TZOFFSETFROM:-0400
TZOFFSETTO:-0500
TZNAME:EST
DTSTART:20211107T060000
END:STANDARD
END:VTIMEZONE
BEGIN:VEVENT
DTSTART;TZID=America/New_York:20201202T093000
DTEND;TZID=America/New_York:20201202T110000
DTSTAMP:20260425T220141
CREATED:20201123T211300Z
LAST-MODIFIED:20201123T211300Z
UID:11022-1606901400-1606906800@innovationwomen.com
SUMMARY:How to go from 1-40K as a Newpreneur
DESCRIPTION:Kickstart Your Social Media Blueprint in the Midst of a Pandemic \nDuring these times of uncertainty\, many people are seeking for resources that could help boost their small businesses. Digital platforms clearly stand out as accessible resources to many of us\, and can therefore be taken advantage as a tool for pivoting services online.
URL:https://innovationwomen.com/event/how-to-go-from-1-40k-as-a-newpreneur/
LOCATION:Online
CATEGORIES:Register For Events
ATTACH;FMTTYPE=image/jpeg:https://innovationwomen.com/wp-content/uploads/2020/04/score-logo-600px.jpg
END:VEVENT
BEGIN:VEVENT
DTSTART;TZID=America/New_York:20201202T093000
DTEND;TZID=America/New_York:20201202T110000
DTSTAMP:20260425T220141
CREATED:20201130T222325Z
LAST-MODIFIED:20201130T222325Z
UID:11083-1606901400-1606906800@innovationwomen.com
SUMMARY:How to go from 1-40K as a Newpreneur
DESCRIPTION:Kickstart Your Social Media Blueprint in the Midst of a Pandemic: During these times of uncertainty\, many people are seeking for resources that could help boost their small businesses. Digital platforms clearly stand out as accessible resources to many of us\, and can therefore be taken advantage as a tool for pivoting services online. \nDr. Allana Todman-Da Graca will be offering part 3 of her 3-part webinar that will help you understand how one can make the most out of social media for professional networking or marketing.
URL:https://innovationwomen.com/event/how-to-go-from-1-40k-as-a-newpreneur-2/
LOCATION:Online
CATEGORIES:Register For Events
ATTACH;FMTTYPE=image/jpeg:https://innovationwomen.com/wp-content/uploads/2020/04/score-logo-600px.jpg
END:VEVENT
BEGIN:VEVENT
DTSTART;TZID=America/New_York:20201202T180000
DTEND;TZID=America/New_York:20201202T203000
DTSTAMP:20260425T220141
CREATED:20201117T232709Z
LAST-MODIFIED:20201123T205548Z
UID:10933-1606932000-1606941000@innovationwomen.com
SUMMARY:Women in Film & Video New England Annual Meeting
DESCRIPTION:WIFVNE’s Annual Meeting is our most anticipated and highest attended event all year\, bringing together WIFVNE members\, industry professionals\, independent filmmakers\, storytellers\, festival directors\, gals & gear\, content creators\, crafts persons\, and talented crew and cast who support each other. WIFVNE believes film work is teamwork\, and we encourage you to be part of this year’s event. \nTo register for the event with no registration fee\, please\n• Select WIFVNE Guest\n• Use the code celebrate
URL:https://innovationwomen.com/event/women-in-film-video-new-england-annual-meeting/
LOCATION:Online
CATEGORIES:Register For Events
ATTACH;FMTTYPE=image/jpeg:https://innovationwomen.com/wp-content/uploads/2020/11/WIFVNEsquare_2020_AnnualMeeting.jpg
END:VEVENT
BEGIN:VEVENT
DTSTART;TZID=America/New_York:20201202T210000
DTEND;TZID=America/New_York:20201202T220000
DTSTAMP:20260425T220141
CREATED:20201030T210735Z
LAST-MODIFIED:20201030T210735Z
UID:10585-1606942800-1606946400@innovationwomen.com
SUMMARY:What about a book?
DESCRIPTION:So\, you’ve been rocking your talk! Congrats! You have a solid point\, did your research\, structured the takeaways\, and it’s inspiring or actionable or both. Or maybe those are goals—either way\, good for you! \nSo now what? \nIf you want your thought leadership to have more permanence\, serve as a reference to colleagues in the industry\, or help establish your brand with a broader audience\, it might be time to think about a book. \nIn a discussion with Margot Bloomstein\, author of TRUSTWORTHY (coming March 2021 from Page Two)\, we’ll talk about how to approach the proposal process\, traditional vs. hybrid publishing models\, and working with a developmental editor to polish your ideas. Bring your questions!
URL:https://innovationwomen.com/event/what-about-a-book-2/
LOCATION:Online
CATEGORIES:Register For Events
ATTACH;FMTTYPE=image/jpeg:https://innovationwomen.com/wp-content/uploads/2020/10/what-about-a-book.jpg
END:VEVENT
END:VCALENDAR