BEGIN:VCALENDAR
VERSION:2.0
PRODID:-//Innovation Women - ECPv6.15.20//NONSGML v1.0//EN
CALSCALE:GREGORIAN
METHOD:PUBLISH
X-ORIGINAL-URL:https://innovationwomen.com
X-WR-CALDESC:Events for Innovation Women
REFRESH-INTERVAL;VALUE=DURATION:PT1H
X-Robots-Tag:noindex
X-PUBLISHED-TTL:PT1H
BEGIN:VTIMEZONE
TZID:UTC
BEGIN:STANDARD
TZOFFSETFROM:+0000
TZOFFSETTO:+0000
TZNAME:UTC
DTSTART:20190101T000000
END:STANDARD
END:VTIMEZONE
BEGIN:VTIMEZONE
TZID:America/New_York
BEGIN:DAYLIGHT
TZOFFSETFROM:-0500
TZOFFSETTO:-0400
TZNAME:EDT
DTSTART:20190310T070000
END:DAYLIGHT
BEGIN:STANDARD
TZOFFSETFROM:-0400
TZOFFSETTO:-0500
TZNAME:EST
DTSTART:20191103T060000
END:STANDARD
BEGIN:DAYLIGHT
TZOFFSETFROM:-0500
TZOFFSETTO:-0400
TZNAME:EDT
DTSTART:20200308T070000
END:DAYLIGHT
BEGIN:STANDARD
TZOFFSETFROM:-0400
TZOFFSETTO:-0500
TZNAME:EST
DTSTART:20201101T060000
END:STANDARD
BEGIN:DAYLIGHT
TZOFFSETFROM:-0500
TZOFFSETTO:-0400
TZNAME:EDT
DTSTART:20210314T070000
END:DAYLIGHT
BEGIN:STANDARD
TZOFFSETFROM:-0400
TZOFFSETTO:-0500
TZNAME:EST
DTSTART:20211107T060000
END:STANDARD
END:VTIMEZONE
BEGIN:VEVENT
DTSTART;VALUE=DATE:20201207
DTEND;VALUE=DATE:20201212
DTSTAMP:20260426T011659
CREATED:20200729T221045Z
LAST-MODIFIED:20200929T212435Z
UID:9285-1607299200-1607731199@innovationwomen.com
SUMMARY:Barron’s Women Summit
DESCRIPTION:Barron’s Women Summit brings together the best minds in the wealth-management industry. It is designed to facilitate a free-flowing exchange of information\, ideas and insights from the industry’s most accomplished women advisors—in the interest of raising the standards of excellence in the wealth management profession.​​This three-day event is designed and presented by Barron’s-ranked advisors and industry leaders. It includes discussion on the challenges facing the wealth management industry\, strategies for improving outcomes\, and ideas on growing your business.
URL:https://innovationwomen.com/event/barrons-women-summit/
LOCATION:Online
CATEGORIES:Register For Events
ATTACH;FMTTYPE=image/png:https://innovationwomen.com/wp-content/uploads/2020/07/barrons-womens-summit.png
END:VEVENT
BEGIN:VEVENT
DTSTART;VALUE=DATE:20201208
DTEND;VALUE=DATE:20201211
DTSTAMP:20260426T011659
CREATED:20200102T163312Z
LAST-MODIFIED:20200929T211534Z
UID:6824-1607385600-1607644799@innovationwomen.com
SUMMARY:WINSUMMIT
DESCRIPTION:WIN\, Women In Negotiation\, is a premier female-focused negotiation skills development organization. \nThrough professional on-site training\, personal coaching\, workshops\, and an annual Global Summit\, WIN empowers women to discover new ways to harness their unique strengths\, elevate their skills\, leverage their value\, and better advocate for both themselves and their companies.
URL:https://innovationwomen.com/event/winsummit/
LOCATION:Online
CATEGORIES:Register For Events
ATTACH;FMTTYPE=image/png:https://innovationwomen.com/wp-content/uploads/2020/01/WIN_logo-01.png
END:VEVENT
BEGIN:VEVENT
DTSTART;TZID=America/New_York:20201208T093000
DTEND;TZID=America/New_York:20201208T143000
DTSTAMP:20260426T011659
CREATED:20201202T212354Z
LAST-MODIFIED:20201202T212354Z
UID:11105-1607419800-1607437800@innovationwomen.com
SUMMARY:She Leads 2020 Online
DESCRIPTION:Please join us for an action-packed few hours\, filled with incredible people\, and wonderful networking opportunities. By the end of this She Leads 2020\, you will be so freaking inspired by the incredible speakers who have accomplished amazing things by trusting themselves and using the power of their voices\, thoughts and opinions to make a significant impact on the world! \nYou will learn how they did it\, the challenges the presenters faced and continue to face\, and how you can apply their advice to your own situation. \nYou will be saying “When I leave the conference\, I will know the next steps to take to be a leader in my personal and professional life.” \nRegister today for She Leads 2020 Online – the conference that’s all about improving your leadership skills and promoting your ideas\, thoughts and opinions to change the world!
URL:https://innovationwomen.com/event/she-leads-2020-online/
LOCATION:Online
CATEGORIES:Register For Events
ATTACH;FMTTYPE=image/png:https://innovationwomen.com/wp-content/uploads/2020/12/sheleads.png
END:VEVENT
BEGIN:VEVENT
DTSTART;TZID=America/New_York:20201208T170000
DTEND;TZID=America/New_York:20201208T190000
DTSTAMP:20260426T011659
CREATED:20201027T180446Z
LAST-MODIFIED:20201027T180446Z
UID:10502-1607446800-1607454000@innovationwomen.com
SUMMARY:MIT Enterprise Forum of Cambridge Launch Clinic
DESCRIPTION:Three Digital Health startups will present their pitch for feedback from our panel of experts + the audience.\nLaunch Clinics are a great place for startups to get constructive feedback on their pitch from a board-of-directors-level panel of experts and thoughtful audience members. The focus on early-stage ventures encourages a sympathetic and supportive atmosphere. Audience and panel feedback often helps presenters understand their problems and offers useful tips and solutions. \nEven if you’re not quite ready to present\, we encourage entrepreneurs to attend the clinics to see what our panel of experts (investors and others) are looking for in a pitch\, what kind of questions they ask\, and their suggestions for refining the business plan.
URL:https://innovationwomen.com/event/mit-enterprise-forum-of-cambridge-launch-clinic/
LOCATION:Online
CATEGORIES:Register For Events
ATTACH;FMTTYPE=image/png:https://innovationwomen.com/wp-content/uploads/2020/10/mit-enterprise.png
END:VEVENT
END:VCALENDAR