BEGIN:VCALENDAR
VERSION:2.0
PRODID:-//Innovation Women - ECPv6.15.20//NONSGML v1.0//EN
CALSCALE:GREGORIAN
METHOD:PUBLISH
X-ORIGINAL-URL:https://innovationwomen.com
X-WR-CALDESC:Events for Innovation Women
REFRESH-INTERVAL;VALUE=DURATION:PT1H
X-Robots-Tag:noindex
X-PUBLISHED-TTL:PT1H
BEGIN:VTIMEZONE
TZID:America/New_York
BEGIN:DAYLIGHT
TZOFFSETFROM:-0500
TZOFFSETTO:-0400
TZNAME:EDT
DTSTART:20200308T070000
END:DAYLIGHT
BEGIN:STANDARD
TZOFFSETFROM:-0400
TZOFFSETTO:-0500
TZNAME:EST
DTSTART:20201101T060000
END:STANDARD
BEGIN:DAYLIGHT
TZOFFSETFROM:-0500
TZOFFSETTO:-0400
TZNAME:EDT
DTSTART:20210314T070000
END:DAYLIGHT
BEGIN:STANDARD
TZOFFSETFROM:-0400
TZOFFSETTO:-0500
TZNAME:EST
DTSTART:20211107T060000
END:STANDARD
BEGIN:DAYLIGHT
TZOFFSETFROM:-0500
TZOFFSETTO:-0400
TZNAME:EDT
DTSTART:20220313T070000
END:DAYLIGHT
BEGIN:STANDARD
TZOFFSETFROM:-0400
TZOFFSETTO:-0500
TZNAME:EST
DTSTART:20221106T060000
END:STANDARD
END:VTIMEZONE
BEGIN:VEVENT
DTSTART;TZID=America/New_York:20210731T093000
DTEND;TZID=America/New_York:20210731T173000
DTSTAMP:20260423T152644
CREATED:20201028T214607Z
LAST-MODIFIED:20201028T214607Z
UID:10534-1627723800-1627752600@innovationwomen.com
SUMMARY:Women Empower X
DESCRIPTION:WEX was founded on the values of collaboration over competition. Each of our events attracts thousands of diverse women from around the world\, with the purpose of helping one another get to the next level in their personal and professional life.\nAt WEX you’ll be able to learn from industry experts\, network with entrepreneurs and change-makers\, discover tools to grow your business\, and feel empowered to create a positive change.
URL:https://innovationwomen.com/event/women-empower-x/
LOCATION:Walter E. Washington Convention Center\, 801 Mount Vernon Place Northwest\, Washington\, DC\, United States
CATEGORIES:Register For Events
ATTACH;FMTTYPE=image/png:https://innovationwomen.com/wp-content/uploads/2020/10/women-empower-x.png
END:VEVENT
END:VCALENDAR