BEGIN:VCALENDAR
VERSION:2.0
PRODID:-//Innovation Women - ECPv6.15.20//NONSGML v1.0//EN
CALSCALE:GREGORIAN
METHOD:PUBLISH
X-ORIGINAL-URL:https://innovationwomen.com
X-WR-CALDESC:Events for Innovation Women
REFRESH-INTERVAL;VALUE=DURATION:PT1H
X-Robots-Tag:noindex
X-PUBLISHED-TTL:PT1H
BEGIN:VTIMEZONE
TZID:UTC
BEGIN:STANDARD
TZOFFSETFROM:+0000
TZOFFSETTO:+0000
TZNAME:UTC
DTSTART:20210101T000000
END:STANDARD
END:VTIMEZONE
BEGIN:VTIMEZONE
TZID:America/Chicago
BEGIN:DAYLIGHT
TZOFFSETFROM:-0600
TZOFFSETTO:-0500
TZNAME:CDT
DTSTART:20210314T080000
END:DAYLIGHT
BEGIN:STANDARD
TZOFFSETFROM:-0500
TZOFFSETTO:-0600
TZNAME:CST
DTSTART:20211107T070000
END:STANDARD
BEGIN:DAYLIGHT
TZOFFSETFROM:-0600
TZOFFSETTO:-0500
TZNAME:CDT
DTSTART:20220313T080000
END:DAYLIGHT
BEGIN:STANDARD
TZOFFSETFROM:-0500
TZOFFSETTO:-0600
TZNAME:CST
DTSTART:20221106T070000
END:STANDARD
BEGIN:DAYLIGHT
TZOFFSETFROM:-0600
TZOFFSETTO:-0500
TZNAME:CDT
DTSTART:20230312T080000
END:DAYLIGHT
BEGIN:STANDARD
TZOFFSETFROM:-0500
TZOFFSETTO:-0600
TZNAME:CST
DTSTART:20231105T070000
END:STANDARD
END:VTIMEZONE
BEGIN:VTIMEZONE
TZID:America/New_York
BEGIN:DAYLIGHT
TZOFFSETFROM:-0500
TZOFFSETTO:-0400
TZNAME:EDT
DTSTART:20210314T070000
END:DAYLIGHT
BEGIN:STANDARD
TZOFFSETFROM:-0400
TZOFFSETTO:-0500
TZNAME:EST
DTSTART:20211107T060000
END:STANDARD
BEGIN:DAYLIGHT
TZOFFSETFROM:-0500
TZOFFSETTO:-0400
TZNAME:EDT
DTSTART:20220313T070000
END:DAYLIGHT
BEGIN:STANDARD
TZOFFSETFROM:-0400
TZOFFSETTO:-0500
TZNAME:EST
DTSTART:20221106T060000
END:STANDARD
BEGIN:DAYLIGHT
TZOFFSETFROM:-0500
TZOFFSETTO:-0400
TZNAME:EDT
DTSTART:20230312T070000
END:DAYLIGHT
BEGIN:STANDARD
TZOFFSETFROM:-0400
TZOFFSETTO:-0500
TZNAME:EST
DTSTART:20231105T060000
END:STANDARD
END:VTIMEZONE
BEGIN:VEVENT
DTSTART;VALUE=DATE:20221016
DTEND;VALUE=DATE:20221020
DTSTAMP:20260423T153013
CREATED:20220917T192316Z
LAST-MODIFIED:20220917T192316Z
UID:20865-1665878400-1666223999@innovationwomen.com
SUMMARY:ARMA Infocon 2022
DESCRIPTION:ARMA International’s InfoCon 2022 is the premiere educational event for records management\, information management\, and information governance professionals to learn and share industry best practices. At InfoCon you will have access to top-notch education\, industry titans from around the globe\, certification CEUs\, and unparalleled networking opportunities.
URL:https://innovationwomen.com/event/arma-infocon-2022/
LOCATION:Gaylord Opryland Resort & Convention Center\, 2800 Opryland Dr\, Nashville\, TN\, United States
CATEGORIES:Register For Events
ATTACH;FMTTYPE=image/png:https://innovationwomen.com/wp-content/uploads/2022/09/InfoCon-Website-Banner-Hero1920x500-with-InfoCon-logo.png
END:VEVENT
BEGIN:VEVENT
DTSTART;VALUE=DATE:20221018
DTEND;VALUE=DATE:20221021
DTSTAMP:20260423T153013
CREATED:20220914T003159Z
LAST-MODIFIED:20220914T003159Z
UID:20776-1666051200-1666310399@innovationwomen.com
SUMMARY:Six-Figure  Systems Summit
DESCRIPTION:Working hard and still struggling to gain traction in your business? Always playing catch up and never really getting ahead? Is your to-do list never ending and it seems as if you can’t come up for air? \n  \nYou’re not alone\, friend!
URL:https://innovationwomen.com/event/six-figure-systems-summit/
LOCATION:Online
CATEGORIES:Register For Events
ATTACH;FMTTYPE=image/jpeg:https://innovationwomen.com/wp-content/uploads/2022/09/six-figure.jpg
END:VEVENT
BEGIN:VEVENT
DTSTART;VALUE=DATE:20221018
DTEND;VALUE=DATE:20221023
DTSTAMP:20260423T153013
CREATED:20220831T000307Z
LAST-MODIFIED:20220831T000307Z
UID:20479-1666051200-1666483199@innovationwomen.com
SUMMARY:Engaging Virtual Meetings Conference 3.0
DESCRIPTION:Do your virtual meetings suck? \nDo you want to beat Zoom Fatigue? \nDo you want to host the most engaging virtual meetings? \nIt’s years after the pandemic started and our research shows that ENGAGEMENT is still the #1 problem on virtual meetings. \nThen you need the Engaging Virtual Meetings Conference 3.0\, The New Norm! \nYou’ll get over 20-hours of Engaging Virtual Meetings Training from 9 of the top virtual speakers in the world. We’ll show you that The New Norm is high engagement\, high flex\, high productivity\, all with no travel and expense with work/life balance.
URL:https://innovationwomen.com/event/engaging-virtual-meetings-conference-3-0/
LOCATION:Online
CATEGORIES:Register For Events
ATTACH;FMTTYPE=image/jpeg:https://innovationwomen.com/wp-content/uploads/2022/08/Engaging-Virtual-Meetings.jpg
END:VEVENT
BEGIN:VEVENT
DTSTART;VALUE=DATE:20221019
DTEND;VALUE=DATE:20221023
DTSTAMP:20260423T153013
CREATED:20221018T213110Z
LAST-MODIFIED:20221018T213110Z
UID:21417-1666137600-1666483199@innovationwomen.com
SUMMARY:NightSeeing™ Walk
DESCRIPTION:The Myrtle Beach Downtown Alliance (MBDA) is excited to host urban lighting designer Leni Schwendinger who is an urban lighting designer with expertise illuminating architectural and public spaces around the world\, Leni lectures and teaches widely throughout the US\, Europe and Japan. Her work focuses on helping communities better understand “the city at night.”
URL:https://innovationwomen.com/event/nightseeing-walk/
LOCATION:HTC Aspire Hub\, 509 9th Avenue North\, Myrtle Beach\, SC\, United States
CATEGORIES:Register For Events
ATTACH;FMTTYPE=image/jpeg:https://innovationwomen.com/wp-content/uploads/2022/10/myrtle-beach.jpg
END:VEVENT
BEGIN:VEVENT
DTSTART;TZID=America/Chicago:20221019T120000
DTEND;TZID=America/Chicago:20221019T130000
DTSTAMP:20260423T153013
CREATED:20221012T211123Z
LAST-MODIFIED:20221012T211123Z
UID:21310-1666180800-1666184400@innovationwomen.com
SUMMARY:DWEN Empower Hour
DESCRIPTION:We know as entrepreneurs time is your most precious resource and the time you spend at networking events is essential for professional and personal development. They offer a bounty of resources\, connections\, and opportunities to take your business to the next level. In this LIVE session you will discover how to: \nGet the most value from virtual and in-person networking events\nPrepare for a live or virtual networking event\nApproach and develop relationships with new connections\nFollow-up and follow-through
URL:https://innovationwomen.com/event/dwen-empower-hour/
LOCATION:Online
CATEGORIES:Register For Events
ATTACH;FMTTYPE=image/png:https://innovationwomen.com/wp-content/uploads/2022/10/Empower-HourWiseHer-1.png
END:VEVENT
BEGIN:VEVENT
DTSTART;TZID=America/New_York:20221019T173000
DTEND;TZID=America/New_York:20221019T193000
DTSTAMP:20260423T153013
CREATED:20221018T135952Z
LAST-MODIFIED:20221018T135952Z
UID:21397-1666200600-1666207800@innovationwomen.com
SUMMARY:Building Your CareerCapital: Use your career to live the life you want
DESCRIPTION:If you are… \nRe-evaluating your career\nPreparing to re-enter the work place\nGrowing your career\nWanting more control over your life\nExperiencing burnout\nStuck or unsure about the next step in your life\n…then this workshop is for you
URL:https://innovationwomen.com/event/building-your-careercapital-use-your-career-to-live-the-life-you-want/
LOCATION:Webster Bank\, 100 Franklin Street\, Boston\, MA\, United States
CATEGORIES:Register For Events
ATTACH;FMTTYPE=image/jpeg:https://innovationwomen.com/wp-content/uploads/2022/10/build-career-capital.jpg
END:VEVENT
END:VCALENDAR