BEGIN:VCALENDAR
VERSION:2.0
PRODID:-//Innovation Women - ECPv6.15.20//NONSGML v1.0//EN
CALSCALE:GREGORIAN
METHOD:PUBLISH
X-WR-CALNAME:Innovation Women
X-ORIGINAL-URL:https://innovationwomen.com
X-WR-CALDESC:Events for Innovation Women
REFRESH-INTERVAL;VALUE=DURATION:PT1H
X-Robots-Tag:noindex
X-PUBLISHED-TTL:PT1H
BEGIN:VTIMEZONE
TZID:America/New_York
BEGIN:DAYLIGHT
TZOFFSETFROM:-0500
TZOFFSETTO:-0400
TZNAME:EDT
DTSTART:20230312T070000
END:DAYLIGHT
BEGIN:STANDARD
TZOFFSETFROM:-0400
TZOFFSETTO:-0500
TZNAME:EST
DTSTART:20231105T060000
END:STANDARD
BEGIN:DAYLIGHT
TZOFFSETFROM:-0500
TZOFFSETTO:-0400
TZNAME:EDT
DTSTART:20240310T070000
END:DAYLIGHT
BEGIN:STANDARD
TZOFFSETFROM:-0400
TZOFFSETTO:-0500
TZNAME:EST
DTSTART:20241103T060000
END:STANDARD
BEGIN:DAYLIGHT
TZOFFSETFROM:-0500
TZOFFSETTO:-0400
TZNAME:EDT
DTSTART:20250309T070000
END:DAYLIGHT
BEGIN:STANDARD
TZOFFSETFROM:-0400
TZOFFSETTO:-0500
TZNAME:EST
DTSTART:20251102T060000
END:STANDARD
END:VTIMEZONE
BEGIN:VEVENT
DTSTART;TZID=America/New_York:20241101T084500
DTEND;TZID=America/New_York:20241101T100000
DTSTAMP:20260425T153840
CREATED:20240618T171846Z
LAST-MODIFIED:20240618T171846Z
UID:35161-1730450700-1730455200@innovationwomen.com
SUMMARY:Speaker Friend Friday
DESCRIPTION:Join us every week for Speaker Friend Friday on Zoom. We host discussions with speakers\, authors\, event managers\, business owners\, podcasters and others in the IW community.  Starting at 8:45 am ET\, we do as many quick introductions as we can and then jump into discussion at 9:00 am. We prioritize engaging questions and advice over self-promotions\, then move into breakout rooms for smaller group conversations from 9:45 to 10:00 am. Sign up for our newsletter to get the link! ✉️ 
URL:https://innovationwomen.com/event/speaker-friend-friday-38/
ATTACH;FMTTYPE=image/png:https://innovationwomen.com/wp-content/uploads/2024/02/SFF-logo.png
ORGANIZER;CN="Innovation Women":MAILTO:info@innovationwomen.com
END:VEVENT
BEGIN:VEVENT
DTSTART;TZID=America/New_York:20241101T110000
DTEND;TZID=America/New_York:20241101T120000
DTSTAMP:20260425T153840
CREATED:20240618T180247Z
LAST-MODIFIED:20240618T180247Z
UID:35176-1730458800-1730462400@innovationwomen.com
SUMMARY:Knowledge Session
DESCRIPTION:Our regular Knowledge Sessions are the perfect time for our members to pick an expert’s brain! Our sessions cover Profile Reviews\, Concept Clinics and Ask Me Anything segments. Come with a filled-out profile\, a concept that needs refining or any other question! These sessions are a first-come\, first-serve basis. \nIs your speaker biography too long? Do you know how to show off your storytelling skills? Are your talk abstracts too vague? Our staff will offer tips to make your speaker profile stand out to event managers. \nAsk questions about your brand\, signature talk\, book title and more! We will give you our expert advice on how to optimize any of your concepts. Connect with other attending members and have them weigh in\, too. A community of knowledgeable speakers is one of Innovation Women’s greatest strengths. \n🚨 IW Speaker Membership Exclusive  
URL:https://innovationwomen.com/event/knowledge-session-9/
ORGANIZER;CN="Innovation Women":MAILTO:info@innovationwomen.com
END:VEVENT
BEGIN:VEVENT
DTSTART;TZID=America/New_York:20241101T120000
DTEND;TZID=America/New_York:20241101T130000
DTSTAMP:20260425T153840
CREATED:20240618T170024Z
LAST-MODIFIED:20240618T170024Z
UID:35148-1730462400-1730466000@innovationwomen.com
SUMMARY:Speaker Friend Friday - West Coast Friendly
DESCRIPTION:Join us on the first and third Friday of every month for West Coast Speaker Friend Fridays on Zoom. We host discussions with speakers\, authors\, event managers\, business owners\, podcasters and others in the IW community. No need to be on the West Coast – all are welcome!  Starting at noon ET\, we do as many quick introductions as we can and then promptly jump into discussion. We prioritize engaging questions and advice over self-promotions\, then move into Breakout Rooms for smaller group conversations. Sign up for our newsletter to get the link! ✉️ 
URL:https://innovationwomen.com/event/speaker-friend-friday-west-coast-friendly-8/
ATTACH;FMTTYPE=image/png:https://innovationwomen.com/wp-content/uploads/2024/02/Untitled-design-6.png
ORGANIZER;CN="Innovation Women":MAILTO:info@innovationwomen.com
END:VEVENT
END:VCALENDAR