BEGIN:VCALENDAR
VERSION:2.0
PRODID:-//Innovation Women - ECPv6.15.20//NONSGML v1.0//EN
CALSCALE:GREGORIAN
METHOD:PUBLISH
X-WR-CALNAME:Innovation Women
X-ORIGINAL-URL:https://innovationwomen.com
X-WR-CALDESC:Events for Innovation Women
REFRESH-INTERVAL;VALUE=DURATION:PT1H
X-Robots-Tag:noindex
X-PUBLISHED-TTL:PT1H
BEGIN:VTIMEZONE
TZID:UTC
BEGIN:STANDARD
TZOFFSETFROM:+0000
TZOFFSETTO:+0000
TZNAME:UTC
DTSTART:20240101T000000
END:STANDARD
END:VTIMEZONE
BEGIN:VTIMEZONE
TZID:America/New_York
BEGIN:DAYLIGHT
TZOFFSETFROM:-0500
TZOFFSETTO:-0400
TZNAME:EDT
DTSTART:20240310T070000
END:DAYLIGHT
BEGIN:STANDARD
TZOFFSETFROM:-0400
TZOFFSETTO:-0500
TZNAME:EST
DTSTART:20241103T060000
END:STANDARD
BEGIN:DAYLIGHT
TZOFFSETFROM:-0500
TZOFFSETTO:-0400
TZNAME:EDT
DTSTART:20250309T070000
END:DAYLIGHT
BEGIN:STANDARD
TZOFFSETFROM:-0400
TZOFFSETTO:-0500
TZNAME:EST
DTSTART:20251102T060000
END:STANDARD
BEGIN:DAYLIGHT
TZOFFSETFROM:-0500
TZOFFSETTO:-0400
TZNAME:EDT
DTSTART:20260308T070000
END:DAYLIGHT
BEGIN:STANDARD
TZOFFSETFROM:-0400
TZOFFSETTO:-0500
TZNAME:EST
DTSTART:20261101T060000
END:STANDARD
END:VTIMEZONE
BEGIN:VEVENT
DTSTART;VALUE=DATE:20250103
DTEND;VALUE=DATE:20250112
DTSTAMP:20260422T224309
CREATED:20241125T220815Z
LAST-MODIFIED:20241125T220815Z
UID:36508-1735862400-1736639999@innovationwomen.com
SUMMARY:Queen Mary 2 Lectures
DESCRIPTION:Start 2025 in unparalleled style with a transatlantic crossing on the Queen Mary 2. Savor uninterrupted sea days where time is yours to spend as you please\, before disembarking your ship on Southampton. \nCarol Ann Lloyd will be presenting “Leadership\, Shakespeare\, and History”.
URL:https://innovationwomen.com/event/queen-mary-2-lectures/
LOCATION:Queen Mary II
CATEGORIES:Register For Events
ATTACH;FMTTYPE=image/png:https://innovationwomen.com/wp-content/uploads/2024/11/cunard.png
END:VEVENT
BEGIN:VEVENT
DTSTART;TZID=America/New_York:20250110T084500
DTEND;TZID=America/New_York:20250110T100000
DTSTAMP:20260422T224309
CREATED:20241224T161032Z
LAST-MODIFIED:20241224T161032Z
UID:36692-1736498700-1736503200@innovationwomen.com
SUMMARY:Speaker Friend Friday
DESCRIPTION:Join us every week for Speaker Friend Friday on Zoom. We host discussions with speakers\, authors\, event managers\, business owners\, podcasters and others in the IW community.  Starting at 8:45 am ET\, we do as many quick introductions as we can and then jump into discussion at 9:00 am. We prioritize engaging questions and advice over self-promotions\, then move into breakout rooms for smaller group conversations from 9:45 to 10:00 am. Sign up for our newsletter to get the link! ✉️ 
URL:https://innovationwomen.com/event/speaker-friend-friday-47/
ATTACH;FMTTYPE=image/png:https://innovationwomen.com/wp-content/uploads/2024/02/SFF-logo.png
ORGANIZER;CN="Innovation Women":MAILTO:info@innovationwomen.com
END:VEVENT
BEGIN:VEVENT
DTSTART;TZID=America/New_York:20250110T110000
DTEND;TZID=America/New_York:20250110T120000
DTSTAMP:20260422T224309
CREATED:20240618T181240Z
LAST-MODIFIED:20240618T181240Z
UID:35181-1736506800-1736510400@innovationwomen.com
SUMMARY:Knowledge Session
DESCRIPTION:Our regular Knowledge Sessions are the perfect time for our members to pick an expert’s brain! Our sessions cover Profile Reviews\, Concept Clinics and Ask Me Anything segments. Come with a filled-out profile\, a concept that needs refining or any other question! These sessions are a first-come\, first-serve basis. \nIs your speaker biography too long? Do you know how to show off your storytelling skills? Are your talk abstracts too vague? Our staff will offer tips to make your speaker profile stand out to event managers. \nAsk questions about your brand\, signature talk\, book title and more! We will give you our expert advice on how to optimize any of your concepts. Connect with other attending members and have them weigh in\, too. A community of knowledgeable speakers is one of Innovation Women’s greatest strengths. \n🚨 IW Speaker Membership Exclusive  
URL:https://innovationwomen.com/event/knowledge-session-14/
ORGANIZER;CN="Innovation Women":MAILTO:info@innovationwomen.com
END:VEVENT
END:VCALENDAR