BEGIN:VCALENDAR
VERSION:2.0
PRODID:-//Innovation Women - ECPv6.15.20//NONSGML v1.0//EN
CALSCALE:GREGORIAN
METHOD:PUBLISH
X-WR-CALNAME:Innovation Women
X-ORIGINAL-URL:https://innovationwomen.com
X-WR-CALDESC:Events for Innovation Women
REFRESH-INTERVAL;VALUE=DURATION:PT1H
X-Robots-Tag:noindex
X-PUBLISHED-TTL:PT1H
BEGIN:VTIMEZONE
TZID:UTC
BEGIN:STANDARD
TZOFFSETFROM:+0000
TZOFFSETTO:+0000
TZNAME:UTC
DTSTART:20250101T000000
END:STANDARD
END:VTIMEZONE
BEGIN:VTIMEZONE
TZID:America/New_York
BEGIN:DAYLIGHT
TZOFFSETFROM:-0500
TZOFFSETTO:-0400
TZNAME:EDT
DTSTART:20250309T070000
END:DAYLIGHT
BEGIN:STANDARD
TZOFFSETFROM:-0400
TZOFFSETTO:-0500
TZNAME:EST
DTSTART:20251102T060000
END:STANDARD
BEGIN:DAYLIGHT
TZOFFSETFROM:-0500
TZOFFSETTO:-0400
TZNAME:EDT
DTSTART:20260308T070000
END:DAYLIGHT
BEGIN:STANDARD
TZOFFSETFROM:-0400
TZOFFSETTO:-0500
TZNAME:EST
DTSTART:20261101T060000
END:STANDARD
BEGIN:DAYLIGHT
TZOFFSETFROM:-0500
TZOFFSETTO:-0400
TZNAME:EDT
DTSTART:20270314T070000
END:DAYLIGHT
BEGIN:STANDARD
TZOFFSETFROM:-0400
TZOFFSETTO:-0500
TZNAME:EST
DTSTART:20271107T060000
END:STANDARD
END:VTIMEZONE
BEGIN:VEVENT
DTSTART;VALUE=DATE:20260120
DTEND;VALUE=DATE:20260126
DTSTAMP:20260425T153845
CREATED:20260105T184957Z
LAST-MODIFIED:20260105T184957Z
UID:42794-1768867200-1769385599@innovationwomen.com
SUMMARY:Nervous System Reboot
DESCRIPTION:Unlike most online summits or conferences that offer passive content\, Nervous System Reboot is a fully immersive and interactive journey designed for real integration\, embodiment\, and transformational results. \nDr Ashley Smith will be co-hosting this event.
URL:https://innovationwomen.com/event/nervous-system-reboot/
LOCATION:Online
CATEGORIES:Register For Events
ATTACH;FMTTYPE=image/png:https://innovationwomen.com/wp-content/uploads/2026/01/heart-mind.png
END:VEVENT
BEGIN:VEVENT
DTSTART;TZID=America/New_York:20260123T084500
DTEND;TZID=America/New_York:20260123T100000
DTSTAMP:20260425T153845
CREATED:20251229T193850Z
LAST-MODIFIED:20251229T193850Z
UID:42363-1769157900-1769162400@innovationwomen.com
SUMMARY:Speaker Friend Friday
DESCRIPTION:Join us every Friday at 8:45 am ET for Speaker Friends Friday on Zoom. We have discussions with speakers\, authors\, event managers\, business owners\, podcasters and other professionals. All are welcome!
URL:https://innovationwomen.com/event/speaker-friend-friday-78/
ATTACH;FMTTYPE=image/png:https://innovationwomen.com/wp-content/uploads/2024/02/SFF-logo.png
ORGANIZER;CN="Innovation Women":MAILTO:info@innovationwomen.com
END:VEVENT
BEGIN:VEVENT
DTSTART;TZID=America/New_York:20260123T140000
DTEND;TZID=America/New_York:20260123T150000
DTSTAMP:20260425T153845
CREATED:20260114T214249Z
LAST-MODIFIED:20260114T214249Z
UID:43100-1769176800-1769180400@innovationwomen.com
SUMMARY:LevelUp Leadership Group Coaching Program
DESCRIPTION:The world needs your leadership more than ever. You have so much to offer. You can inspire\, influence\, make a bigger impact\, live a bigger life\, and lead high-performing teams. Your voice can be amplified through intentional leverage of frameworks\, tools\, processes\, and systems. Together\, we will master the mindsets\, strategies\, and execution to become the leaders worth following. \nHope Yin will be presenting “LevelUp Leadership”
URL:https://innovationwomen.com/event/levelup-leadership-group-coaching-program/
LOCATION:Online
CATEGORIES:Register For Events
ATTACH;FMTTYPE=image/webp:https://innovationwomen.com/wp-content/uploads/2026/01/blueprint-coaching.webp
END:VEVENT
END:VCALENDAR