BEGIN:VCALENDAR
VERSION:2.0
PRODID:-//Innovation Women - ECPv6.15.20//NONSGML v1.0//EN
CALSCALE:GREGORIAN
METHOD:PUBLISH
X-ORIGINAL-URL:https://innovationwomen.com
X-WR-CALDESC:Events for Innovation Women
REFRESH-INTERVAL;VALUE=DURATION:PT1H
X-Robots-Tag:noindex
X-PUBLISHED-TTL:PT1H
BEGIN:VTIMEZONE
TZID:America/New_York
BEGIN:DAYLIGHT
TZOFFSETFROM:-0500
TZOFFSETTO:-0400
TZNAME:EDT
DTSTART:20250309T070000
END:DAYLIGHT
BEGIN:STANDARD
TZOFFSETFROM:-0400
TZOFFSETTO:-0500
TZNAME:EST
DTSTART:20251102T060000
END:STANDARD
BEGIN:DAYLIGHT
TZOFFSETFROM:-0500
TZOFFSETTO:-0400
TZNAME:EDT
DTSTART:20260308T070000
END:DAYLIGHT
BEGIN:STANDARD
TZOFFSETFROM:-0400
TZOFFSETTO:-0500
TZNAME:EST
DTSTART:20261101T060000
END:STANDARD
BEGIN:DAYLIGHT
TZOFFSETFROM:-0500
TZOFFSETTO:-0400
TZNAME:EDT
DTSTART:20270314T070000
END:DAYLIGHT
BEGIN:STANDARD
TZOFFSETFROM:-0400
TZOFFSETTO:-0500
TZNAME:EST
DTSTART:20271107T060000
END:STANDARD
END:VTIMEZONE
BEGIN:VEVENT
DTSTART;TZID=America/New_York:20260128T190000
DTEND;TZID=America/New_York:20260128T203000
DTSTAMP:20260426T001159
CREATED:20260107T220739Z
LAST-MODIFIED:20260107T220739Z
UID:42985-1769626800-1769632200@innovationwomen.com
SUMMARY:Jumpstart Your Career in 2026: Proven Networking Tips Enhanced with AI
DESCRIPTION:The Medical Development Group was established in 2001 as a 501(c)(6) not-for-profit by four professionals in the medical device industry who sought to create a network of contacts and specialized resources for more effectively advancing their medical device projects. \nLisa Sasso will be presenting “Jumpstart Your Career in 2026: Proven Networking Tips Enhanced with AI”.
URL:https://innovationwomen.com/event/jumpstart-your-career-in-2026-proven-networking-tips-enhanced-with-ai/
LOCATION:Online
CATEGORIES:Register For Events
ATTACH;FMTTYPE=image/webp:https://innovationwomen.com/wp-content/uploads/2026/01/2026-1-28-Graphic.webp
END:VEVENT
END:VCALENDAR