BEGIN:VCALENDAR
VERSION:2.0
PRODID:-//Innovation Women - ECPv6.15.20//NONSGML v1.0//EN
CALSCALE:GREGORIAN
METHOD:PUBLISH
X-WR-CALNAME:Innovation Women
X-ORIGINAL-URL:https://innovationwomen.com
X-WR-CALDESC:Events for Innovation Women
REFRESH-INTERVAL;VALUE=DURATION:PT1H
X-Robots-Tag:noindex
X-PUBLISHED-TTL:PT1H
BEGIN:VTIMEZONE
TZID:America/New_York
BEGIN:DAYLIGHT
TZOFFSETFROM:-0500
TZOFFSETTO:-0400
TZNAME:EDT
DTSTART:20250309T070000
END:DAYLIGHT
BEGIN:STANDARD
TZOFFSETFROM:-0400
TZOFFSETTO:-0500
TZNAME:EST
DTSTART:20251102T060000
END:STANDARD
BEGIN:DAYLIGHT
TZOFFSETFROM:-0500
TZOFFSETTO:-0400
TZNAME:EDT
DTSTART:20260308T070000
END:DAYLIGHT
BEGIN:STANDARD
TZOFFSETFROM:-0400
TZOFFSETTO:-0500
TZNAME:EST
DTSTART:20261101T060000
END:STANDARD
BEGIN:DAYLIGHT
TZOFFSETFROM:-0500
TZOFFSETTO:-0400
TZNAME:EDT
DTSTART:20270314T070000
END:DAYLIGHT
BEGIN:STANDARD
TZOFFSETFROM:-0400
TZOFFSETTO:-0500
TZNAME:EST
DTSTART:20271107T060000
END:STANDARD
END:VTIMEZONE
BEGIN:VEVENT
DTSTART;TZID=America/New_York:20260206T084500
DTEND;TZID=America/New_York:20260206T100000
DTSTAMP:20260421T184812
CREATED:20260205T151718Z
LAST-MODIFIED:20260205T151718Z
UID:43286-1770367500-1770372000@innovationwomen.com
SUMMARY:Speaker Friend Friday
DESCRIPTION:Join us every Friday at 8:45 am ET for Speaker Friends Friday on Zoom. We have discussions with speakers\, authors\, event managers\, business owners\, podcasters and other professionals. All are welcome!
URL:https://innovationwomen.com/event/speaker-friend-friday-80/
CATEGORIES:Register For Events
ATTACH;FMTTYPE=image/png:https://innovationwomen.com/wp-content/uploads/2024/02/SFF-logo.png
ORGANIZER;CN="Innovation Women":MAILTO:info@innovationwomen.com
END:VEVENT
BEGIN:VEVENT
DTSTART;TZID=America/New_York:20260206T120000
DTEND;TZID=America/New_York:20260206T130000
DTSTAMP:20260421T184812
CREATED:20260205T151915Z
LAST-MODIFIED:20260205T152313Z
UID:43287-1770379200-1770382800@innovationwomen.com
SUMMARY:Speaker Friend Friday - West Coast Friendly (First Friday of Each Month)
DESCRIPTION:Join us on the first and third Friday of every month for West Coast Speaker Friend Fridays on Zoom. We host discussions with speakers\, authors\, event managers\, business owners\, podcasters and others in the IW community. No need to be on the West Coast – all are welcome!  Starting at noon ET\, we do as many quick introductions as we can and then promptly jump into discussion. We prioritize engaging questions and advice over self-promotions\, then move into Breakout Rooms for smaller group conversations. Sign up for our newsletter to get the link! ✉️ 
URL:https://innovationwomen.com/event/speaker-friend-friday-west-coast-friendly-first-friday-of-each-month-6/
CATEGORIES:Register For Events
ATTACH;FMTTYPE=image/png:https://innovationwomen.com/wp-content/uploads/2024/02/Untitled-design-6.png
ORGANIZER;CN="Innovation Women":MAILTO:info@innovationwomen.com
END:VEVENT
END:VCALENDAR