BEGIN:VCALENDAR
VERSION:2.0
PRODID:-//Innovation Women - ECPv6.15.20//NONSGML v1.0//EN
CALSCALE:GREGORIAN
METHOD:PUBLISH
X-ORIGINAL-URL:https://innovationwomen.com
X-WR-CALDESC:Events for Innovation Women
REFRESH-INTERVAL;VALUE=DURATION:PT1H
X-Robots-Tag:noindex
X-PUBLISHED-TTL:PT1H
BEGIN:VTIMEZONE
TZID:UTC
BEGIN:STANDARD
TZOFFSETFROM:+0000
TZOFFSETTO:+0000
TZNAME:UTC
DTSTART:20250101T000000
END:STANDARD
END:VTIMEZONE
BEGIN:VTIMEZONE
TZID:America/New_York
BEGIN:DAYLIGHT
TZOFFSETFROM:-0500
TZOFFSETTO:-0400
TZNAME:EDT
DTSTART:20250309T070000
END:DAYLIGHT
BEGIN:STANDARD
TZOFFSETFROM:-0400
TZOFFSETTO:-0500
TZNAME:EST
DTSTART:20251102T060000
END:STANDARD
BEGIN:DAYLIGHT
TZOFFSETFROM:-0500
TZOFFSETTO:-0400
TZNAME:EDT
DTSTART:20260308T070000
END:DAYLIGHT
BEGIN:STANDARD
TZOFFSETFROM:-0400
TZOFFSETTO:-0500
TZNAME:EST
DTSTART:20261101T060000
END:STANDARD
BEGIN:DAYLIGHT
TZOFFSETFROM:-0500
TZOFFSETTO:-0400
TZNAME:EDT
DTSTART:20270314T070000
END:DAYLIGHT
BEGIN:STANDARD
TZOFFSETFROM:-0400
TZOFFSETTO:-0500
TZNAME:EST
DTSTART:20271107T060000
END:STANDARD
END:VTIMEZONE
BEGIN:VEVENT
DTSTART;VALUE=DATE:20260430
DTEND;VALUE=DATE:20260502
DTSTAMP:20260425T120132
CREATED:20260422T211110Z
LAST-MODIFIED:20260422T211110Z
UID:43805-1777507200-1777679999@innovationwomen.com
SUMMARY:She Shifts Summit
DESCRIPTION:What if one shift could change everything in your business and life? This two-day event is designed to move you — from stuck to certain\, from stretched to strategic. \nKim Groshek will be presenting “The Decision That Changes Everything”.
URL:https://innovationwomen.com/event/she-shifts-summit/
LOCATION:Online
CATEGORIES:Register For Events
ATTACH;FMTTYPE=image/jpeg:https://innovationwomen.com/wp-content/uploads/2026/04/Kim_Groshek-1.jpg
END:VEVENT
BEGIN:VEVENT
DTSTART;VALUE=DATE:20260501
DTEND;VALUE=DATE:20260502
DTSTAMP:20260425T120132
CREATED:20260128T224150Z
LAST-MODIFIED:20260128T224150Z
UID:43232-1777593600-1777679999@innovationwomen.com
SUMMARY:Monument Women Creative Alliance
DESCRIPTION:Rachel and Hazel founded MWCA in 2018 to create a welcoming space where female creatives can connect\, inspire and support one another. As creatives themselves\, they wished we had a community that was made just for us. They had this dream of bringing women creatives in Baltimore together to exchange ideas\, collaborate and connect. \nKelly Lippenholz will be presenting “3 Steps to Resilience: Navigating Difficult People”.
URL:https://innovationwomen.com/event/monument-women-creative-alliance/
LOCATION:Online
CATEGORIES:Register For Events
ATTACH;FMTTYPE=image/jpeg:https://innovationwomen.com/wp-content/uploads/2026/01/How_to_Get_Along_with_Everyone.jpg
END:VEVENT
BEGIN:VEVENT
DTSTART;TZID=America/New_York:20260501T084500
DTEND;TZID=America/New_York:20260501T100000
DTSTAMP:20260425T120132
CREATED:20260409T124609Z
LAST-MODIFIED:20260409T124609Z
UID:43700-1777625100-1777629600@innovationwomen.com
SUMMARY:Speaker Friend Friday
DESCRIPTION:Join us every Friday at 8:45 am ET for Speaker Friends Friday on Zoom. We have discussions with speakers\, authors\, event managers\, business owners\, podcasters and other professionals. All are welcome!
URL:https://innovationwomen.com/event/speaker-friend-friday-92/
ATTACH;FMTTYPE=image/png:https://innovationwomen.com/wp-content/uploads/2024/02/SFF-logo.png
ORGANIZER;CN="Innovation Women":MAILTO:info@innovationwomen.com
END:VEVENT
BEGIN:VEVENT
DTSTART;TZID=America/New_York:20260501T110000
DTEND;TZID=America/New_York:20260501T120000
DTSTAMP:20260425T120132
CREATED:20260409T130957Z
LAST-MODIFIED:20260409T130957Z
UID:43707-1777633200-1777636800@innovationwomen.com
SUMMARY:Knowledge Session: Profile Reviews\, Concept Clinics & Ask IW anything!
DESCRIPTION:Our regular Knowledge Sessions are the perfect time for our members to pick an expert’s brain! Our sessions cover Profile Reviews\, Concept Clinics and Ask Me Anything segments. Come with a filled-out profile\, a concept that needs refining or any other question! These sessions are a first-come\, first-serve basis. \nIs your speaker biography too long? Do you know how to show off your storytelling skills? Are your talk abstracts too vague? Our staff will offer tips to make your speaker profile stand out to event managers. \nAsk questions about your brand\, signature talk\, book title and more! We will give you our expert advice on how to optimize any of your concepts. Connect with other attending members and have them weigh in\, too. A community of knowledgeable speakers is one of Innovation Women’s greatest strengths. \n🚨 IW Speaker Membership Exclusive  
URL:https://innovationwomen.com/event/knowledge-session-profile-reviews-concept-clinics-ask-iw-anything-3/
ATTACH;FMTTYPE=image/png:https://innovationwomen.com/wp-content/uploads/2026/03/2.png
ORGANIZER;CN="Innovation Women":MAILTO:info@innovationwomen.com
END:VEVENT
BEGIN:VEVENT
DTSTART;TZID=America/New_York:20260501T120000
DTEND;TZID=America/New_York:20260501T130000
DTSTAMP:20260425T120132
CREATED:20260409T131612Z
LAST-MODIFIED:20260409T131612Z
UID:43508-1777636800-1777640400@innovationwomen.com
SUMMARY:Speaker Friend Friday - West Coast Friendly (First Friday of Each Month)
DESCRIPTION:Join us on the first and third Friday of every month for West Coast Speaker Friend Fridays on Zoom. We host discussions with speakers\, authors\, event managers\, business owners\, podcasters and others in the IW community. No need to be on the West Coast – all are welcome!  Starting at noon ET\, we do as many quick introductions as we can and then promptly jump into discussion. We prioritize engaging questions and advice over self-promotions\, then move into Breakout Rooms for smaller group conversations. Sign up for our newsletter to get the link! ✉️ 
URL:https://innovationwomen.com/event/speaker-friend-friday-west-coast-friendly-first-friday-of-each-month-9/
ATTACH;FMTTYPE=image/png:https://innovationwomen.com/wp-content/uploads/2024/02/Untitled-design-6.png
ORGANIZER;CN="Innovation Women":MAILTO:info@innovationwomen.com
END:VEVENT
END:VCALENDAR