BEGIN:VCALENDAR
VERSION:2.0
PRODID:-//Innovation Women - ECPv6.15.20//NONSGML v1.0//EN
CALSCALE:GREGORIAN
METHOD:PUBLISH
X-WR-CALNAME:Innovation Women
X-ORIGINAL-URL:https://innovationwomen.com
X-WR-CALDESC:Events for Innovation Women
REFRESH-INTERVAL;VALUE=DURATION:PT1H
X-Robots-Tag:noindex
X-PUBLISHED-TTL:PT1H
BEGIN:VTIMEZONE
TZID:America/New_York
BEGIN:DAYLIGHT
TZOFFSETFROM:-0500
TZOFFSETTO:-0400
TZNAME:EDT
DTSTART:20230312T070000
END:DAYLIGHT
BEGIN:STANDARD
TZOFFSETFROM:-0400
TZOFFSETTO:-0500
TZNAME:EST
DTSTART:20231105T060000
END:STANDARD
BEGIN:DAYLIGHT
TZOFFSETFROM:-0500
TZOFFSETTO:-0400
TZNAME:EDT
DTSTART:20240310T070000
END:DAYLIGHT
BEGIN:STANDARD
TZOFFSETFROM:-0400
TZOFFSETTO:-0500
TZNAME:EST
DTSTART:20241103T060000
END:STANDARD
BEGIN:DAYLIGHT
TZOFFSETFROM:-0500
TZOFFSETTO:-0400
TZNAME:EDT
DTSTART:20250309T070000
END:DAYLIGHT
BEGIN:STANDARD
TZOFFSETFROM:-0400
TZOFFSETTO:-0500
TZNAME:EST
DTSTART:20251102T060000
END:STANDARD
END:VTIMEZONE
BEGIN:VTIMEZONE
TZID:UTC
BEGIN:STANDARD
TZOFFSETFROM:+0000
TZOFFSETTO:+0000
TZNAME:UTC
DTSTART:20230101T000000
END:STANDARD
END:VTIMEZONE
BEGIN:VTIMEZONE
TZID:America/Los_Angeles
BEGIN:DAYLIGHT
TZOFFSETFROM:-0800
TZOFFSETTO:-0700
TZNAME:PDT
DTSTART:20230312T100000
END:DAYLIGHT
BEGIN:STANDARD
TZOFFSETFROM:-0700
TZOFFSETTO:-0800
TZNAME:PST
DTSTART:20231105T090000
END:STANDARD
BEGIN:DAYLIGHT
TZOFFSETFROM:-0800
TZOFFSETTO:-0700
TZNAME:PDT
DTSTART:20240310T100000
END:DAYLIGHT
BEGIN:STANDARD
TZOFFSETFROM:-0700
TZOFFSETTO:-0800
TZNAME:PST
DTSTART:20241103T090000
END:STANDARD
BEGIN:DAYLIGHT
TZOFFSETFROM:-0800
TZOFFSETTO:-0700
TZNAME:PDT
DTSTART:20250309T100000
END:DAYLIGHT
BEGIN:STANDARD
TZOFFSETFROM:-0700
TZOFFSETTO:-0800
TZNAME:PST
DTSTART:20251102T090000
END:STANDARD
END:VTIMEZONE
BEGIN:VTIMEZONE
TZID:Europe/Paris
BEGIN:DAYLIGHT
TZOFFSETFROM:+0100
TZOFFSETTO:+0200
TZNAME:CEST
DTSTART:20230326T010000
END:DAYLIGHT
BEGIN:STANDARD
TZOFFSETFROM:+0200
TZOFFSETTO:+0100
TZNAME:CET
DTSTART:20231029T010000
END:STANDARD
BEGIN:DAYLIGHT
TZOFFSETFROM:+0100
TZOFFSETTO:+0200
TZNAME:CEST
DTSTART:20240331T010000
END:DAYLIGHT
BEGIN:STANDARD
TZOFFSETFROM:+0200
TZOFFSETTO:+0100
TZNAME:CET
DTSTART:20241027T010000
END:STANDARD
BEGIN:DAYLIGHT
TZOFFSETFROM:+0100
TZOFFSETTO:+0200
TZNAME:CEST
DTSTART:20250330T010000
END:DAYLIGHT
BEGIN:STANDARD
TZOFFSETFROM:+0200
TZOFFSETTO:+0100
TZNAME:CET
DTSTART:20251026T010000
END:STANDARD
END:VTIMEZONE
BEGIN:VEVENT
DTSTART;TZID=America/New_York:20240201T150000
DTEND;TZID=America/New_York:20240201T170000
DTSTAMP:20260422T021536
CREATED:20240112T230328Z
LAST-MODIFIED:20240112T230328Z
UID:33053-1706799600-1706806800@innovationwomen.com
SUMMARY:Pre Event Planning Workshop for AWP
DESCRIPTION:Conferences are overwhelming and exhausting\, They are also essential for personal and professional development. \nDuring this workshop you will: \nLearn Deb’s system for Event Outcome Optimization \nSolidify your conference goals \nCreate a plan for meeting people and choosing sessions \nDiscover strategies that set you up for success \nAnd more
URL:https://innovationwomen.com/event/pre-event-planning-workshop-for-awp/
LOCATION:Online
CATEGORIES:Register For Events
ATTACH;FMTTYPE=image/png:https://innovationwomen.com/wp-content/uploads/2024/01/lounge-writers.png
END:VEVENT
BEGIN:VEVENT
DTSTART;VALUE=DATE:20240208
DTEND;VALUE=DATE:20240209
DTSTAMP:20260422T021536
CREATED:20240112T231728Z
LAST-MODIFIED:20240112T231728Z
UID:33059-1707350400-1707436799@innovationwomen.com
SUMMARY:Roundtable: How to Negotiate for More Than Just Money
DESCRIPTION:Do you wish you could say “no” to your boss without feeling guilty or ruining your career? Do you struggle with setting healthy limits at work and in your personal life? Do you want to enjoy the holidays without feeling drained and resentful? If you answered “yes” to any of these questions\, then this Roundtable is for you!
URL:https://innovationwomen.com/event/roundtable-how-to-negotiate-for-more-than-just-money/
LOCATION:Online
CATEGORIES:Register For Events
ATTACH;FMTTYPE=image/jpeg:https://innovationwomen.com/wp-content/uploads/2020/04/ELLEVATE.jpg
END:VEVENT
BEGIN:VEVENT
DTSTART;VALUE=DATE:20240211
DTEND;VALUE=DATE:20240215
DTSTAMP:20260422T021536
CREATED:20231107T230354Z
LAST-MODIFIED:20231107T230354Z
UID:31462-1707609600-1707955199@innovationwomen.com
SUMMARY:Nurses Building Nurses Flip Flops & Florida Conference
DESCRIPTION:Presented by Nurse Builders\, this event is geared toward OB\, Pediatric and Neonatal Nursing.
URL:https://innovationwomen.com/event/nurses-building-nurses-flip-flops-florida-conference/
LOCATION:Hilton Melbourne Rialto Place\, 200 Rialto Pl\, Melbourne\, United States
CATEGORIES:Register For Events
ATTACH;FMTTYPE=image/png:https://innovationwomen.com/wp-content/uploads/2023/11/NBN_NNBA_EventBrand-1024x388-1.png
END:VEVENT
BEGIN:VEVENT
DTSTART;VALUE=DATE:20240213
DTEND;VALUE=DATE:20240216
DTSTAMP:20260422T021536
CREATED:20240130T224244Z
LAST-MODIFIED:20240130T224244Z
UID:33161-1707782400-1708041599@innovationwomen.com
SUMMARY:Generative AI Expo
DESCRIPTION:Generative AI Expo is not just a ”future-looking” event presenting pie-in-the-sky visions of generative AI possibilities. Instead\, the conference will showcase how generative AI applications are helping businesses improve operations\, enhance customer experience\, and create new opportunities for growth NOW.
URL:https://innovationwomen.com/event/generative-ai-expo/
LOCATION:Greater Fort Lauderdale/Broward County Convention Center\, 1950 Eisenhower Blvd\, Ft. Lauderdale\, FL\, United States
CATEGORIES:Register For Events
ATTACH;FMTTYPE=image/webp:https://innovationwomen.com/wp-content/uploads/2024/01/Generative-AI-Expo.webp
END:VEVENT
BEGIN:VEVENT
DTSTART;TZID=America/New_York:20240213T150000
DTEND;TZID=America/New_York:20240213T160000
DTSTAMP:20260422T021536
CREATED:20240112T225342Z
LAST-MODIFIED:20240112T225342Z
UID:33047-1707836400-1707840000@innovationwomen.com
SUMMARY:Just Write: How Writing Enhances Your Reputation
DESCRIPTION:When you become a better writer\, you become a deeper thinker\, stronger communicator\, and more effective consultant. In this workshop\, Erica Holthausen will show you how writing enhances your reputation and differentiates you from the competition.
URL:https://innovationwomen.com/event/just-write-how-writing-enhances-your-reputation/
LOCATION:Online
CATEGORIES:Register For Events
ATTACH;FMTTYPE=image/jpeg:https://innovationwomen.com/wp-content/uploads/2024/01/spc-logo.jpg
END:VEVENT
BEGIN:VEVENT
DTSTART;TZID=America/New_York:20240213T173000
DTEND;TZID=America/New_York:20240213T200000
DTSTAMP:20260422T021536
CREATED:20240131T234118Z
LAST-MODIFIED:20240131T234118Z
UID:33180-1707845400-1707854400@innovationwomen.com
SUMMARY:Upping Your Digital Hygiene Game For You and Your Clients
DESCRIPTION:We all know the importance of practicing personal hygiene and maintaining organized spaces. In this presentation\, we’ll talk about why it’s important to take digital hygiene seriously\, practices to consider implementing in your business and personal lives\, and what information you may want to pass on to your organizing clients.
URL:https://innovationwomen.com/event/upping-your-digital-hygiene-game-for-you-and-your-clients/
LOCATION:Online
CATEGORIES:Register For Events
ATTACH;FMTTYPE=image/png:https://innovationwomen.com/wp-content/uploads/2024/01/napo-logo.png
END:VEVENT
BEGIN:VEVENT
DTSTART;TZID=America/Los_Angeles:20240214T183000
DTEND;TZID=America/Los_Angeles:20240214T200000
DTSTAMP:20260422T021536
CREATED:20240131T234501Z
LAST-MODIFIED:20240131T234501Z
UID:33182-1707935400-1707940800@innovationwomen.com
SUMMARY:Beyond Bins and Labels: Transforming Your Organizing Business with AI
DESCRIPTION:You’ve heard all the rage about artificial intelligence and how it’s supposed to help your business. Maybe you’ve experimented with some AI tools yourself. Or maybe you’re hesitant\, or even afraid\, to try them. \nCome learn about artificial intelligence and discover how you might want to incorporate it into your organizing business. A handout of AI tips\, tricks and tools will also be provided to participants.
URL:https://innovationwomen.com/event/beyond-bins-and-labels-transforming-your-organizing-business-with-ai/
LOCATION:Online
CATEGORIES:Register For Events
ATTACH;FMTTYPE=image/png:https://innovationwomen.com/wp-content/uploads/2024/01/AI_980_x_245_.png
END:VEVENT
BEGIN:VEVENT
DTSTART;VALUE=DATE:20240217
DTEND;VALUE=DATE:20240226
DTSTAMP:20260422T021536
CREATED:20240209T213443Z
LAST-MODIFIED:20240209T213443Z
UID:33379-1708128000-1708905599@innovationwomen.com
SUMMARY:Conscious Grief Series 5: Transforming Pain into Evolution and Growth
DESCRIPTION:This series explores ALL kinds of grief because loss comes in many different forms – from death to relationships to dementia\, to aging\, getting sober\, losing jobs and so on.
URL:https://innovationwomen.com/event/conscious-grief-series-5-transforming-pain-into-evolution-and-growth/
LOCATION:Online
CATEGORIES:Register For Events
ATTACH;FMTTYPE=image/png:https://innovationwomen.com/wp-content/uploads/2024/02/CGS5-Website-Headers-1.png
END:VEVENT
BEGIN:VEVENT
DTSTART;TZID=America/New_York:20240221T120000
DTEND;TZID=America/New_York:20240221T130000
DTSTAMP:20260422T021536
CREATED:20240216T225043Z
LAST-MODIFIED:20240216T225043Z
UID:33437-1708516800-1708520400@innovationwomen.com
SUMMARY:Switch Your Pitch: Take Your Elevator Pitch To The Next Level
DESCRIPTION:Switch Your Pitch:\nTake your elevator pitch to the next level and learn how to master the art of networking
URL:https://innovationwomen.com/event/switch-your-pitch-take-your-elevator-pitch-to-the-next-level/
LOCATION:Online
CATEGORIES:Register For Events
ATTACH;FMTTYPE=image/png:https://innovationwomen.com/wp-content/uploads/2024/02/1707697017758.png
END:VEVENT
BEGIN:VEVENT
DTSTART;TZID=America/New_York:20240221T120000
DTEND;TZID=America/New_York:20240221T140000
DTSTAMP:20260422T021536
CREATED:20240216T230927Z
LAST-MODIFIED:20240216T230927Z
UID:33447-1708516800-1708524000@innovationwomen.com
SUMMARY:WE Master Leadership Conference: Revolutionize Your Business Growth Day 1
DESCRIPTION:Come join us online for our Spring conference Day 1! This event will spotlight the significance of diversity in entrepreneurship\, particularly in honor of Black History Month. Get insights from Precious Williams CEO\, Perfect Pitch Group\, our keynote speaker with a presentation and pitching session! She will also share firsthand experiences of how embracing diversity in entrepreneurship has fueled their business growth in NYC.
URL:https://innovationwomen.com/event/we-master-leadership-conference-revolutionize-your-business-growth-day-1/
LOCATION:Online
CATEGORIES:Register For Events
ATTACH;FMTTYPE=image/jpeg:https://innovationwomen.com/wp-content/uploads/2024/02/https___cdn.evbuc_.com_images_680212499_102568559997_1_original.jpg
END:VEVENT
BEGIN:VEVENT
DTSTART;TZID=America/New_York:20240222T103000
DTEND;TZID=America/New_York:20240222T150000
DTSTAMP:20260422T021536
CREATED:20240220T224111Z
LAST-MODIFIED:20240220T224111Z
UID:33479-1708597800-1708614000@innovationwomen.com
SUMMARY:Women Impact Tech Virtual Accelerate Conference Austin 2024
DESCRIPTION:Join us for this unique event where you can spend time with hundreds of inspiring women in tech. Women who are breaking barriers\, innovating\, and flourishing.
URL:https://innovationwomen.com/event/women-impact-tech-virtual-accelerate-conference-austin-2024/
LOCATION:Online
CATEGORIES:Register For Events
ATTACH;FMTTYPE=image/jpeg:https://innovationwomen.com/wp-content/uploads/2024/02/women-impact-tech.jpg
END:VEVENT
BEGIN:VEVENT
DTSTART;TZID=America/New_York:20240222T120000
DTEND;TZID=America/New_York:20240222T140000
DTSTAMP:20260422T021536
CREATED:20240216T231205Z
LAST-MODIFIED:20240216T231205Z
UID:33449-1708603200-1708610400@innovationwomen.com
SUMMARY:WE Master Leadership Conference: Revolutionize Your Business Growth Day 2
DESCRIPTION:Come join us online for our Spring conference Day 2! This event will spotlight the significance of diversity in entrepreneurship\, particularly in honor of Black History Month. Get insights from Jesscia Spaulding Founder & CEO\, Harlem Chocolate Factory\, our keynote speaker\, a informative reserarch session with Geri Stengel President\, Ventureneer\, and a panel featuring WE NYC mentors and clients. They’ll share firsthand experiences of how embracing diversity in entrepreneurship has fueled their business growth in NYC.
URL:https://innovationwomen.com/event/we-master-leadership-conference-revolutionize-your-business-growth-day-2/
LOCATION:Online
CATEGORIES:Register For Events
ATTACH;FMTTYPE=image/jpeg:https://innovationwomen.com/wp-content/uploads/2024/02/https___cdn.evbuc_.com_images_680213519_102568559997_1_original.jpg
END:VEVENT
BEGIN:VEVENT
DTSTART;TZID=America/New_York:20240224T090000
DTEND;TZID=America/New_York:20240224T170000
DTSTAMP:20260422T021536
CREATED:20240220T225308Z
LAST-MODIFIED:20240220T225308Z
UID:33484-1708765200-1708794000@innovationwomen.com
SUMMARY:Powerful on Purpose Summit Maximum Impact Edition
DESCRIPTION:Ready to be Inspired and Take your Purpose to the Next Level? \nDon’t navigate the journey alone. Dive deep into your purpose and turn life’s challenges into your biggest strengths!
URL:https://innovationwomen.com/event/powerful-on-purpose-summit-maximum-impact-edition/
LOCATION:The Gala Event Center\, 1801 Bush River Road\, Columbia\, SC\, United States
CATEGORIES:Register For Events
ATTACH;FMTTYPE=image/jpeg:https://innovationwomen.com/wp-content/uploads/2024/02/https___cdn.evbuc_.com_images_646826179_1540308417463_1_original.jpg
END:VEVENT
BEGIN:VEVENT
DTSTART;VALUE=DATE:20240226
DTEND;VALUE=DATE:20240227
DTSTAMP:20260422T021536
CREATED:20231206T152807Z
LAST-MODIFIED:20231206T152807Z
UID:32622-1708905600-1708991999@innovationwomen.com
SUMMARY:UGA Innovation Bootcamp
DESCRIPTION:The spring 2024 Innovation Bootcamp program will examine the unique challenges faced by female innovators and entrepreneurs. Curriculum will include a mixture of learning sessions\, group projects\, and one-on-one coaching.
URL:https://innovationwomen.com/event/uga-innovation-bootcamp/
LOCATION:Delta Innovation Hub\, 210 Spring St\, Athens\, GA\, United States
CATEGORIES:Register For Events
ATTACH;FMTTYPE=image/png:https://innovationwomen.com/wp-content/uploads/2023/12/uga.png
END:VEVENT
BEGIN:VEVENT
DTSTART;VALUE=DATE:20240226
DTEND;VALUE=DATE:20240301
DTSTAMP:20260422T021536
CREATED:20240108T225237Z
LAST-MODIFIED:20240109T214410Z
UID:32951-1708905600-1709251199@innovationwomen.com
SUMMARY:MWC Barcelona
DESCRIPTION:MWC Barcelona is the largest and most influential event for the connectivity ecosystem. Whether you’re a global mobile operator\, device manufacturer\, technology provider\, vendor\, content owner\, or are simply interested in the future of tech\, you need to be here. \nWhy? Because it’s the one time of year where everyone who’s anyone comes together under one roof. Tens of thousands of senior executives from the top global companies\, international governments and trailblazing tech businesses converge at MWC Barcelona to make decisions.
URL:https://innovationwomen.com/event/mwc-barcelona/
LOCATION:Fira Gran Via\, Av. Joan Carles I\, 64 08908 L'Hospitalet de Llobregat\, Barcelona\, Spain
CATEGORIES:Register For Events
ATTACH;FMTTYPE=image/jpeg:https://innovationwomen.com/wp-content/uploads/2024/01/mwc.jpg
END:VEVENT
BEGIN:VEVENT
DTSTART;VALUE=DATE:20240226
DTEND;VALUE=DATE:20240302
DTSTAMP:20260422T021536
CREATED:20240122T234016Z
LAST-MODIFIED:20240122T234016Z
UID:33118-1708905600-1709337599@innovationwomen.com
SUMMARY:Head Start California Annual Conference
DESCRIPTION:The Head Start California Annual Conference is the Association’s signature event where you will have the opportunity to gain experience and recognition presenting in front of a statewide Head Start audience!
URL:https://innovationwomen.com/event/head-start-california-annual-conference/
LOCATION:Hilton Long Beach\, 701 W Ocean Blvd\, Long Beach\, CA\, United States
CATEGORIES:Register For Events
ATTACH;FMTTYPE=image/png:https://innovationwomen.com/wp-content/uploads/2024/01/head-start-ca-2024.png
END:VEVENT
BEGIN:VEVENT
DTSTART;TZID=America/New_York:20240226T140000
DTEND;TZID=America/New_York:20240226T180000
DTSTAMP:20260422T021536
CREATED:20231218T012842Z
LAST-MODIFIED:20231218T012842Z
UID:32724-1708956000-1708970400@innovationwomen.com
SUMMARY:Bizwomen Mentoring Monday
DESCRIPTION:Join the Boston Business Journal for our 11th annual Mentoring Monday ! This jam packed one-of-a-kind event is one you don’t want to miss.
URL:https://innovationwomen.com/event/bizwomen-mentoring-monday/
LOCATION:Westin Copley Place\, 10 Huntington Ave\, Boston\, MA\, United States
CATEGORIES:Register For Events
ATTACH;FMTTYPE=image/png:https://innovationwomen.com/wp-content/uploads/2020/11/bbj-logo.png
END:VEVENT
BEGIN:VEVENT
DTSTART;TZID=America/New_York:20240228T170000
DTEND;TZID=America/New_York:20240228T190000
DTSTAMP:20260422T021536
CREATED:20240216T231542Z
LAST-MODIFIED:20240216T231542Z
UID:33451-1709139600-1709146800@innovationwomen.com
SUMMARY:Inspiring Story of Resilience - Tips for 2024 and Beyond
DESCRIPTION:In this exclusive interview\, we will explore various aspects of Precious’ life and career\, including her background\, path to starting her own business\, “Curvy Girls\,” her experience on Shark Tank\, then hitting rock bottom\, her incredible resilience\, and the Art of the Pitch – which translates well to almost any situation.
URL:https://innovationwomen.com/event/inspiring-story-of-resilience-tips-for-2024-and-beyond/
LOCATION:Online
CATEGORIES:Register For Events
ATTACH;FMTTYPE=image/jpeg:https://innovationwomen.com/wp-content/uploads/2024/02/lean-in-nyc.jpeg
END:VEVENT
BEGIN:VEVENT
DTSTART;TZID=Europe/Paris:20240229T140000
DTEND;TZID=Europe/Paris:20240229T153000
DTSTAMP:20260422T021536
CREATED:20240216T232158Z
LAST-MODIFIED:20240216T232158Z
UID:33453-1709215200-1709220600@innovationwomen.com
SUMMARY:The B&E Masterclass
DESCRIPTION:In our second Masterclass\, Queen Precious will teach you how to pitch yourself as the only choice that truly matters\, and get that sale securely in the bag
URL:https://innovationwomen.com/event/the-be-masterclass/
LOCATION:Online
CATEGORIES:Register For Events
ATTACH;FMTTYPE=image/png:https://innovationwomen.com/wp-content/uploads/2024/02/BE-Logo.png
END:VEVENT
BEGIN:VEVENT
DTSTART;TZID=America/New_York:20240229T183000
DTEND;TZID=America/New_York:20240229T213000
DTSTAMP:20260422T021536
CREATED:20240220T224822Z
LAST-MODIFIED:20240220T224822Z
UID:33481-1709231400-1709242200@innovationwomen.com
SUMMARY:Master Your Pitch
DESCRIPTION:Join us for an exciting hybrid event in-person and online where you can master your pitch and take your communication skills to the next level! Whether you’re a seasoned professional or just starting out\, this event is perfect for anyone looking to improve their public speaking abilities. This event offers a supportive and interactive environment where you can practice and receive feedback on your pitch.
URL:https://innovationwomen.com/event/master-your-pitch/
LOCATION:4600 Bathurst Street\, 4600 Bathurst Street\, North York\, Ontario\, Canada
CATEGORIES:Register For Events
ATTACH;FMTTYPE=image/jpeg:https://innovationwomen.com/wp-content/uploads/2024/02/https___cdn.evbuc_.com_images_698295009_82928469035_1_original.jpg
END:VEVENT
END:VCALENDAR