BEGIN:VCALENDAR
VERSION:2.0
PRODID:-//Innovation Women - ECPv6.15.20//NONSGML v1.0//EN
CALSCALE:GREGORIAN
METHOD:PUBLISH
X-ORIGINAL-URL:https://innovationwomen.com
X-WR-CALDESC:Events for Innovation Women
REFRESH-INTERVAL;VALUE=DURATION:PT1H
X-Robots-Tag:noindex
X-PUBLISHED-TTL:PT1H
BEGIN:VTIMEZONE
TZID:UTC
BEGIN:STANDARD
TZOFFSETFROM:+0000
TZOFFSETTO:+0000
TZNAME:UTC
DTSTART:20220101T000000
END:STANDARD
END:VTIMEZONE
BEGIN:VTIMEZONE
TZID:America/New_York
BEGIN:DAYLIGHT
TZOFFSETFROM:-0500
TZOFFSETTO:-0400
TZNAME:EDT
DTSTART:20220313T070000
END:DAYLIGHT
BEGIN:STANDARD
TZOFFSETFROM:-0400
TZOFFSETTO:-0500
TZNAME:EST
DTSTART:20221106T060000
END:STANDARD
BEGIN:DAYLIGHT
TZOFFSETFROM:-0500
TZOFFSETTO:-0400
TZNAME:EDT
DTSTART:20230312T070000
END:DAYLIGHT
BEGIN:STANDARD
TZOFFSETFROM:-0400
TZOFFSETTO:-0500
TZNAME:EST
DTSTART:20231105T060000
END:STANDARD
BEGIN:DAYLIGHT
TZOFFSETFROM:-0500
TZOFFSETTO:-0400
TZNAME:EDT
DTSTART:20240310T070000
END:DAYLIGHT
BEGIN:STANDARD
TZOFFSETFROM:-0400
TZOFFSETTO:-0500
TZNAME:EST
DTSTART:20241103T060000
END:STANDARD
END:VTIMEZONE
BEGIN:VEVENT
DTSTART;VALUE=DATE:20231126
DTEND;VALUE=DATE:20231202
DTSTAMP:20260423T001445
CREATED:20231108T223017Z
LAST-MODIFIED:20231108T223017Z
UID:31502-1700956800-1701475199@innovationwomen.com
SUMMARY:AMAZON AWS re:Invent conference
DESCRIPTION:Come together with cloud enthusiasts from around the world to hear the latest cloud industry innovations\, meet with AWS experts\, have fun\, and build connections. You’ll gain skills and expertise that would take weeks or months to learn at home.
URL:https://innovationwomen.com/event/amazon-aws-reinvent-conference/
LOCATION:Caesars Forum\, 3655 Las Vegas Blvd. South\, Las Vegas\, NV\, United States
CATEGORIES:Register For Events
ATTACH;FMTTYPE=image/jpeg:https://innovationwomen.com/wp-content/uploads/2023/11/aws-logo.jpg
END:VEVENT
BEGIN:VEVENT
DTSTART;TZID=America/New_York:20231128T180000
DTEND;TZID=America/New_York:20231128T203000
DTSTAMP:20260423T001445
CREATED:20231101T231749Z
LAST-MODIFIED:20231101T231749Z
UID:29107-1701194400-1701203400@innovationwomen.com
SUMMARY:Semi-Annual Women's Author Panel
DESCRIPTION:We look forward to another great opportunity for networking\, conversation\, and meeting talented local authors at the Pyramid Club! Enjoy delicious light bites\, a glass of wine\, and the beautiful view of our city from the 52nd floor of the Mellon Building.
URL:https://innovationwomen.com/event/semi-annual-womens-author-panel/
LOCATION:Pyramid Club of Philadelphia\, 1735 Market St\, Philadelphia\, PA\, United States
CATEGORIES:Register For Events
ATTACH;FMTTYPE=image/jpeg:https://innovationwomen.com/wp-content/uploads/2023/11/https___cdn.evbuc_.com_images_632180259_55964005867_1_original.jpg
END:VEVENT
END:VCALENDAR