BEGIN:VCALENDAR
VERSION:2.0
PRODID:-//Innovation Women - ECPv6.15.20//NONSGML v1.0//EN
CALSCALE:GREGORIAN
METHOD:PUBLISH
X-WR-CALNAME:Innovation Women
X-ORIGINAL-URL:https://innovationwomen.com
X-WR-CALDESC:Events for Innovation Women
REFRESH-INTERVAL;VALUE=DURATION:PT1H
X-Robots-Tag:noindex
X-PUBLISHED-TTL:PT1H
BEGIN:VTIMEZONE
TZID:UTC
BEGIN:STANDARD
TZOFFSETFROM:+0000
TZOFFSETTO:+0000
TZNAME:UTC
DTSTART:20230101T000000
END:STANDARD
END:VTIMEZONE
BEGIN:VTIMEZONE
TZID:America/Los_Angeles
BEGIN:DAYLIGHT
TZOFFSETFROM:-0800
TZOFFSETTO:-0700
TZNAME:PDT
DTSTART:20230312T100000
END:DAYLIGHT
BEGIN:STANDARD
TZOFFSETFROM:-0700
TZOFFSETTO:-0800
TZNAME:PST
DTSTART:20231105T090000
END:STANDARD
BEGIN:DAYLIGHT
TZOFFSETFROM:-0800
TZOFFSETTO:-0700
TZNAME:PDT
DTSTART:20240310T100000
END:DAYLIGHT
BEGIN:STANDARD
TZOFFSETFROM:-0700
TZOFFSETTO:-0800
TZNAME:PST
DTSTART:20241103T090000
END:STANDARD
BEGIN:DAYLIGHT
TZOFFSETFROM:-0800
TZOFFSETTO:-0700
TZNAME:PDT
DTSTART:20250309T100000
END:DAYLIGHT
BEGIN:STANDARD
TZOFFSETFROM:-0700
TZOFFSETTO:-0800
TZNAME:PST
DTSTART:20251102T090000
END:STANDARD
END:VTIMEZONE
BEGIN:VTIMEZONE
TZID:America/New_York
BEGIN:DAYLIGHT
TZOFFSETFROM:-0500
TZOFFSETTO:-0400
TZNAME:EDT
DTSTART:20230312T070000
END:DAYLIGHT
BEGIN:STANDARD
TZOFFSETFROM:-0400
TZOFFSETTO:-0500
TZNAME:EST
DTSTART:20231105T060000
END:STANDARD
BEGIN:DAYLIGHT
TZOFFSETFROM:-0500
TZOFFSETTO:-0400
TZNAME:EDT
DTSTART:20240310T070000
END:DAYLIGHT
BEGIN:STANDARD
TZOFFSETFROM:-0400
TZOFFSETTO:-0500
TZNAME:EST
DTSTART:20241103T060000
END:STANDARD
BEGIN:DAYLIGHT
TZOFFSETFROM:-0500
TZOFFSETTO:-0400
TZNAME:EDT
DTSTART:20250309T070000
END:DAYLIGHT
BEGIN:STANDARD
TZOFFSETFROM:-0400
TZOFFSETTO:-0500
TZNAME:EST
DTSTART:20251102T060000
END:STANDARD
END:VTIMEZONE
BEGIN:VEVENT
DTSTART;VALUE=DATE:20240515
DTEND;VALUE=DATE:20240517
DTSTAMP:20260421T193735
CREATED:20240507T213406Z
LAST-MODIFIED:20240507T213406Z
UID:34183-1715731200-1715903999@innovationwomen.com
SUMMARY:Arts Impact Ohio
DESCRIPTION:Join 300 of your arts colleagues in Toledo\, the “Glass City\,” this spring! The Ohio Arts Council will present two days of professional development sessions\, visits to nearby arts and cultural institutions\, and chances to meet local and national thought leaders. As a leading arts and cultural conference\, get ready to enjoy fantastic performances\, arts experiences\, networking opportunities\, and celebrations!
URL:https://innovationwomen.com/event/arts-impact-ohio/
LOCATION:Renaissance Toledo Downtown\, 444 N Summit St\, Toledo\, United States
CATEGORIES:Register For Events
ATTACH;FMTTYPE=image/png:https://innovationwomen.com/wp-content/uploads/2024/05/arts-impact.png
END:VEVENT
BEGIN:VEVENT
DTSTART;VALUE=DATE:20240516
DTEND;VALUE=DATE:20240520
DTSTAMP:20260421T193735
CREATED:20240507T213836Z
LAST-MODIFIED:20240507T213836Z
UID:34186-1715817600-1716163199@innovationwomen.com
SUMMARY:American Alliance of Museums (AAM) Annual Meeting & Museum Expo
DESCRIPTION:Join thousands of museum professionals at the 2024 AAM Annual Meeting & MuseumExpo to dive into the individual\, organizational\, community\, and societal well-being strategies and outcomes that can lead to thriving museums and healthy communities.
URL:https://innovationwomen.com/event/american-alliance-of-museums-aam-annual-meeting-museum-expo/
LOCATION:Baltimore Convention Center\, 1 W Pratt St\, Baltimore\, MD\, United States
CATEGORIES:Register For Events
ATTACH;FMTTYPE=image/png:https://innovationwomen.com/wp-content/uploads/2024/05/aam-expo-2024.png
END:VEVENT
BEGIN:VEVENT
DTSTART;TZID=America/Los_Angeles:20240516T120000
DTEND;TZID=America/Los_Angeles:20240516T130000
DTSTAMP:20260421T193735
CREATED:20240507T214208Z
LAST-MODIFIED:20240507T214208Z
UID:34188-1715860800-1715864400@innovationwomen.com
SUMMARY:How to Write a Winning Book Proposal
DESCRIPTION:Did you know that most non-fiction books are sold with a book proposal? \nJoin goal strategist Debra Eckerling\, author of Your Goal Guide\, on May 16 at 12pm PT\, for a Lunch ‘N Learn on How to Write a Winning Book Proposal. \nWhether you plan to e-publish/self-publish\, go hybrid or traditional\, a book proposal keeps you organized and focused\, while setting you up for success. The creator of the D*E*B METHOD® for goal-setting simplified\, Debra will share how to craft the perfect roadmap to reach your non-fiction book-writing goals. \nDuring this session\, you will discover what a book proposal is and why it’s important\, along with the different elements. This includes the overview\, book specs\, author platform\, detailed outline\, audience\, and comprehensive titles. \nCrafting a winning book proposal requires planning\, research\, and passion. When you understand the key components\, you’ll be better equipped to write a book proposal that not only stands out\, but sells.
URL:https://innovationwomen.com/event/how-to-write-a-winning-book-proposal/
LOCATION:Online
CATEGORIES:Register For Events
ATTACH;FMTTYPE=image/jpeg:https://innovationwomen.com/wp-content/uploads/2023/08/WNBA-SF-Chapter-Banner.jpg
END:VEVENT
BEGIN:VEVENT
DTSTART;TZID=America/New_York:20240516T170000
DTEND;TZID=America/New_York:20240516T190000
DTSTAMP:20260421T193735
CREATED:20240326T140404Z
LAST-MODIFIED:20240326T140404Z
UID:33798-1715878800-1715886000@innovationwomen.com
SUMMARY:Book Launch - "Dare to Relate: Leading with a Fierce Heart!"
DESCRIPTION:RSVP and join us for the launch event of “Dare to Relate: Leading with a Fierce Heart!” \nBooks will be available for purchase\, and following her speech\, Cheri Mason will be signing copies.
URL:https://innovationwomen.com/event/book-launch-dare-to-relate-leading-with-a-fierce-heart-2/
LOCATION:American Legion Post 139\, 3445 Washington Blvd\, Arlington\, United States
CATEGORIES:Register For Events
ATTACH;FMTTYPE=image/webp:https://innovationwomen.com/wp-content/uploads/2024/03/Catalyst-Leadership-Management-Cheryl-Cheri-Mason-Keynot-Leadership-Speaker-New-Ember-Bigg.webp
END:VEVENT
END:VCALENDAR