BEGIN:VCALENDAR
VERSION:2.0
PRODID:-//Innovation Women - ECPv6.15.20//NONSGML v1.0//EN
CALSCALE:GREGORIAN
METHOD:PUBLISH
X-WR-CALNAME:Innovation Women
X-ORIGINAL-URL:https://innovationwomen.com
X-WR-CALDESC:Events for Innovation Women
REFRESH-INTERVAL;VALUE=DURATION:PT1H
X-Robots-Tag:noindex
X-PUBLISHED-TTL:PT1H
BEGIN:VTIMEZONE
TZID:UTC
BEGIN:STANDARD
TZOFFSETFROM:+0000
TZOFFSETTO:+0000
TZNAME:UTC
DTSTART:20230101T000000
END:STANDARD
END:VTIMEZONE
BEGIN:VEVENT
DTSTART;VALUE=DATE:20240523
DTEND;VALUE=DATE:20240525
DTSTAMP:20260422T064751
CREATED:20240305T215839Z
LAST-MODIFIED:20240305T215839Z
UID:33616-1716422400-1716595199@innovationwomen.com
SUMMARY:Mental Health KC Conference
DESCRIPTION:The purpose of the Mental Health KC Conference is to offer community education and to create awareness about mental health in our community\, targeted toward anyone concerned about mental health and its impact on our community\, including but not limited to the human service field\, community health leaders\, practitioners\, social workers\, corporate employers and employees\, non-profit organizations\, C-suite\, CFO’s and CEO’s\, HR professionals\, benefits managers\, EAP professionals\, workplace occupational health\, safety\, and wellness\, industry leaders\, benefits consultants\, wellness specialists and health and social services providers. Attendees will receive current industry leading\, best practice approaches to effect change in their lives and in the lives of others. The conference will consist of Keynote Speakers and breakout sessions\, led by a diverse collection of dynamic\, knowledgeable speakers and topic facilitators.
URL:https://innovationwomen.com/event/mental-health-kc-conference/
LOCATION:Johnson County Community College\, 12345 College Blvd\, Overland Park\, KS\, United States
CATEGORIES:Register For Events
ATTACH;FMTTYPE=image/jpeg:https://innovationwomen.com/wp-content/uploads/2024/03/mental-health-kc.jpg
END:VEVENT
BEGIN:VEVENT
DTSTART;VALUE=DATE:20240524
DTEND;VALUE=DATE:20240525
DTSTAMP:20260422T064751
CREATED:20231206T151055Z
LAST-MODIFIED:20231206T151055Z
UID:32616-1716508800-1716595199@innovationwomen.com
SUMMARY:Malden Chamber of Commerce Speaker Series: The Voices of Success
DESCRIPTION:We are pleased to offer you a series of locally and nationally known speakers who will share their inspirational life and work experiences. They will tell the stories of their successes and failures\, at the same time demonstrating the perseverance it takes to be successful. These speakers will offer real\, skill-based advice on topics ranging from painless networking\, perfecting the perfect pitch and impactful communication.
URL:https://innovationwomen.com/event/malden-chamber-of-commerce-speaker-series-the-voices-of-success/
LOCATION:Malden MA\, Malden\, MA\, United States
CATEGORIES:Register For Events
ATTACH;FMTTYPE=image/webp:https://innovationwomen.com/wp-content/uploads/2023/12/Voices-of-Success-600x600-1.webp
END:VEVENT
END:VCALENDAR