BEGIN:VCALENDAR
VERSION:2.0
PRODID:-//Innovation Women - ECPv6.15.20//NONSGML v1.0//EN
CALSCALE:GREGORIAN
METHOD:PUBLISH
X-WR-CALNAME:Innovation Women
X-ORIGINAL-URL:https://innovationwomen.com
X-WR-CALDESC:Events for Innovation Women
REFRESH-INTERVAL;VALUE=DURATION:PT1H
X-Robots-Tag:noindex
X-PUBLISHED-TTL:PT1H
BEGIN:VTIMEZONE
TZID:UTC
BEGIN:STANDARD
TZOFFSETFROM:+0000
TZOFFSETTO:+0000
TZNAME:UTC
DTSTART:20230101T000000
END:STANDARD
END:VTIMEZONE
BEGIN:VEVENT
DTSTART;VALUE=DATE:20240617
DTEND;VALUE=DATE:20240620
DTSTAMP:20260420T102954
CREATED:20240608T163554Z
LAST-MODIFIED:20240608T163554Z
UID:35078-1718582400-1718841599@innovationwomen.com
SUMMARY:Going Beyond Vision Loss Transitional Student Summit 2024
DESCRIPTION:Florida Agencies Serving the Blind (Florida ASB) is your premier provider network of comprehensive rehabilitation services for Floridians living with blindness and visual impairments. As a nationally recognized model for returning people affected by blindness to productive roles in society\, our member agencies are your one-stop destination for easy access to a wide menu of vision rehabilitation resources. Florida ASB means finding quality services from the primary source in Florida for CERTIFIED VISION REHABILITATION professionals near you to help you achieve your life goals. \nAshley Smith will be presenting Courageously Confident at Going Beyond Vision Loss Summit
URL:https://innovationwomen.com/event/going-beyond-vision-loss-transitional-student-summit-2024/
LOCATION:Rosen Shingle Creek\, 9939 Universal Blvd\, Orlando\, FL\, United States
CATEGORIES:Register For Events
ATTACH;FMTTYPE=image/png:https://innovationwomen.com/wp-content/uploads/2024/06/2024-FASB-Summit-Image-01252024.png
END:VEVENT
END:VCALENDAR