BEGIN:VCALENDAR
VERSION:2.0
PRODID:-//Innovation Women - ECPv6.15.20//NONSGML v1.0//EN
CALSCALE:GREGORIAN
METHOD:PUBLISH
X-ORIGINAL-URL:https://innovationwomen.com
X-WR-CALDESC:Events for Innovation Women
REFRESH-INTERVAL;VALUE=DURATION:PT1H
X-Robots-Tag:noindex
X-PUBLISHED-TTL:PT1H
BEGIN:VTIMEZONE
TZID:UTC
BEGIN:STANDARD
TZOFFSETFROM:+0000
TZOFFSETTO:+0000
TZNAME:UTC
DTSTART:20230101T000000
END:STANDARD
END:VTIMEZONE
BEGIN:VTIMEZONE
TZID:America/New_York
BEGIN:DAYLIGHT
TZOFFSETFROM:-0500
TZOFFSETTO:-0400
TZNAME:EDT
DTSTART:20230312T070000
END:DAYLIGHT
BEGIN:STANDARD
TZOFFSETFROM:-0400
TZOFFSETTO:-0500
TZNAME:EST
DTSTART:20231105T060000
END:STANDARD
BEGIN:DAYLIGHT
TZOFFSETFROM:-0500
TZOFFSETTO:-0400
TZNAME:EDT
DTSTART:20240310T070000
END:DAYLIGHT
BEGIN:STANDARD
TZOFFSETFROM:-0400
TZOFFSETTO:-0500
TZNAME:EST
DTSTART:20241103T060000
END:STANDARD
BEGIN:DAYLIGHT
TZOFFSETFROM:-0500
TZOFFSETTO:-0400
TZNAME:EDT
DTSTART:20250309T070000
END:DAYLIGHT
BEGIN:STANDARD
TZOFFSETFROM:-0400
TZOFFSETTO:-0500
TZNAME:EST
DTSTART:20251102T060000
END:STANDARD
END:VTIMEZONE
BEGIN:VEVENT
DTSTART;VALUE=DATE:20240729
DTEND;VALUE=DATE:20240731
DTSTAMP:20260419T130227
CREATED:20240517T215032Z
LAST-MODIFIED:20240517T215032Z
UID:34905-1722211200-1722383999@innovationwomen.com
SUMMARY:2024 OhioPRO Peer Recovery Summit
DESCRIPTION:OhioPRO is excited to announce the 2024 Peer Recovery Summit! This year’s theme is Peer Faces: Celebrating Resiliency. \nPeer recovery supporters embody resiliency not only in their personal recovery journeys but also in their work to help others. That resiliency deserves to be celebrated\, and OhioPRO is excited to recognize the many faces of peers who make impactful changes every day.
URL:https://innovationwomen.com/event/2024-ohiopro-peer-recovery-summit/
LOCATION:Hilton Columbus Polaris\, 8700 Lyra Drive\, Columbus\, OH\, United States
CATEGORIES:Register For Events
ATTACH;FMTTYPE=image/png:https://innovationwomen.com/wp-content/uploads/2024/05/2024-peer-summit-save-the-date-Blog-Banner-768x432-1.png
END:VEVENT
BEGIN:VEVENT
DTSTART;VALUE=DATE:20240729
DTEND;VALUE=DATE:20240803
DTSTAMP:20260419T130227
CREATED:20240605T220740Z
LAST-MODIFIED:20240605T220740Z
UID:35039-1722211200-1722643199@innovationwomen.com
SUMMARY:THAT Conference
DESCRIPTION:Words make your experience usable\, lovable\, recognizable – even intuitive. In this workshop\, Torrey Podmajersky will show how the language we use and the structure it reflects affects every part of the experience. She’ll demonstrate tools and put you to work with practice on concrete examples\, demonstrating a variety of ways content design can impact and influence your organization. You’ll make your words work as hard as any other part of the UX to drive engagement\, conversion\, and retention. \n 
URL:https://innovationwomen.com/event/that-conference/
LOCATION:Kalahari Resorts and Convention Center\, 1305 Kalahari Drive\, Wisconsin Dells\, WI\, United States
CATEGORIES:Register For Events
ATTACH;FMTTYPE=image/jpeg:https://innovationwomen.com/wp-content/uploads/2024/06/Screenshot_5-6-2024_18655_.jpeg
END:VEVENT
END:VCALENDAR