BEGIN:VCALENDAR
VERSION:2.0
PRODID:-//Innovation Women - ECPv6.15.20//NONSGML v1.0//EN
CALSCALE:GREGORIAN
METHOD:PUBLISH
X-ORIGINAL-URL:https://innovationwomen.com
X-WR-CALDESC:Events for Innovation Women
REFRESH-INTERVAL;VALUE=DURATION:PT1H
X-Robots-Tag:noindex
X-PUBLISHED-TTL:PT1H
BEGIN:VTIMEZONE
TZID:UTC
BEGIN:STANDARD
TZOFFSETFROM:+0000
TZOFFSETTO:+0000
TZNAME:UTC
DTSTART:20220101T000000
END:STANDARD
END:VTIMEZONE
BEGIN:VTIMEZONE
TZID:America/Los_Angeles
BEGIN:DAYLIGHT
TZOFFSETFROM:-0800
TZOFFSETTO:-0700
TZNAME:PDT
DTSTART:20220313T100000
END:DAYLIGHT
BEGIN:STANDARD
TZOFFSETFROM:-0700
TZOFFSETTO:-0800
TZNAME:PST
DTSTART:20221106T090000
END:STANDARD
BEGIN:DAYLIGHT
TZOFFSETFROM:-0800
TZOFFSETTO:-0700
TZNAME:PDT
DTSTART:20230312T100000
END:DAYLIGHT
BEGIN:STANDARD
TZOFFSETFROM:-0700
TZOFFSETTO:-0800
TZNAME:PST
DTSTART:20231105T090000
END:STANDARD
BEGIN:DAYLIGHT
TZOFFSETFROM:-0800
TZOFFSETTO:-0700
TZNAME:PDT
DTSTART:20240310T100000
END:DAYLIGHT
BEGIN:STANDARD
TZOFFSETFROM:-0700
TZOFFSETTO:-0800
TZNAME:PST
DTSTART:20241103T090000
END:STANDARD
END:VTIMEZONE
BEGIN:VTIMEZONE
TZID:America/New_York
BEGIN:DAYLIGHT
TZOFFSETFROM:-0500
TZOFFSETTO:-0400
TZNAME:EDT
DTSTART:20220313T070000
END:DAYLIGHT
BEGIN:STANDARD
TZOFFSETFROM:-0400
TZOFFSETTO:-0500
TZNAME:EST
DTSTART:20221106T060000
END:STANDARD
BEGIN:DAYLIGHT
TZOFFSETFROM:-0500
TZOFFSETTO:-0400
TZNAME:EDT
DTSTART:20230312T070000
END:DAYLIGHT
BEGIN:STANDARD
TZOFFSETFROM:-0400
TZOFFSETTO:-0500
TZNAME:EST
DTSTART:20231105T060000
END:STANDARD
BEGIN:DAYLIGHT
TZOFFSETFROM:-0500
TZOFFSETTO:-0400
TZNAME:EDT
DTSTART:20240310T070000
END:DAYLIGHT
BEGIN:STANDARD
TZOFFSETFROM:-0400
TZOFFSETTO:-0500
TZNAME:EST
DTSTART:20241103T060000
END:STANDARD
END:VTIMEZONE
BEGIN:VEVENT
DTSTART;VALUE=DATE:20231107
DTEND;VALUE=DATE:20231110
DTSTAMP:20260425T225846
CREATED:20231012T212818Z
LAST-MODIFIED:20231012T212818Z
UID:28447-1699315200-1699574399@innovationwomen.com
SUMMARY:The Business Behind The Book
DESCRIPTION:Women of color\, and women generally\, are massively underrepresented as published authors. Of business book authors\, for example\, only 7% are women. \nWe are about changing that number for every genre and category of book. Our mission is to pass on the knowledge\, ideas\, and connections that women need to promote books\, build platforms\, and launch books successfully. \n  \n        Related Articles\n    \n\n            \n            \n    \n\n      \n\n    \n  \n\n  \n        Welcome to Innovation Women  \n\n        \n              \n            \n    \n\n      \n\n    \n  \n\n  \n        Innovation Women Supporters – Thank you!  \n\n        \n              \n            \n    \n\n      \n\n    \n  \n\n  \n        Geek Girl Tech Con
URL:https://innovationwomen.com/event/the-business-behind-the-book/
LOCATION:Convene\, 101 Park Ave\, New York\, NY\, United States
CATEGORIES:Register For Events
ATTACH;FMTTYPE=image/png:https://innovationwomen.com/wp-content/uploads/2023/10/business-behind-the-book.png
END:VEVENT
BEGIN:VEVENT
DTSTART;TZID=America/Los_Angeles:20231109T150000
DTEND;TZID=America/Los_Angeles:20231109T170000
DTSTAMP:20260425T225846
CREATED:20231102T213129Z
LAST-MODIFIED:20231102T213129Z
UID:29141-1699542000-1699549200@innovationwomen.com
SUMMARY:Goal Setting Simplified: Setting 2024 Writing Goals
DESCRIPTION:Is 2024 the year you are going to finish your novel or screenplay\, get an agent\, or step up your marketing? Join goal strategist Debra Eckerling\, author of Your Goal Guide\, to set writing goals that set you up for success. \n  \n        Related Articles\n    \n\n            \n            \n    \n\n      \n\n    \n  \n\n  \n        Welcome to Innovation Women  \n\n        \n              \n            \n    \n\n      \n\n    \n  \n\n  \n        Innovation Women Supporters – Thank you!  \n\n        \n              \n            \n    \n\n      \n\n    \n  \n\n  \n        Geek Girl Tech Con
URL:https://innovationwomen.com/event/goal-setting-simplified-setting-2024-writing-goals/
LOCATION:Online
CATEGORIES:Register For Events
ATTACH;FMTTYPE=image/png:https://innovationwomen.com/wp-content/uploads/2023/11/goal-setting.png
END:VEVENT
BEGIN:VEVENT
DTSTART;TZID=America/New_York:20231110T140000
DTEND;TZID=America/New_York:20231110T150000
DTSTAMP:20260425T225846
CREATED:20231101T215348Z
LAST-MODIFIED:20231101T215348Z
UID:29095-1699624800-1699628400@innovationwomen.com
SUMMARY:Medu Books: Kason and Kamden | Yes We're Twins But I'm Still Me
DESCRIPTION:Marline Duroseau will be at Medu Books in Atlanta GA on Friday\, Nov 10\, 2023 from 2pm – 3pm showcasing her children’s book: Kason and Kamden | Yes We’re Twins But I’m Still Me \n  \n        Related Articles\n    \n\n            \n            \n    \n\n      \n\n    \n  \n\n  \n        Welcome to Innovation Women  \n\n        \n              \n            \n    \n\n      \n\n    \n  \n\n  \n        Innovation Women Supporters – Thank you!  \n\n        \n              \n            \n    \n\n      \n\n    \n  \n\n  \n        Geek Girl Tech Con
URL:https://innovationwomen.com/event/medu-books-kason-and-kamden-yes-were-twins-but-im-still-me/
LOCATION:Medu Bookstore\, 2841 Greenbriar Pkwy. SW\, Atlanta\, GA\, United States
CATEGORIES:Register For Events
ATTACH;FMTTYPE=image/jpeg:https://innovationwomen.com/wp-content/uploads/2023/11/Medu-bookstore.jpg
END:VEVENT
BEGIN:VEVENT
DTSTART;TZID=America/New_York:20231128T180000
DTEND;TZID=America/New_York:20231128T203000
DTSTAMP:20260425T225846
CREATED:20231101T231749Z
LAST-MODIFIED:20231101T231749Z
UID:29107-1701194400-1701203400@innovationwomen.com
SUMMARY:Semi-Annual Women's Author Panel
DESCRIPTION:We look forward to another great opportunity for networking\, conversation\, and meeting talented local authors at the Pyramid Club! Enjoy delicious light bites\, a glass of wine\, and the beautiful view of our city from the 52nd floor of the Mellon Building. \n  \n        Related Articles\n    \n\n            \n            \n    \n\n      \n\n    \n  \n\n  \n        Welcome to Innovation Women  \n\n        \n              \n            \n    \n\n      \n\n    \n  \n\n  \n        Innovation Women Supporters – Thank you!  \n\n        \n              \n            \n    \n\n      \n\n    \n  \n\n  \n        Geek Girl Tech Con
URL:https://innovationwomen.com/event/semi-annual-womens-author-panel/
LOCATION:Pyramid Club of Philadelphia\, 1735 Market St\, Philadelphia\, PA\, United States
CATEGORIES:Register For Events
ATTACH;FMTTYPE=image/jpeg:https://innovationwomen.com/wp-content/uploads/2023/11/https___cdn.evbuc_.com_images_632180259_55964005867_1_original.jpg
END:VEVENT
END:VCALENDAR