BEGIN:VCALENDAR
VERSION:2.0
PRODID:-//Innovation Women - ECPv6.15.20//NONSGML v1.0//EN
CALSCALE:GREGORIAN
METHOD:PUBLISH
X-ORIGINAL-URL:https://innovationwomen.com
X-WR-CALDESC:Events for Innovation Women
REFRESH-INTERVAL;VALUE=DURATION:PT1H
X-Robots-Tag:noindex
X-PUBLISHED-TTL:PT1H
BEGIN:VTIMEZONE
TZID:UTC
BEGIN:STANDARD
TZOFFSETFROM:+0000
TZOFFSETTO:+0000
TZNAME:UTC
DTSTART:20230101T000000
END:STANDARD
END:VTIMEZONE
BEGIN:VTIMEZONE
TZID:America/New_York
BEGIN:DAYLIGHT
TZOFFSETFROM:-0500
TZOFFSETTO:-0400
TZNAME:EDT
DTSTART:20230312T070000
END:DAYLIGHT
BEGIN:STANDARD
TZOFFSETFROM:-0400
TZOFFSETTO:-0500
TZNAME:EST
DTSTART:20231105T060000
END:STANDARD
BEGIN:DAYLIGHT
TZOFFSETFROM:-0500
TZOFFSETTO:-0400
TZNAME:EDT
DTSTART:20240310T070000
END:DAYLIGHT
BEGIN:STANDARD
TZOFFSETFROM:-0400
TZOFFSETTO:-0500
TZNAME:EST
DTSTART:20241103T060000
END:STANDARD
BEGIN:DAYLIGHT
TZOFFSETFROM:-0500
TZOFFSETTO:-0400
TZNAME:EDT
DTSTART:20250309T070000
END:DAYLIGHT
BEGIN:STANDARD
TZOFFSETFROM:-0400
TZOFFSETTO:-0500
TZNAME:EST
DTSTART:20251102T060000
END:STANDARD
END:VTIMEZONE
BEGIN:VEVENT
DTSTART;VALUE=DATE:20240503
DTEND;VALUE=DATE:20240506
DTSTAMP:20260423T171956
CREATED:20240409T214737Z
LAST-MODIFIED:20240409T214737Z
UID:33971-1714694400-1714953599@innovationwomen.com
SUMMARY:Entreprenista Founder's Weekend
DESCRIPTION:We impact the success of women by celebrating and sharing the stories\, lessons and business insights of female leaders while creating a community that cultivates meaningful business connections and support. Our digital platforms help women connect\, learn\, and be inspired. Whether we’re having an in-depth conversation about bootstrapping a business on the weekly Entreprenista Podcast\, or recommending solutions to help our audience make the most of their e-commerce site\, Entreprenista is the #1 resource for female leaders. \n  \n        Related Articles\n    \n\n            \n            \n    \n\n      \n\n    \n  \n\n  \n        Welcome to Innovation Women  \n\n        \n              \n            \n    \n\n      \n\n    \n  \n\n  \n        Innovation Women Supporters – Thank you!  \n\n        \n              \n            \n    \n\n      \n\n    \n  \n\n  \n        Geek Girl Tech Con
URL:https://innovationwomen.com/event/entreprenista-founders-weekend/
LOCATION:Ritz-Carlton Orlando Grande Lakes\, 4012 Central Florida Pkwy\, Orlando\, FL\, United States
CATEGORIES:Register For Events
ATTACH;FMTTYPE=image/png:https://innovationwomen.com/wp-content/uploads/2024/04/entreprenista-2024.png
END:VEVENT
BEGIN:VEVENT
DTSTART;TZID=America/New_York:20240504T120000
DTEND;TZID=America/New_York:20240504T130000
DTSTAMP:20260423T171956
CREATED:20240429T211643Z
LAST-MODIFIED:20240429T211643Z
UID:34098-1714824000-1714827600@innovationwomen.com
SUMMARY:Ageless Possibilities in Writing & Publishing
DESCRIPTION:Everyone can sculpt their writing muscle at any age! Join author and psychotherapist Darlene Corbett to learn more about jumping into writing and publishing at any time in your life. \nDarlene Corbett invites you to consider the question of ageless possibilities. In her presentation\, she’ll discuss the many authors who wrote their first novels after age fifty\, sixty\, and even after ninety. She will also share her journey in writing her first book at the age of sixty. \nThe conversation will move to discussing the most popular genre with suggestions around crafting your first novel. \n  \n        Related Articles\n    \n\n            \n            \n    \n\n      \n\n    \n  \n\n  \n        Welcome to Innovation Women  \n\n        \n              \n            \n    \n\n      \n\n    \n  \n\n  \n        Innovation Women Supporters – Thank you!  \n\n        \n              \n            \n    \n\n      \n\n    \n  \n\n  \n        Geek Girl Tech Con
URL:https://innovationwomen.com/event/ageless-possibilities-in-writing-publishing/
LOCATION:Boston Public Library – Brighton Branch\, 40 Academy Hill Rd\, Boston\, MA\, United States
CATEGORIES:Register For Events
ATTACH;FMTTYPE=image/png:https://innovationwomen.com/wp-content/uploads/2024/04/boston-public-library.png
END:VEVENT
END:VCALENDAR