BEGIN:VCALENDAR
VERSION:2.0
PRODID:-//Innovation Women - ECPv6.15.20//NONSGML v1.0//EN
CALSCALE:GREGORIAN
METHOD:PUBLISH
X-WR-CALNAME:Innovation Women
X-ORIGINAL-URL:https://innovationwomen.com
X-WR-CALDESC:Events for Innovation Women
REFRESH-INTERVAL;VALUE=DURATION:PT1H
X-Robots-Tag:noindex
X-PUBLISHED-TTL:PT1H
BEGIN:VTIMEZONE
TZID:UTC
BEGIN:STANDARD
TZOFFSETFROM:+0000
TZOFFSETTO:+0000
TZNAME:UTC
DTSTART:20240101T000000
END:STANDARD
END:VTIMEZONE
BEGIN:VEVENT
DTSTART;VALUE=DATE:20250718
DTEND;VALUE=DATE:20250721
DTSTAMP:20260422T003326
CREATED:20250711T213254Z
LAST-MODIFIED:20250711T213254Z
UID:38111-1752796800-1753055999@innovationwomen.com
SUMMARY:ATL Comic & Pop Culture Convention
DESCRIPTION:Unleash Your Inner Fan! Atlanta Comic Con is part of Imaginarium LLC’s family of events. \nShannon Malone-deBenedictis will be presenting “FROM IDEA TO PITCH: How to Find That Story Hook”\, “Fantasy and Reality: How Fantasy Books and Documentaries Are More Similar Than You’d Think”\, and “Embrace Your Power: How to be Unapologetically Yourself”. \n  \n        Related Articles\n    \n\n            \n            \n    \n\n      \n\n    \n  \n\n  \n        Welcome to Innovation Women  \n\n        \n              \n            \n    \n\n      \n\n    \n  \n\n  \n        Innovation Women Supporters – Thank you!  \n\n        \n              \n            \n    \n\n      \n\n    \n  \n\n  \n        Geek Girl Tech Con
URL:https://innovationwomen.com/event/atl-comic-pop-culture-convention/
LOCATION:The Georgia World Congress Center\, 285 Andrew Young International Blvd NW\, Atlanta\, GA\, United States
ATTACH;FMTTYPE=image/jpeg:https://innovationwomen.com/wp-content/uploads/2025/07/atl-comic.jpg
END:VEVENT
END:VCALENDAR