BEGIN:VCALENDAR
VERSION:2.0
PRODID:-//Innovation Women - ECPv6.15.20//NONSGML v1.0//EN
CALSCALE:GREGORIAN
METHOD:PUBLISH
X-WR-CALNAME:Innovation Women
X-ORIGINAL-URL:https://innovationwomen.com
X-WR-CALDESC:Events for Innovation Women
REFRESH-INTERVAL;VALUE=DURATION:PT1H
X-Robots-Tag:noindex
X-PUBLISHED-TTL:PT1H
BEGIN:VTIMEZONE
TZID:America/New_York
BEGIN:DAYLIGHT
TZOFFSETFROM:-0500
TZOFFSETTO:-0400
TZNAME:EDT
DTSTART:20220313T070000
END:DAYLIGHT
BEGIN:STANDARD
TZOFFSETFROM:-0400
TZOFFSETTO:-0500
TZNAME:EST
DTSTART:20221106T060000
END:STANDARD
BEGIN:DAYLIGHT
TZOFFSETFROM:-0500
TZOFFSETTO:-0400
TZNAME:EDT
DTSTART:20230312T070000
END:DAYLIGHT
BEGIN:STANDARD
TZOFFSETFROM:-0400
TZOFFSETTO:-0500
TZNAME:EST
DTSTART:20231105T060000
END:STANDARD
BEGIN:DAYLIGHT
TZOFFSETFROM:-0500
TZOFFSETTO:-0400
TZNAME:EDT
DTSTART:20240310T070000
END:DAYLIGHT
BEGIN:STANDARD
TZOFFSETFROM:-0400
TZOFFSETTO:-0500
TZNAME:EST
DTSTART:20241103T060000
END:STANDARD
END:VTIMEZONE
BEGIN:VTIMEZONE
TZID:America/Los_Angeles
BEGIN:DAYLIGHT
TZOFFSETFROM:-0800
TZOFFSETTO:-0700
TZNAME:PDT
DTSTART:20220313T100000
END:DAYLIGHT
BEGIN:STANDARD
TZOFFSETFROM:-0700
TZOFFSETTO:-0800
TZNAME:PST
DTSTART:20221106T090000
END:STANDARD
BEGIN:DAYLIGHT
TZOFFSETFROM:-0800
TZOFFSETTO:-0700
TZNAME:PDT
DTSTART:20230312T100000
END:DAYLIGHT
BEGIN:STANDARD
TZOFFSETFROM:-0700
TZOFFSETTO:-0800
TZNAME:PST
DTSTART:20231105T090000
END:STANDARD
BEGIN:DAYLIGHT
TZOFFSETFROM:-0800
TZOFFSETTO:-0700
TZNAME:PDT
DTSTART:20240310T100000
END:DAYLIGHT
BEGIN:STANDARD
TZOFFSETFROM:-0700
TZOFFSETTO:-0800
TZNAME:PST
DTSTART:20241103T090000
END:STANDARD
END:VTIMEZONE
BEGIN:VTIMEZONE
TZID:UTC
BEGIN:STANDARD
TZOFFSETFROM:+0000
TZOFFSETTO:+0000
TZNAME:UTC
DTSTART:20220101T000000
END:STANDARD
END:VTIMEZONE
BEGIN:VTIMEZONE
TZID:America/Chicago
BEGIN:DAYLIGHT
TZOFFSETFROM:-0600
TZOFFSETTO:-0500
TZNAME:CDT
DTSTART:20220313T080000
END:DAYLIGHT
BEGIN:STANDARD
TZOFFSETFROM:-0500
TZOFFSETTO:-0600
TZNAME:CST
DTSTART:20221106T070000
END:STANDARD
BEGIN:DAYLIGHT
TZOFFSETFROM:-0600
TZOFFSETTO:-0500
TZNAME:CDT
DTSTART:20230312T080000
END:DAYLIGHT
BEGIN:STANDARD
TZOFFSETFROM:-0500
TZOFFSETTO:-0600
TZNAME:CST
DTSTART:20231105T070000
END:STANDARD
BEGIN:DAYLIGHT
TZOFFSETFROM:-0600
TZOFFSETTO:-0500
TZNAME:CDT
DTSTART:20240310T080000
END:DAYLIGHT
BEGIN:STANDARD
TZOFFSETFROM:-0500
TZOFFSETTO:-0600
TZNAME:CST
DTSTART:20241103T070000
END:STANDARD
END:VTIMEZONE
BEGIN:VEVENT
DTSTART;TZID=America/New_York:20231009T090000
DTEND;TZID=America/New_York:20231108T093000
DTSTAMP:20260426T003733
CREATED:20230915T221518Z
LAST-MODIFIED:20230915T221518Z
UID:27978-1696842000-1699435800@innovationwomen.com
SUMMARY:Freelance Business MONTH
DESCRIPTION:The Freelance Business Month is an event designed to unite the freelance ecosystem and to show the power of growing independent businesses. \nWith the key focus on independent professionals and their supporters\, the event will last the entire month and will be the epicentre of cultivating ideas\, knowledge\, skills sharing and learning new tools that enhance freelance productivity and efficiency.
URL:https://innovationwomen.com/event/freelance-business-month/
LOCATION:Online
CATEGORIES:Register For Events
ATTACH;FMTTYPE=image/jpeg:https://innovationwomen.com/wp-content/uploads/2023/09/freelance-business-month.jpg
END:VEVENT
BEGIN:VEVENT
DTSTART;TZID=America/New_York:20231102T180000
DTEND;TZID=America/New_York:20231102T190000
DTSTAMP:20260426T003733
CREATED:20231016T205623Z
LAST-MODIFIED:20231016T205623Z
UID:28532-1698948000-1698951600@innovationwomen.com
SUMMARY:Speak with Passion and Deliver with Purpose: An Interactive Workshop for On-Your-Feet Practice
DESCRIPTION:​Join us for a Speak with Passion and Deliver with Purpose: An Interactive Workshop for On-Your-Feet Practice and Live Q&A led by Meridith Grundei\, Founder of Grundei Coaching. \n​Meridith Grundei is your go-to for elevating your public speaking and presentation skills. With roots in theatre direction and a former stint as a Second City improv teacher\, she’s a storytelling pro.
URL:https://innovationwomen.com/event/speak-with-passion-and-deliver-with-purpose-an-interactive-workshop-for-on-your-feet-practice/
LOCATION:Online
CATEGORIES:Register For Events
ATTACH;FMTTYPE=image/png:https://innovationwomen.com/wp-content/uploads/2023/10/speak-with-passion.png
END:VEVENT
BEGIN:VEVENT
DTSTART;TZID=America/Los_Angeles:20231104T090000
DTEND;TZID=America/Los_Angeles:20231104T170000
DTSTAMP:20260426T003733
CREATED:20230522T221139Z
LAST-MODIFIED:20230522T221139Z
UID:25524-1699088400-1699117200@innovationwomen.com
SUMMARY:The BRAVE\, BOLD\, & UNSTOPPABLE Women's Summit™ 2023
DESCRIPTION:Blissful Living 4 U is bringing you The BRAVE\, BOLD\, & UNSTOPPABLE Women’s Summit 2023\, where you’ll be surrounded by women who are just like you–in search of inspiration\, support\, and a map to their unstoppable potential. No matter what stage of life you’re in right now\, we’ll determine the map that leads to your unstoppable potential.
URL:https://innovationwomen.com/event/the-brave-bold-unstoppable-womens-summit-2023-3/
LOCATION:Galleria Park Hotel\, 191 Sutter Street\, San Francisco\, CA\, United States
CATEGORIES:Register For Events
ATTACH;FMTTYPE=image/jpeg:https://innovationwomen.com/wp-content/uploads/2023/05/unstoppable-san-fran.jpg
END:VEVENT
BEGIN:VEVENT
DTSTART;VALUE=DATE:20231107
DTEND;VALUE=DATE:20231110
DTSTAMP:20260426T003733
CREATED:20230911T204719Z
LAST-MODIFIED:20230911T204719Z
UID:27827-1699315200-1699574399@innovationwomen.com
SUMMARY:2023 EWF Annual Conference: "Blazing the Trail: Technology and Leadership in Complex Times"
DESCRIPTION:The Executive Women’s Forum (EWF) Annual Conference provides the most comprehensive and unbiased overview of the industry landscape for executive women business decision-makers and practitioners.​ \nThis is an exclusive opportunity to interact with more than 700 thought leaders in the fields of Information Security\, Risk Management\, and Privacy. Attendees will learn from the most accomplished and influential women in our field. Gain exposure to new ideas and approaches\, develop best practices\, and build trusted relationships with the best and the brightest to blaze your trail!
URL:https://innovationwomen.com/event/2023-ewf-annual-conference-blazing-the-trail-technology-and-leadership-in-complex-times/
LOCATION:Hyatt Regency Hill Country Resort and Spa\, 9800 Hyatt Resort Drive\, San Antonio\, TX\, United States
CATEGORIES:Register For Events
ATTACH;FMTTYPE=image/webp:https://innovationwomen.com/wp-content/uploads/2023/09/blazing-the-trail.webp
END:VEVENT
BEGIN:VEVENT
DTSTART;VALUE=DATE:20231107
DTEND;VALUE=DATE:20231110
DTSTAMP:20260426T003733
CREATED:20231012T212818Z
LAST-MODIFIED:20231012T212818Z
UID:28447-1699315200-1699574399@innovationwomen.com
SUMMARY:The Business Behind The Book
DESCRIPTION:Women of color\, and women generally\, are massively underrepresented as published authors. Of business book authors\, for example\, only 7% are women. \nWe are about changing that number for every genre and category of book. Our mission is to pass on the knowledge\, ideas\, and connections that women need to promote books\, build platforms\, and launch books successfully.
URL:https://innovationwomen.com/event/the-business-behind-the-book/
LOCATION:Convene\, 101 Park Ave\, New York\, NY\, United States
CATEGORIES:Register For Events
ATTACH;FMTTYPE=image/png:https://innovationwomen.com/wp-content/uploads/2023/10/business-behind-the-book.png
END:VEVENT
BEGIN:VEVENT
DTSTART;TZID=America/Los_Angeles:20231109T150000
DTEND;TZID=America/Los_Angeles:20231109T170000
DTSTAMP:20260426T003733
CREATED:20231102T213129Z
LAST-MODIFIED:20231102T213129Z
UID:29141-1699542000-1699549200@innovationwomen.com
SUMMARY:Goal Setting Simplified: Setting 2024 Writing Goals
DESCRIPTION:Is 2024 the year you are going to finish your novel or screenplay\, get an agent\, or step up your marketing? Join goal strategist Debra Eckerling\, author of Your Goal Guide\, to set writing goals that set you up for success.
URL:https://innovationwomen.com/event/goal-setting-simplified-setting-2024-writing-goals/
LOCATION:Online
CATEGORIES:Register For Events
ATTACH;FMTTYPE=image/png:https://innovationwomen.com/wp-content/uploads/2023/11/goal-setting.png
END:VEVENT
BEGIN:VEVENT
DTSTART;VALUE=DATE:20231111
DTEND;VALUE=DATE:20231113
DTSTAMP:20260426T003733
CREATED:20231101T215834Z
LAST-MODIFIED:20231101T215834Z
UID:29098-1699660800-1699833599@innovationwomen.com
SUMMARY:Atlanta Women's Expo
DESCRIPTION:Learn a new hobby\, purchase a one of a kind gift\, relax and unwind with free massages\, beauty treatments\, and even a new hairstyle. Enjoy DIY crafting\, samples\, tastings\, fashion shows\, beauty and wellness pavilions\, open model call and hundreds of pop up booths. Empowering Celebrity Keynote Speakers including Loni Love\, Rasheeda\, MC Lyte\, Judge Glenda Hatchet\, LeLee Lyons\, Toya Johnson-Rushing\, Kim Fields\, Tamika Scott\, Dr. Lynn Richardson\, Cynthia Bailey\, Drew Sidora and more…plus Inspiring seminars\, workshops\, emerging fashion designers and more.
URL:https://innovationwomen.com/event/atlanta-womens-expo/
LOCATION:World Congress Center\, 285 Andrew Young International Blvd NW\, Atlanta\, GA\, United States
CATEGORIES:Register For Events
ATTACH;FMTTYPE=image/png:https://innovationwomen.com/wp-content/uploads/2023/11/Atlanta-womens-expo.png
END:VEVENT
BEGIN:VEVENT
DTSTART;TZID=America/New_York:20231114T090000
DTEND;TZID=America/New_York:20231114T100000
DTSTAMP:20260426T003733
CREATED:20231103T215146Z
LAST-MODIFIED:20231103T215146Z
UID:29197-1699952400-1699956000@innovationwomen.com
SUMMARY:3 Keys to Avoiding Entrepreneurial Burnout
DESCRIPTION:A live chat with Brenda Meller and Dr. Sandra Y. Lewis on “3 Keys to Avoiding Entrepreneurial Burnout”
URL:https://innovationwomen.com/event/3-keys-to-avoiding-entrepreneurial-burnout/
LOCATION:Online
CATEGORIES:Register For Events
ATTACH;FMTTYPE=image/png:https://innovationwomen.com/wp-content/uploads/2023/11/1694361144779.png
END:VEVENT
BEGIN:VEVENT
DTSTART;TZID=America/New_York:20231114T183000
DTEND;TZID=America/New_York:20231114T203000
DTSTAMP:20260426T003733
CREATED:20231108T223839Z
LAST-MODIFIED:20231108T223839Z
UID:31505-1699986600-1699993800@innovationwomen.com
SUMMARY:Chapter Meeting - The Changing role of Leadership in Project Management
DESCRIPTION:Are you ready to unlock the secrets of the evolving role of leadership in Project Management? Join us for an electrifying discussion as we delve into the changing landscape of project management leadership and answer burning questions that are reshaping the industry!
URL:https://innovationwomen.com/event/chapter-meeting-the-changing-role-of-leadership-in-project-management/
LOCATION:TransformGSO\, 111 Lewis St\, Greensboro\, NC\, United States
CATEGORIES:Register For Events
ATTACH;FMTTYPE=image/png:https://innovationwomen.com/wp-content/uploads/2023/11/wNovember2023.png
END:VEVENT
BEGIN:VEVENT
DTSTART;TZID=America/Chicago:20231116T080000
DTEND;TZID=America/Chicago:20231116T163000
DTSTAMP:20260426T003733
CREATED:20231115T222947Z
LAST-MODIFIED:20231115T222947Z
UID:31920-1700121600-1700152200@innovationwomen.com
SUMMARY:Pow(H)er 2023
DESCRIPTION:Join us for Pow(H)er – a conference for all who support\, believe in and champion the advancement of women.\nAn expansion of our Women-in-Business Luncheon\, Pow(H)er will offer guests (women and men) the opportunity to dive deeper into topics important to the advancement of women.
URL:https://innovationwomen.com/event/powher-2023/
LOCATION:Prairie Street Brewing Co\, 200 Prairie St\, Rockford\, IL\, United States
CATEGORIES:Register For Events
ATTACH;FMTTYPE=image/jpeg:https://innovationwomen.com/wp-content/uploads/2023/11/rockford-chamber.jpg
END:VEVENT
BEGIN:VEVENT
DTSTART;TZID=America/New_York:20231125T050000
DTEND;TZID=America/New_York:20231125T070000
DTSTAMP:20260426T003733
CREATED:20231115T224406Z
LAST-MODIFIED:20231115T224406Z
UID:31926-1700888400-1700895600@innovationwomen.com
SUMMARY:My Journey Into And Through Cybersecurity
DESCRIPTION:Join us for an intimate morning of unfiltered conversations with l women in cybersecurity. Discover their inspiring journeys into the field\, hear their success stories and challenges\, and gain valuable insights on how you too can break into and thrive in the cybersecurity industry. Don’t miss this opportunity to learn what it takes to make your mark in the world of cybersecurity!
URL:https://innovationwomen.com/event/my-journey-into-and-through-cybersecurity/
LOCATION:Online
CATEGORIES:Register For Events
ATTACH;FMTTYPE=image/png:https://innovationwomen.com/wp-content/uploads/2023/11/Zoom-Logo.png
END:VEVENT
END:VCALENDAR