BEGIN:VCALENDAR
VERSION:2.0
PRODID:-//Innovation Women - ECPv6.15.20//NONSGML v1.0//EN
CALSCALE:GREGORIAN
METHOD:PUBLISH
X-ORIGINAL-URL:https://innovationwomen.com
X-WR-CALDESC:Events for Innovation Women
REFRESH-INTERVAL;VALUE=DURATION:PT1H
X-Robots-Tag:noindex
X-PUBLISHED-TTL:PT1H
BEGIN:VTIMEZONE
TZID:UTC
BEGIN:STANDARD
TZOFFSETFROM:+0000
TZOFFSETTO:+0000
TZNAME:UTC
DTSTART:20240101T000000
END:STANDARD
END:VTIMEZONE
BEGIN:VTIMEZONE
TZID:America/New_York
BEGIN:DAYLIGHT
TZOFFSETFROM:-0500
TZOFFSETTO:-0400
TZNAME:EDT
DTSTART:20240310T070000
END:DAYLIGHT
BEGIN:STANDARD
TZOFFSETFROM:-0400
TZOFFSETTO:-0500
TZNAME:EST
DTSTART:20241103T060000
END:STANDARD
BEGIN:DAYLIGHT
TZOFFSETFROM:-0500
TZOFFSETTO:-0400
TZNAME:EDT
DTSTART:20250309T070000
END:DAYLIGHT
BEGIN:STANDARD
TZOFFSETFROM:-0400
TZOFFSETTO:-0500
TZNAME:EST
DTSTART:20251102T060000
END:STANDARD
BEGIN:DAYLIGHT
TZOFFSETFROM:-0500
TZOFFSETTO:-0400
TZNAME:EDT
DTSTART:20260308T070000
END:DAYLIGHT
BEGIN:STANDARD
TZOFFSETFROM:-0400
TZOFFSETTO:-0500
TZNAME:EST
DTSTART:20261101T060000
END:STANDARD
END:VTIMEZONE
BEGIN:VEVENT
DTSTART;VALUE=DATE:20250505
DTEND;VALUE=DATE:20250508
DTSTAMP:20260421T092524
CREATED:20250227T213032Z
LAST-MODIFIED:20250227T213032Z
UID:37153-1746403200-1746662399@innovationwomen.com
SUMMARY:NAWDP 41st Annual Conference
DESCRIPTION:This premier event stands as NAWDP’s most diverse and inclusive in-person gathering\, drawing thought leaders and professionals from across various workforce development organizations such as workforce boards\, community colleges\, private sector business\, vocational rehabilitation\, economic development\, community- and faith-based organizations\, and more. \nDiane Darling will be presenting “Mastering Effective Networking for Career Growth”.
URL:https://innovationwomen.com/event/nawdp-41st-annual-conference/
LOCATION:Virginia Beach Convention Center\, 1000 19th Street\, Virginia Beach\, VA\, United States
CATEGORIES:Register For Events
ATTACH;FMTTYPE=image/jpeg:https://innovationwomen.com/wp-content/uploads/2025/02/nawdp-2025.jpg
END:VEVENT
BEGIN:VEVENT
DTSTART;VALUE=DATE:20250505
DTEND;VALUE=DATE:20250510
DTSTAMP:20260421T092524
CREATED:20250312T212212Z
LAST-MODIFIED:20250312T212212Z
UID:37278-1746403200-1746835199@innovationwomen.com
SUMMARY:2025 Well-Being in Law Week
DESCRIPTION:Join Us May 5-9 for Start Your Day with NJLAP\, daily free webinars to support Lawyer Well-Being. \nNoreen Braman will be presenting “What’s Joy & Fear Got To Do With It?”
URL:https://innovationwomen.com/event/2025-well-being-in-law-week/
LOCATION:Online
CATEGORIES:Register For Events
ATTACH;FMTTYPE=image/png:https://innovationwomen.com/wp-content/uploads/2025/03/njlap.png
END:VEVENT
BEGIN:VEVENT
DTSTART;TZID=America/New_York:20250507T100000
DTEND;TZID=America/New_York:20250507T133000
DTSTAMP:20260421T092524
CREATED:20250502T204751Z
LAST-MODIFIED:20250502T204751Z
UID:37618-1746612000-1746624600@innovationwomen.com
SUMMARY:Mentor Me Intensive Mastermind
DESCRIPTION:Are you ready to elevate your communication skills\, align your team\, and take your business to the next level? The Mentor Me Intensive is designed for professionals who are serious about transforming their leadership\, business strategies\, and mindset. \nKim Groshek will be presenting “The Five Core Pillars of Dynamic Games: Integrity\, Action\, Ownership\, Communicate\, Mindful Pause”.
URL:https://innovationwomen.com/event/mentor-me-intensive-mastermind/
LOCATION:Online
CATEGORIES:Register For Events
ATTACH;FMTTYPE=image/png:https://innovationwomen.com/wp-content/uploads/2025/05/mentor-me.png
END:VEVENT
BEGIN:VEVENT
DTSTART;TZID=America/New_York:20250507T100000
DTEND;TZID=America/New_York:20250507T170000
DTSTAMP:20260421T092524
CREATED:20250416T220650Z
LAST-MODIFIED:20250416T220650Z
UID:37477-1746612000-1746637200@innovationwomen.com
SUMMARY:Small Business Expo - NYC
DESCRIPTION:The Expo features a series of interactive sessions\, panels\, and b2b marketing. Sessions addresses current market trends\, innovative strategies\, and practical solutions for overcoming business challenges. In addition to the tremendous networking opportunities\, the trade show will host diverse exhibitors. Our vendors showcase the latest products and services vital for building a growing small business. This small business networking event in NYC is a crucial nexus for knowledge exchange\, relationship building\, and strategic partnerships. The expo caters to the dynamic needs of the modern business landscape in New York and beyond. \nPrecious Williams will be presenting the keynote “From Shark Tank to the Perfect Pitch: Sell What They Want to Buy!”
URL:https://innovationwomen.com/event/small-business-expo-nyc/
LOCATION:Jacob Javits Convention Center\, 655 W 34th St\, New York\, NY\, United States
CATEGORIES:Register For Events
ATTACH;FMTTYPE=image/jpeg:https://innovationwomen.com/wp-content/uploads/2025/04/sbe.jpg
END:VEVENT
END:VCALENDAR