BEGIN:VCALENDAR
VERSION:2.0
PRODID:-//Innovation Women - ECPv6.15.20//NONSGML v1.0//EN
CALSCALE:GREGORIAN
METHOD:PUBLISH
X-WR-CALNAME:Innovation Women
X-ORIGINAL-URL:https://innovationwomen.com
X-WR-CALDESC:Events for Innovation Women
REFRESH-INTERVAL;VALUE=DURATION:PT1H
X-Robots-Tag:noindex
X-PUBLISHED-TTL:PT1H
BEGIN:VTIMEZONE
TZID:America/New_York
BEGIN:DAYLIGHT
TZOFFSETFROM:-0500
TZOFFSETTO:-0400
TZNAME:EDT
DTSTART:20240310T070000
END:DAYLIGHT
BEGIN:STANDARD
TZOFFSETFROM:-0400
TZOFFSETTO:-0500
TZNAME:EST
DTSTART:20241103T060000
END:STANDARD
BEGIN:DAYLIGHT
TZOFFSETFROM:-0500
TZOFFSETTO:-0400
TZNAME:EDT
DTSTART:20250309T070000
END:DAYLIGHT
BEGIN:STANDARD
TZOFFSETFROM:-0400
TZOFFSETTO:-0500
TZNAME:EST
DTSTART:20251102T060000
END:STANDARD
BEGIN:DAYLIGHT
TZOFFSETFROM:-0500
TZOFFSETTO:-0400
TZNAME:EDT
DTSTART:20260308T070000
END:DAYLIGHT
BEGIN:STANDARD
TZOFFSETFROM:-0400
TZOFFSETTO:-0500
TZNAME:EST
DTSTART:20261101T060000
END:STANDARD
END:VTIMEZONE
BEGIN:VEVENT
DTSTART;TZID=America/New_York:20250510T093000
DTEND;TZID=America/New_York:20250510T160000
DTSTAMP:20260421T194114
CREATED:20250403T212052Z
LAST-MODIFIED:20250403T212052Z
UID:37374-1746869400-1746892800@innovationwomen.com
SUMMARY:The 6th Annual Step-By-Step Women of Color Entrepreneurs Conference
DESCRIPTION:Join Us for the 6th Annual NYC Celebrates Women (NYCCW) Conference! This year\, we proudly honor Mompreneur and Women of Color Entrepreneurs who exemplify strength\, determination\, and innovation. For six years\, NYCCW has provided tools to help women grow\, connect\, and thrive. Our 2025 theme\, “Who to Bring to the Table will focus on the investment and those that we need to bring to our table to build sustainable businesses that will help us build generational wealth. \nPrecious Williams will be presenting “The 40 Year Plus Glow Up”.
URL:https://innovationwomen.com/event/the-6th-annual-step-by-step-women-of-color-entrepreneurs-conference/
LOCATION:Harmonie Club\, 4 East 60th Street\, New York\, NY\, United States
CATEGORIES:Register For Events
ATTACH;FMTTYPE=image/avif:https://innovationwomen.com/wp-content/uploads/2025/04/https___cdn.evbuc_.com_images_961904423_1220323402633_1_original.avif
END:VEVENT
END:VCALENDAR