BEGIN:VCALENDAR
VERSION:2.0
PRODID:-//Innovation Women - ECPv6.15.20//NONSGML v1.0//EN
CALSCALE:GREGORIAN
METHOD:PUBLISH
X-ORIGINAL-URL:https://innovationwomen.com
X-WR-CALDESC:Events for Innovation Women
REFRESH-INTERVAL;VALUE=DURATION:PT1H
X-Robots-Tag:noindex
X-PUBLISHED-TTL:PT1H
BEGIN:VTIMEZONE
TZID:UTC
BEGIN:STANDARD
TZOFFSETFROM:+0000
TZOFFSETTO:+0000
TZNAME:UTC
DTSTART:20240101T000000
END:STANDARD
END:VTIMEZONE
BEGIN:VTIMEZONE
TZID:America/New_York
BEGIN:DAYLIGHT
TZOFFSETFROM:-0500
TZOFFSETTO:-0400
TZNAME:EDT
DTSTART:20240310T070000
END:DAYLIGHT
BEGIN:STANDARD
TZOFFSETFROM:-0400
TZOFFSETTO:-0500
TZNAME:EST
DTSTART:20241103T060000
END:STANDARD
BEGIN:DAYLIGHT
TZOFFSETFROM:-0500
TZOFFSETTO:-0400
TZNAME:EDT
DTSTART:20250309T070000
END:DAYLIGHT
BEGIN:STANDARD
TZOFFSETFROM:-0400
TZOFFSETTO:-0500
TZNAME:EST
DTSTART:20251102T060000
END:STANDARD
BEGIN:DAYLIGHT
TZOFFSETFROM:-0500
TZOFFSETTO:-0400
TZNAME:EDT
DTSTART:20260308T070000
END:DAYLIGHT
BEGIN:STANDARD
TZOFFSETFROM:-0400
TZOFFSETTO:-0500
TZNAME:EST
DTSTART:20261101T060000
END:STANDARD
END:VTIMEZONE
BEGIN:VEVENT
DTSTART;VALUE=DATE:20250918
DTEND;VALUE=DATE:20250919
DTSTAMP:20260423T091532
CREATED:20250721T213358Z
LAST-MODIFIED:20250721T213358Z
UID:38139-1758153600-1758239999@innovationwomen.com
SUMMARY:The Operators
DESCRIPTION:The Vision: To empower Operators in their roles as executives of PE-backed portfolio companies\, by enabling them to find the answers they need (without feeling foolish)\, succeed in their value creation quests more easily and efficiently (by providing resources and content to enabling them to do so)\, gain enhanced peace of mind and contentment by making their jobs (if even only very slightly) easier\, and facilitate ways for them to find their next role more quickly and efficiently. \nNatasha Todorovic will be presenting “Operating Partner’s Secret Weapon: Change Readiness as a Value Creation Driver”.
URL:https://innovationwomen.com/event/the-operators/
LOCATION:Online
CATEGORIES:Register For Events
ATTACH;FMTTYPE=image/png:https://innovationwomen.com/wp-content/uploads/2025/07/The-Operators.png
END:VEVENT
BEGIN:VEVENT
DTSTART;TZID=America/New_York:20250918T143000
DTEND;TZID=America/New_York:20250918T163000
DTSTAMP:20260423T091532
CREATED:20250905T215110Z
LAST-MODIFIED:20250905T215110Z
UID:38551-1758205800-1758213000@innovationwomen.com
SUMMARY:The College of Staten Island Marketing Club
DESCRIPTION:The College of Staten Island’s very own Marketing Club\, where we hold meetings featuring guest speakers\, professionals\, staff\, and students. Come join us as we explore the world of business\, engage in trips\, and provide networking opportunities! \nAnne Ryan will be presenting “LinkedIn 101 Workshop: Stand Out & Get Hired”.
URL:https://innovationwomen.com/event/the-college-of-staten-island-marketing-club/
LOCATION:College of Staten Island\, 2800 Victory Blvd\, Staten Island\, NY\, United States
CATEGORIES:Register For Events
ATTACH;FMTTYPE=image/png:https://innovationwomen.com/wp-content/uploads/2025/09/CMASept2025Workshop.png
END:VEVENT
END:VCALENDAR