BEGIN:VCALENDAR
VERSION:2.0
PRODID:-//Innovation Women - ECPv6.15.20//NONSGML v1.0//EN
CALSCALE:GREGORIAN
METHOD:PUBLISH
X-ORIGINAL-URL:https://innovationwomen.com
X-WR-CALDESC:Events for Innovation Women
REFRESH-INTERVAL;VALUE=DURATION:PT1H
X-Robots-Tag:noindex
X-PUBLISHED-TTL:PT1H
BEGIN:VTIMEZONE
TZID:UTC
BEGIN:STANDARD
TZOFFSETFROM:+0000
TZOFFSETTO:+0000
TZNAME:UTC
DTSTART:20230101T000000
END:STANDARD
END:VTIMEZONE
BEGIN:VEVENT
DTSTART;VALUE=DATE:20240424
DTEND;VALUE=DATE:20240427
DTSTAMP:20260426T003942
CREATED:20240209T212240Z
LAST-MODIFIED:20240209T212240Z
UID:33374-1713916800-1714175999@innovationwomen.com
SUMMARY:Human Resource Executive® Conference: Elevate People\, Ignite Change 2024
DESCRIPTION:Get ready to ignite positive change in your organization with innovative and transformative ways to positively influence your people strategies that go beyond best practices at the new Human Resource Executive® Conference: Elevate People\, Ignite Change 2024 or EPIC 2024!
URL:https://innovationwomen.com/event/human-resource-executive-conference-elevate-people-ignite-change-2024/
LOCATION:Bellagio Hotel\, 3600 S Las Vegas Blvd\, Las Vegas\, NV\, United States
CATEGORIES:Register For Events
ATTACH;FMTTYPE=image/jpeg:https://innovationwomen.com/wp-content/uploads/2024/02/epic.jpg
END:VEVENT
BEGIN:VEVENT
DTSTART;VALUE=DATE:20240425
DTEND;VALUE=DATE:20240427
DTSTAMP:20260426T003942
CREATED:20240410T214753Z
LAST-MODIFIED:20240410T214753Z
UID:33992-1714003200-1714175999@innovationwomen.com
SUMMARY:Day of Shecurity
DESCRIPTION:We need more gender diversity in the cybersecurity space. \n“While the number of professionals in the industry grew by more than 700\,000 in 2020\, women still only represent approximately 25% of the cybersecurity workforce.” Now is the time to change the status quo by advocating for more women to consider cybersecurity as a possible career path. \nContribute to the cause\, share your knowledge\, build a community\, and learn from other incredible women and non-binary people in cybersecurity.
URL:https://innovationwomen.com/event/day-of-shecurity-4/
LOCATION:Reddit HQ\, 303 2nd Street\, San Francisco\, CA\, United States
CATEGORIES:Register For Events
ATTACH;FMTTYPE=image/jpeg:https://innovationwomen.com/wp-content/uploads/2022/10/day-of-shecurity-logo.jpg
END:VEVENT
BEGIN:VEVENT
DTSTART;VALUE=DATE:20240426
DTEND;VALUE=DATE:20240427
DTSTAMP:20260426T003942
CREATED:20240321T002310Z
LAST-MODIFIED:20240321T002310Z
UID:33763-1714089600-1714175999@innovationwomen.com
SUMMARY:TEDxUCSB
DESCRIPTION:In the spirit of ideas worth spreading\, TEDx is a program of local\, self-organized events that bring people together to share a TED-like experience. At a TEDx event\, TEDTalks video and live speakers combine to spark deep discussion and connection in a small group. These local\, self-organized events are branded TEDx\, where x = independently organized TED event. The TED Conference provides general guidance for the TEDx program\, but individual TEDx events are self-organized (subject to certain rules and regulations).
URL:https://innovationwomen.com/event/tedxucsb/
LOCATION:University of California Santa Barbara\, 1210 Cheadle Hall\, Santa Barbara\, CA\, United States
CATEGORIES:Register For Events
ATTACH;FMTTYPE=image/png:https://innovationwomen.com/wp-content/uploads/2024/03/tedx-ucsb.png
END:VEVENT
BEGIN:VEVENT
DTSTART;VALUE=DATE:20240426
DTEND;VALUE=DATE:20240428
DTSTAMP:20260426T003942
CREATED:20240315T224530Z
LAST-MODIFIED:20240315T224530Z
UID:33745-1714089600-1714262399@innovationwomen.com
SUMMARY:The Empowered Women in Wellness conference
DESCRIPTION:Women are working harder burning out in ways never imagined. Self-care\, health and wellness are some of the most critical aspects of our lives and studies show that we are failing ourselves. \nThe Empowered Women in Wellness conference will provide a platform that will allow you to focus inward\, on your physical\, mental\, and emotional self. Every session is designed to bring positive awareness to help you understand the concepts and importance of self-care\, mental health\, movement\, money\, nutrition\, and relationships.
URL:https://innovationwomen.com/event/the-empowered-women-in-wellness-conference-2/
LOCATION:The Rock Church of Temecula\, 38860 Sky Canyon Rd\, Murrieta\, CA\, United States
CATEGORIES:Register For Events
ATTACH;FMTTYPE=image/png:https://innovationwomen.com/wp-content/uploads/2023/03/empowered-women-in-wellness.png
END:VEVENT
BEGIN:VEVENT
DTSTART;VALUE=DATE:20240426
DTEND;VALUE=DATE:20240429
DTSTAMP:20260426T003942
CREATED:20240313T212153Z
LAST-MODIFIED:20240313T212153Z
UID:33667-1714089600-1714348799@innovationwomen.com
SUMMARY:DKG Michigan Spring Convention
DESCRIPTION:The Delta Kappa Gamma Society International promotes professional and personal growth of women educators and excellence in education.
URL:https://innovationwomen.com/event/dkg-michigan-spring-convention/
LOCATION:DoubleTree by Hilton Bay City Riverfront\, One Wenonah Park Place\, Bay City\, MI\, United States
CATEGORIES:Register For Events
ATTACH;FMTTYPE=image/png:https://innovationwomen.com/wp-content/uploads/2024/03/delta-kappa-gamma.png
END:VEVENT
BEGIN:VEVENT
DTSTART;VALUE=DATE:20240426
DTEND;VALUE=DATE:20240430
DTSTAMP:20260426T003942
CREATED:20240409T201508Z
LAST-MODIFIED:20240409T201737Z
UID:33936-1714089600-1714435199@innovationwomen.com
SUMMARY:AAOE 2024 Annual Conference
DESCRIPTION:Join hundreds of your peers in orthopedic practice management in Chicago\, April 26 – April 29\, 2024 for the 2024 AAOE Annual Conference. The AAOE Annual Conference is hosted by the American Alliance of Orthopaedic Executives (AAOE)\, an organization dedicated to providing education and resources to administrators and the staff of orthopedic practices and other musculoskeletal groups. \nDr. Roberta “Bobby” Pellant presents “Mastering Executive Communication: Addressing the Top Challenges” and “Navigating The Nonlinear Road to Success”
URL:https://innovationwomen.com/event/aaoe-2024-annual-conference/
LOCATION:Hyatt Regency Chicago\, 151 East Wacker Dr.\, Chicago\, IL\, United States
CATEGORIES:Register For Events
ATTACH;FMTTYPE=image/png:https://innovationwomen.com/wp-content/uploads/2024/04/aaoe-2024.png
END:VEVENT
END:VCALENDAR