BEGIN:VCALENDAR
VERSION:2.0
PRODID:-//Innovation Women - ECPv6.15.20//NONSGML v1.0//EN
CALSCALE:GREGORIAN
METHOD:PUBLISH
X-WR-CALNAME:Innovation Women
X-ORIGINAL-URL:https://innovationwomen.com
X-WR-CALDESC:Events for Innovation Women
REFRESH-INTERVAL;VALUE=DURATION:PT1H
X-Robots-Tag:noindex
X-PUBLISHED-TTL:PT1H
BEGIN:VTIMEZONE
TZID:UTC
BEGIN:STANDARD
TZOFFSETFROM:+0000
TZOFFSETTO:+0000
TZNAME:UTC
DTSTART:20240101T000000
END:STANDARD
END:VTIMEZONE
BEGIN:VEVENT
DTSTART;VALUE=DATE:20251009
DTEND;VALUE=DATE:20251011
DTSTAMP:20260419T230349
CREATED:20250811T213947Z
LAST-MODIFIED:20250811T213947Z
UID:38365-1759968000-1760140799@innovationwomen.com
SUMMARY:Michigan AfterSchool Association Fall Conference
DESCRIPTION:Michigan AfterSchool Association (MAA) is the Michigan State Affiliate of the National AfterSchool Association. NAA and its State Affiliates share a mutual purpose and agreement to support\, develop\, and advocate for Out-of-School Time professionals and the profession. NAA and its State Affiliates build connectivity among stakeholders and create opportunities for engagement to ensure a vibrant future for the Out-of-School Time profession. \nRasheda Williams will be presenting “Get Noticed: 21st Century Tools to Elevate Your Impact and Become An Award-Winning Program”.
URL:https://innovationwomen.com/event/michigan-afterschool-association-fall-conference/
LOCATION:Radisson Plaza Hotel & Suites Kalamazoo\, 100 W Michigan Ave\, Kalamazoo\, MI\, United States
CATEGORIES:Register For Events
ATTACH;FMTTYPE=image/png:https://innovationwomen.com/wp-content/uploads/2025/08/Conference-registration-2025-purple-1-1024x1024-1.png
END:VEVENT
END:VCALENDAR