BEGIN:VCALENDAR
VERSION:2.0
PRODID:-//Innovation Women - ECPv6.15.20//NONSGML v1.0//EN
CALSCALE:GREGORIAN
METHOD:PUBLISH
X-WR-CALNAME:Innovation Women
X-ORIGINAL-URL:https://innovationwomen.com
X-WR-CALDESC:Events for Innovation Women
REFRESH-INTERVAL;VALUE=DURATION:PT1H
X-Robots-Tag:noindex
X-PUBLISHED-TTL:PT1H
BEGIN:VTIMEZONE
TZID:UTC
BEGIN:STANDARD
TZOFFSETFROM:+0000
TZOFFSETTO:+0000
TZNAME:UTC
DTSTART:20240101T000000
END:STANDARD
END:VTIMEZONE
BEGIN:VEVENT
DTSTART;VALUE=DATE:20250224
DTEND;VALUE=DATE:20250227
DTSTAMP:20260422T091535
CREATED:20250128T221310Z
LAST-MODIFIED:20250128T221310Z
UID:36958-1740355200-1740614399@innovationwomen.com
SUMMARY:Head Start California Annual Conference - Make Your Mark
DESCRIPTION:The Head Start California Annual Conference is designed to empower you and your program with the essential tools and strategies needed to not only survive but thrive in the face of challenges. This year\, we’re excited to rally around the theme\, “Make Your Mark”\, which encourages each participant to leave a lasting\, positive impact on the communities they serve. \nJamee Damron-Larsen will be presenting “Significant Struggle: Strategic Ways to Gain From Grief”.
URL:https://innovationwomen.com/event/head-start-california-annual-conference-make-your-mark/
LOCATION:Westin San Francisco Airport\, 1 Old Bayshore Highway\, Millbrae\, CA\, United States
CATEGORIES:Register For Events
ATTACH;FMTTYPE=image/jpeg:https://innovationwomen.com/wp-content/uploads/2025/01/head-start-ca-2025.jpg
END:VEVENT
END:VCALENDAR