BEGIN:VCALENDAR
VERSION:2.0
PRODID:-//Innovation Women - ECPv6.15.20//NONSGML v1.0//EN
CALSCALE:GREGORIAN
METHOD:PUBLISH
X-WR-CALNAME:Innovation Women
X-ORIGINAL-URL:https://innovationwomen.com
X-WR-CALDESC:Events for Innovation Women
REFRESH-INTERVAL;VALUE=DURATION:PT1H
X-Robots-Tag:noindex
X-PUBLISHED-TTL:PT1H
BEGIN:VTIMEZONE
TZID:America/Los_Angeles
BEGIN:DAYLIGHT
TZOFFSETFROM:-0800
TZOFFSETTO:-0700
TZNAME:PDT
DTSTART:20230312T100000
END:DAYLIGHT
BEGIN:STANDARD
TZOFFSETFROM:-0700
TZOFFSETTO:-0800
TZNAME:PST
DTSTART:20231105T090000
END:STANDARD
BEGIN:DAYLIGHT
TZOFFSETFROM:-0800
TZOFFSETTO:-0700
TZNAME:PDT
DTSTART:20240310T100000
END:DAYLIGHT
BEGIN:STANDARD
TZOFFSETFROM:-0700
TZOFFSETTO:-0800
TZNAME:PST
DTSTART:20241103T090000
END:STANDARD
BEGIN:DAYLIGHT
TZOFFSETFROM:-0800
TZOFFSETTO:-0700
TZNAME:PDT
DTSTART:20250309T100000
END:DAYLIGHT
BEGIN:STANDARD
TZOFFSETFROM:-0700
TZOFFSETTO:-0800
TZNAME:PST
DTSTART:20251102T090000
END:STANDARD
END:VTIMEZONE
BEGIN:VTIMEZONE
TZID:America/New_York
BEGIN:DAYLIGHT
TZOFFSETFROM:-0500
TZOFFSETTO:-0400
TZNAME:EDT
DTSTART:20230312T070000
END:DAYLIGHT
BEGIN:STANDARD
TZOFFSETFROM:-0400
TZOFFSETTO:-0500
TZNAME:EST
DTSTART:20231105T060000
END:STANDARD
BEGIN:DAYLIGHT
TZOFFSETFROM:-0500
TZOFFSETTO:-0400
TZNAME:EDT
DTSTART:20240310T070000
END:DAYLIGHT
BEGIN:STANDARD
TZOFFSETFROM:-0400
TZOFFSETTO:-0500
TZNAME:EST
DTSTART:20241103T060000
END:STANDARD
BEGIN:DAYLIGHT
TZOFFSETFROM:-0500
TZOFFSETTO:-0400
TZNAME:EDT
DTSTART:20250309T070000
END:DAYLIGHT
BEGIN:STANDARD
TZOFFSETFROM:-0400
TZOFFSETTO:-0500
TZNAME:EST
DTSTART:20251102T060000
END:STANDARD
END:VTIMEZONE
BEGIN:VEVENT
DTSTART;TZID=America/Los_Angeles:20240125T120000
DTEND;TZID=America/Los_Angeles:20240125T130000
DTSTAMP:20260420T225115
CREATED:20240112T224526Z
LAST-MODIFIED:20240112T224526Z
UID:33044-1706184000-1706187600@innovationwomen.com
SUMMARY:Lunch ‘N Learn: Setting 2024 Writing Goals that Set You Up for Success
DESCRIPTION:Whether you are an author trying to figure out what to do with your draft\, a blogger trying to showcase your expertise\, or a veteran writer pondering what’s next\, the D*E*B METHOD® is the roadmap you need to figure out what you want and how to get it. D*E*B stands for Determine Your Mission\, Explore Your Options\, Brainstorm Your Path. \nDuring this session\, you will formulate a mission statement and motto\, set short and long-term goals — personal\, professional\, and/or writing goals — prioritize and create a plan to set yourself up for success. This workshop is interactive\, so there will be opportunities to meet your writing peers\, as well as find solutions and support.
URL:https://innovationwomen.com/event/lunch-n-learn-setting-2024-writing-goals-that-set-you-up-for-success/
LOCATION:Online
CATEGORIES:Register For Events
ATTACH;FMTTYPE=image/jpeg:https://innovationwomen.com/wp-content/uploads/2023/08/WNBA-SF-Chapter-Banner.jpg
END:VEVENT
BEGIN:VEVENT
DTSTART;TZID=America/New_York:20240125T183000
DTEND;TZID=America/New_York:20240125T203000
DTSTAMP:20260420T225115
CREATED:20240109T211224Z
LAST-MODIFIED:20240109T211224Z
UID:32978-1706207400-1706214600@innovationwomen.com
SUMMARY:Your Work\, Your Way: Embracing the New World of Work
DESCRIPTION:Embracing the shift to a new way of work means that project management professionals must reinvent themselves to compete in a new global marketplace. \nWalk away from this presentation understanding the shift in the world of work and the new independent worker business model. Be positioned to evaluate your project management career strategy\, determine what you need to learn\, and adapt to the changes. Recommended helpful resources are provided.
URL:https://innovationwomen.com/event/your-work-your-way-embracing-the-new-world-of-work/
LOCATION:Online
CATEGORIES:Register For Events
ATTACH;FMTTYPE=image/png:https://innovationwomen.com/wp-content/uploads/2024/01/project-management-institute-delaware.png
END:VEVENT
END:VCALENDAR