BEGIN:VCALENDAR
VERSION:2.0
PRODID:-//Innovation Women - ECPv6.15.20//NONSGML v1.0//EN
CALSCALE:GREGORIAN
METHOD:PUBLISH
X-ORIGINAL-URL:https://innovationwomen.com
X-WR-CALDESC:Events for Innovation Women
REFRESH-INTERVAL;VALUE=DURATION:PT1H
X-Robots-Tag:noindex
X-PUBLISHED-TTL:PT1H
BEGIN:VTIMEZONE
TZID:America/New_York
BEGIN:DAYLIGHT
TZOFFSETFROM:-0500
TZOFFSETTO:-0400
TZNAME:EDT
DTSTART:20230312T070000
END:DAYLIGHT
BEGIN:STANDARD
TZOFFSETFROM:-0400
TZOFFSETTO:-0500
TZNAME:EST
DTSTART:20231105T060000
END:STANDARD
BEGIN:DAYLIGHT
TZOFFSETFROM:-0500
TZOFFSETTO:-0400
TZNAME:EDT
DTSTART:20240310T070000
END:DAYLIGHT
BEGIN:STANDARD
TZOFFSETFROM:-0400
TZOFFSETTO:-0500
TZNAME:EST
DTSTART:20241103T060000
END:STANDARD
BEGIN:DAYLIGHT
TZOFFSETFROM:-0500
TZOFFSETTO:-0400
TZNAME:EDT
DTSTART:20250309T070000
END:DAYLIGHT
BEGIN:STANDARD
TZOFFSETFROM:-0400
TZOFFSETTO:-0500
TZNAME:EST
DTSTART:20251102T060000
END:STANDARD
END:VTIMEZONE
BEGIN:VEVENT
DTSTART;TZID=America/New_York:20240222T120000
DTEND;TZID=America/New_York:20240222T140000
DTSTAMP:20260422T115448
CREATED:20240216T231205Z
LAST-MODIFIED:20240216T231205Z
UID:33449-1708603200-1708610400@innovationwomen.com
SUMMARY:WE Master Leadership Conference: Revolutionize Your Business Growth Day 2
DESCRIPTION:Come join us online for our Spring conference Day 2! This event will spotlight the significance of diversity in entrepreneurship\, particularly in honor of Black History Month. Get insights from Jesscia Spaulding Founder & CEO\, Harlem Chocolate Factory\, our keynote speaker\, a informative reserarch session with Geri Stengel President\, Ventureneer\, and a panel featuring WE NYC mentors and clients. They’ll share firsthand experiences of how embracing diversity in entrepreneurship has fueled their business growth in NYC.
URL:https://innovationwomen.com/event/we-master-leadership-conference-revolutionize-your-business-growth-day-2/
LOCATION:Online
CATEGORIES:Register For Events
ATTACH;FMTTYPE=image/jpeg:https://innovationwomen.com/wp-content/uploads/2024/02/https___cdn.evbuc_.com_images_680213519_102568559997_1_original.jpg
END:VEVENT
END:VCALENDAR