BEGIN:VCALENDAR
VERSION:2.0
PRODID:-//Innovation Women - ECPv6.15.20//NONSGML v1.0//EN
CALSCALE:GREGORIAN
METHOD:PUBLISH
X-ORIGINAL-URL:https://innovationwomen.com
X-WR-CALDESC:Events for Innovation Women
REFRESH-INTERVAL;VALUE=DURATION:PT1H
X-Robots-Tag:noindex
X-PUBLISHED-TTL:PT1H
BEGIN:VTIMEZONE
TZID:UTC
BEGIN:STANDARD
TZOFFSETFROM:+0000
TZOFFSETTO:+0000
TZNAME:UTC
DTSTART:20230101T000000
END:STANDARD
END:VTIMEZONE
BEGIN:VTIMEZONE
TZID:America/Chicago
BEGIN:DAYLIGHT
TZOFFSETFROM:-0600
TZOFFSETTO:-0500
TZNAME:CDT
DTSTART:20230312T080000
END:DAYLIGHT
BEGIN:STANDARD
TZOFFSETFROM:-0500
TZOFFSETTO:-0600
TZNAME:CST
DTSTART:20231105T070000
END:STANDARD
BEGIN:DAYLIGHT
TZOFFSETFROM:-0600
TZOFFSETTO:-0500
TZNAME:CDT
DTSTART:20240310T080000
END:DAYLIGHT
BEGIN:STANDARD
TZOFFSETFROM:-0500
TZOFFSETTO:-0600
TZNAME:CST
DTSTART:20241103T070000
END:STANDARD
BEGIN:DAYLIGHT
TZOFFSETFROM:-0600
TZOFFSETTO:-0500
TZNAME:CDT
DTSTART:20250309T080000
END:DAYLIGHT
BEGIN:STANDARD
TZOFFSETFROM:-0500
TZOFFSETTO:-0600
TZNAME:CST
DTSTART:20251102T070000
END:STANDARD
END:VTIMEZONE
BEGIN:VEVENT
DTSTART;VALUE=DATE:20240804
DTEND;VALUE=DATE:20240809
DTSTAMP:20260419T232406
CREATED:20240724T195750Z
LAST-MODIFIED:20240724T201043Z
UID:35434-1722729600-1723161599@innovationwomen.com
SUMMARY:Revitalize Summit 2024
DESCRIPTION:• Connect with top-performing corporate leaders who want to uplevel their businesses.\n• Over $200\,000 of exclusive content\, resources\, and tools designed to help you succeed.\n• Hear powerful stories of success and perseverance to ignite your passion and drive.\n• An exclusive opportunity to engage with elite peers and to grow personally and professionally. \nLauren Dreher will be presenting “Fear is a Good Thing”.
URL:https://innovationwomen.com/event/revitalize-summit-2024/
LOCATION:Online
CATEGORIES:Register For Events
ATTACH;FMTTYPE=image/png:https://innovationwomen.com/wp-content/uploads/2024/07/revitalize-summit.png
END:VEVENT
BEGIN:VEVENT
DTSTART;VALUE=DATE:20240804
DTEND;VALUE=DATE:20240810
DTSTAMP:20260419T232406
CREATED:20240805T205030Z
LAST-MODIFIED:20240805T205907Z
UID:35639-1722729600-1723247999@innovationwomen.com
SUMMARY:Revitalize Global Summit
DESCRIPTION:This is your chance to grow\, be surrounded by some of the world’s most accomplished leaders\, and discover your dynamic potential. This is your chance. Join us\, and let’s make this journey together. \nWendy Rimmelspacher will be presenting “Reignite Leadership Passion NOW – Just Say YES”.
URL:https://innovationwomen.com/event/revitalize-global-summit/
LOCATION:Online
CATEGORIES:Register For Events
ATTACH;FMTTYPE=image/png:https://innovationwomen.com/wp-content/uploads/2024/08/revitalize-global.png
END:VEVENT
BEGIN:VEVENT
DTSTART;VALUE=DATE:20240808
DTEND;VALUE=DATE:20240811
DTSTAMP:20260419T232406
CREATED:20240807T205107Z
LAST-MODIFIED:20240807T205107Z
UID:35658-1723075200-1723334399@innovationwomen.com
SUMMARY:American Psychological Association 2024
DESCRIPTION:From inspiring headline events to illuminating symposia and more\, the biggest conversations in psychology are happening on the Main and Feature Stages at APA 2024. \nJerri Lynn Hogg will be presenting “AI in Practice and Daily Life”.
URL:https://innovationwomen.com/event/american-psychological-association-2024/
LOCATION:Seattle Convention Center\, 705 Pike St\, Seattle\, WA\, United States
CATEGORIES:Register For Events
ATTACH;FMTTYPE=image/webp:https://innovationwomen.com/wp-content/uploads/2024/08/apa-2024.webp
END:VEVENT
BEGIN:VEVENT
DTSTART;TZID=America/Chicago:20240808T063000
DTEND;TZID=America/Chicago:20240808T090000
DTSTAMP:20260419T232406
CREATED:20240805T205759Z
LAST-MODIFIED:20240805T205759Z
UID:35641-1723098600-1723107600@innovationwomen.com
SUMMARY:Omaha emPower Breakfast
DESCRIPTION:The OMAHA EMPOWER BREAKFAST is a down-to-earth\, convenient way for small business owners and operators to network with each other and connect with larger businesses and agencies in the community. \nNora Plambeck will be presenting “Every Mind Matters\, Creating Workplaces and Communities Where Every Person Thrives”.
URL:https://innovationwomen.com/event/omaha-empower-breakfast/
LOCATION:emPower Breakfast Center\, 3717 S 120th St\, Omaha\, NE\, United States
CATEGORIES:Register For Events
ATTACH;FMTTYPE=image/png:https://innovationwomen.com/wp-content/uploads/2024/08/Omaha-Logo-259.png
END:VEVENT
END:VCALENDAR