BEGIN:VCALENDAR
VERSION:2.0
PRODID:-//Innovation Women - ECPv6.15.20//NONSGML v1.0//EN
CALSCALE:GREGORIAN
METHOD:PUBLISH
X-WR-CALNAME:Innovation Women
X-ORIGINAL-URL:https://innovationwomen.com
X-WR-CALDESC:Events for Innovation Women
REFRESH-INTERVAL;VALUE=DURATION:PT1H
X-Robots-Tag:noindex
X-PUBLISHED-TTL:PT1H
BEGIN:VTIMEZONE
TZID:UTC
BEGIN:STANDARD
TZOFFSETFROM:+0000
TZOFFSETTO:+0000
TZNAME:UTC
DTSTART:20230101T000000
END:STANDARD
END:VTIMEZONE
BEGIN:VTIMEZONE
TZID:America/Chicago
BEGIN:DAYLIGHT
TZOFFSETFROM:-0600
TZOFFSETTO:-0500
TZNAME:CDT
DTSTART:20230312T080000
END:DAYLIGHT
BEGIN:STANDARD
TZOFFSETFROM:-0500
TZOFFSETTO:-0600
TZNAME:CST
DTSTART:20231105T070000
END:STANDARD
BEGIN:DAYLIGHT
TZOFFSETFROM:-0600
TZOFFSETTO:-0500
TZNAME:CDT
DTSTART:20240310T080000
END:DAYLIGHT
BEGIN:STANDARD
TZOFFSETFROM:-0500
TZOFFSETTO:-0600
TZNAME:CST
DTSTART:20241103T070000
END:STANDARD
BEGIN:DAYLIGHT
TZOFFSETFROM:-0600
TZOFFSETTO:-0500
TZNAME:CDT
DTSTART:20250309T080000
END:DAYLIGHT
BEGIN:STANDARD
TZOFFSETFROM:-0500
TZOFFSETTO:-0600
TZNAME:CST
DTSTART:20251102T070000
END:STANDARD
END:VTIMEZONE
BEGIN:VEVENT
DTSTART;VALUE=DATE:20240821
DTEND;VALUE=DATE:20240824
DTSTAMP:20260419T232315
CREATED:20240621T202015Z
LAST-MODIFIED:20240621T202015Z
UID:35210-1724198400-1724457599@innovationwomen.com
SUMMARY:HUB24
DESCRIPTION:Engage with industry leaders to go beyond numbers and metrics to truly understand patients and employees alike. \nStrategize with like-minded professionals to improve outcomes and build loyalty among consumers and the broader community. \nLearn from the best minds in healthcare to inspire care teams\, develop a culture of excellence\, and achieve outstanding results. \nKatelyn Carey will be presenting “The Science of Compassion- using cognitive and trauma science to improve patient care and communication” at HUB 2024- Human Understanding Beyond
URL:https://innovationwomen.com/event/hub24/
LOCATION:Sheraton San Diego Hotel & Marina\, 1380 Harbor Island Drive\, San Diego\, CA\, United States
ATTACH;FMTTYPE=image/jpeg:https://innovationwomen.com/wp-content/uploads/2024/06/hub24.jpg
END:VEVENT
BEGIN:VEVENT
DTSTART;TZID=America/Chicago:20240823T083000
DTEND;TZID=America/Chicago:20240823T183000
DTSTAMP:20260419T232315
CREATED:20240717T205752Z
LAST-MODIFIED:20240717T205752Z
UID:35400-1724401800-1724437800@innovationwomen.com
SUMMARY:Dream to Lead: The Art of Thriving Leadership
DESCRIPTION:Embark on a transformative journey at the Dream to Lead conference\, a premier event where visionary thinking meets actionable strategy in the vibrant realm of leadership development. Set against the backdrop of inspiring keynote speeches and dynamic discussions\, this conference is not just a gathering—it’s a launchpad for your leadership transformation. \nMeshell Baker will be presenting “Igniting Resilient Unshakeable Leadership”.
URL:https://innovationwomen.com/event/dream-to-lead-the-art-of-thriving-leadership/
LOCATION:Hotel Indigo Frisco\, 2985 Avenue of the Stars\, Frisco\, TX\, United States
CATEGORIES:Register For Events
ATTACH;FMTTYPE=image/jpeg:https://innovationwomen.com/wp-content/uploads/2024/07/dream-to-lead.jpg
END:VEVENT
END:VCALENDAR