BEGIN:VCALENDAR
VERSION:2.0
PRODID:-//Innovation Women - ECPv6.15.20//NONSGML v1.0//EN
CALSCALE:GREGORIAN
METHOD:PUBLISH
X-ORIGINAL-URL:https://innovationwomen.com
X-WR-CALDESC:Events for Innovation Women
REFRESH-INTERVAL;VALUE=DURATION:PT1H
X-Robots-Tag:noindex
X-PUBLISHED-TTL:PT1H
BEGIN:VTIMEZONE
TZID:UTC
BEGIN:STANDARD
TZOFFSETFROM:+0000
TZOFFSETTO:+0000
TZNAME:UTC
DTSTART:20240101T000000
END:STANDARD
END:VTIMEZONE
BEGIN:VTIMEZONE
TZID:America/New_York
BEGIN:DAYLIGHT
TZOFFSETFROM:-0500
TZOFFSETTO:-0400
TZNAME:EDT
DTSTART:20240310T070000
END:DAYLIGHT
BEGIN:STANDARD
TZOFFSETFROM:-0400
TZOFFSETTO:-0500
TZNAME:EST
DTSTART:20241103T060000
END:STANDARD
BEGIN:DAYLIGHT
TZOFFSETFROM:-0500
TZOFFSETTO:-0400
TZNAME:EDT
DTSTART:20250309T070000
END:DAYLIGHT
BEGIN:STANDARD
TZOFFSETFROM:-0400
TZOFFSETTO:-0500
TZNAME:EST
DTSTART:20251102T060000
END:STANDARD
BEGIN:DAYLIGHT
TZOFFSETFROM:-0500
TZOFFSETTO:-0400
TZNAME:EDT
DTSTART:20260308T070000
END:DAYLIGHT
BEGIN:STANDARD
TZOFFSETFROM:-0400
TZOFFSETTO:-0500
TZNAME:EST
DTSTART:20261101T060000
END:STANDARD
END:VTIMEZONE
BEGIN:VEVENT
DTSTART;VALUE=DATE:20250519
DTEND;VALUE=DATE:20250525
DTSTAMP:20260421T213905
CREATED:20250411T213814Z
LAST-MODIFIED:20250411T213814Z
UID:37425-1747612800-1748131199@innovationwomen.com
SUMMARY:The International Women’s Brass Conference
DESCRIPTION:The 2025 Conference will bring together everything you love about an International Women’s Brass Conference from the inclusive atmosphere\, incredible performances\, enriching presentations\, and competitions for all with new and exciting events highlighting the talent of rising student stars in the brass world and celebrating the rich history of musicianship in this area of the country. \nDr. Robin Buckley will be presenting “Brain Boost: Harnessing the power of neuroscience for optimal performance”.
URL:https://innovationwomen.com/event/the-international-womens-brass-conference/
LOCATION:The Hartt School\, 200 Bloomfield Ave\, West Hartford\, United States
CATEGORIES:Register For Events
ATTACH;FMTTYPE=image/png:https://innovationwomen.com/wp-content/uploads/2025/04/Hartt-2025-Logo-Draft_2-1024x791-1.png
END:VEVENT
BEGIN:VEVENT
DTSTART;VALUE=DATE:20250520
DTEND;VALUE=DATE:20250523
DTSTAMP:20260421T213905
CREATED:20250408T214010Z
LAST-MODIFIED:20250408T214010Z
UID:37406-1747699200-1747958399@innovationwomen.com
SUMMARY:Women In Tech Global Conference
DESCRIPTION:​​​​​​The virtual-first conference will bring women in tech\, minorities and allies from all over the world together through an interactive platform featuring live educational & training content\, keynotes\, engaging panels\, breakout rooms\, technical workshops\, and networking with virtual and in-person sessions. \nIkram Guerd will be presenting “She Believed She Could\, so She Did”.
URL:https://innovationwomen.com/event/women-in-tech-global-conference-5/
LOCATION:Online
CATEGORIES:Register For Events
ATTACH;FMTTYPE=image/png:https://innovationwomen.com/wp-content/uploads/2022/04/Women-Tech-Conference-Logo-1.png
END:VEVENT
BEGIN:VEVENT
DTSTART;VALUE=DATE:20250520
DTEND;VALUE=DATE:20250523
DTSTAMP:20260421T213905
CREATED:20250422T195950Z
LAST-MODIFIED:20250422T195950Z
UID:37543-1747699200-1747958399@innovationwomen.com
SUMMARY:2025 Wyoming Nonprofit Conference
DESCRIPTION:This conference offers a dynamic range of sessions designed to equip nonprofit professionals with practical tools and strategies to strengthen their organizations. Sessions will cover board effectiveness\, measurable marketing\, fundraising\, workforce development\, collaborative leadership\, engaging the next generation of nonprofit leaders\, long-term sustainability\, and more. \nCaitlin Donovan will be presenting “Dismantling Burnout: Empowering Leaders and Teams to Overcome Burnout Together”.
URL:https://innovationwomen.com/event/2025-wyoming-nonprofit-conference/
LOCATION:Little America Hotel\, 6945 WY-374\, Little America\, WY\, United States
CATEGORIES:Register For Events
ATTACH;FMTTYPE=image/png:https://innovationwomen.com/wp-content/uploads/2025/04/wyoming-nonprofit.png
END:VEVENT
BEGIN:VEVENT
DTSTART;VALUE=DATE:20250520
DTEND;VALUE=DATE:20250523
DTSTAMP:20260421T213905
CREATED:20250513T200056Z
LAST-MODIFIED:20250513T200056Z
UID:37670-1747699200-1747958399@innovationwomen.com
SUMMARY:WomenTech Global Conference
DESCRIPTION:The virtual-first conference will bring women in tech\, minorities and allies from all over the world together through an interactive platform featuring live educational & training content\, keynotes\, engaging panels\, breakout rooms\, technical workshops\, and networking with virtual and in-person sessions. \nKim Groshek will be presenting “Balancing Act: Navigating Burnout\, Leading by Example\, and Sustaining Success”.
URL:https://innovationwomen.com/event/womentech-global-conference-3/
LOCATION:Online
CATEGORIES:Register For Events
ATTACH;FMTTYPE=image/png:https://innovationwomen.com/wp-content/uploads/2022/04/Women-Tech-Conference-Logo-1.png
END:VEVENT
BEGIN:VEVENT
DTSTART;VALUE=DATE:20250521
DTEND;VALUE=DATE:20250524
DTSTAMP:20260421T213905
CREATED:20250430T214006Z
LAST-MODIFIED:20250430T214006Z
UID:37593-1747785600-1748044799@innovationwomen.com
SUMMARY:Global Economic Diversification Summit - 2025
DESCRIPTION:Discover the future of global prosperity at the Economic Diversification Summit. Engage with world-class experts\, policymakers\, and innovators driving the transition towards diversified economies. Unlock insights into sustainable growth\, investment opportunities\, and innovative strategies for resilience. Connect with global leaders\, forge strategic partnerships\, and shape the future of economic diversification. Your journey towards a thriving\, diverse economy starts here. \nKristi Straw\, MBA will be presenting “The Workforce of Tomorrow: Upskilling for an Inclusive & Competitive Economy”.
URL:https://innovationwomen.com/event/global-economic-diversification-summit-2025/
LOCATION:Rogers Centre\, 55 Colonel By Drive\, Ottawa\, Canada
CATEGORIES:Register For Events
ATTACH;FMTTYPE=image/png:https://innovationwomen.com/wp-content/uploads/2025/04/global-econ.png
END:VEVENT
BEGIN:VEVENT
DTSTART;TZID=America/New_York:20250522T090000
DTEND;TZID=America/New_York:20250522T093000
DTSTAMP:20260421T213905
CREATED:20250520T220029Z
LAST-MODIFIED:20250520T220029Z
UID:37691-1747904400-1747906200@innovationwomen.com
SUMMARY:Two Cultures | Two Perspectives
DESCRIPTION:Every day\, thousands of messages compete for our attention. Customers are overwhelmed with content and businesses are struggling to cut through the noise.\nWe wondered if businesses in our countries faced similar challenges. In other words\, is this a global challenge or specific to the U.S. and India? \nOrly Zeewy will present “Two Cultures | Two Perspectives”.
URL:https://innovationwomen.com/event/two-cultures-two-perspectives/
LOCATION:Online
CATEGORIES:Register For Events
ATTACH;FMTTYPE=image/jpeg:https://innovationwomen.com/wp-content/uploads/2025/05/1746820260615.jpg
END:VEVENT
END:VCALENDAR