BEGIN:VCALENDAR
VERSION:2.0
PRODID:-//Innovation Women - ECPv6.15.20//NONSGML v1.0//EN
CALSCALE:GREGORIAN
METHOD:PUBLISH
X-WR-CALNAME:Innovation Women
X-ORIGINAL-URL:https://innovationwomen.com
X-WR-CALDESC:Events for Innovation Women
REFRESH-INTERVAL;VALUE=DURATION:PT1H
X-Robots-Tag:noindex
X-PUBLISHED-TTL:PT1H
BEGIN:VTIMEZONE
TZID:UTC
BEGIN:STANDARD
TZOFFSETFROM:+0000
TZOFFSETTO:+0000
TZNAME:UTC
DTSTART:20250101T000000
END:STANDARD
END:VTIMEZONE
BEGIN:VTIMEZONE
TZID:America/New_York
BEGIN:DAYLIGHT
TZOFFSETFROM:-0500
TZOFFSETTO:-0400
TZNAME:EDT
DTSTART:20250309T070000
END:DAYLIGHT
BEGIN:STANDARD
TZOFFSETFROM:-0400
TZOFFSETTO:-0500
TZNAME:EST
DTSTART:20251102T060000
END:STANDARD
BEGIN:DAYLIGHT
TZOFFSETFROM:-0500
TZOFFSETTO:-0400
TZNAME:EDT
DTSTART:20260308T070000
END:DAYLIGHT
BEGIN:STANDARD
TZOFFSETFROM:-0400
TZOFFSETTO:-0500
TZNAME:EST
DTSTART:20261101T060000
END:STANDARD
BEGIN:DAYLIGHT
TZOFFSETFROM:-0500
TZOFFSETTO:-0400
TZNAME:EDT
DTSTART:20270314T070000
END:DAYLIGHT
BEGIN:STANDARD
TZOFFSETFROM:-0400
TZOFFSETTO:-0500
TZNAME:EST
DTSTART:20271107T060000
END:STANDARD
END:VTIMEZONE
BEGIN:VEVENT
DTSTART;VALUE=DATE:20260427
DTEND;VALUE=DATE:20260430
DTSTAMP:20260425T135024
CREATED:20260114T215443Z
LAST-MODIFIED:20260114T215443Z
UID:43106-1777248000-1777507199@innovationwomen.com
SUMMARY:Continuity Insights Management Conference
DESCRIPTION:Join the masterclass for operational resilience leaders at the Continuity Insights Management Conference – where seasoned professionals sharpen strategies\, exchange insights\, and solve today’s toughest challenges. \nKristen M. Pope\, AICT\, CPT will be presenting “AI Blind Spots: Unpacking Failure Modes and Governance Challenges for Operational Resilience”.
URL:https://innovationwomen.com/event/continuity-insights-management-conference/
LOCATION:Gila River Resorts & Casinos\, 5040 Wild Horse Pass Blvd\, Chandler\, AZ\, United States
CATEGORIES:Register For Events
ATTACH;FMTTYPE=image/webp:https://innovationwomen.com/wp-content/uploads/2026/01/cropped-cimc-logo-with-date-location-2026.webp
END:VEVENT
BEGIN:VEVENT
DTSTART;TZID=America/New_York:20260429T180000
DTEND;TZID=America/New_York:20260429T193000
DTSTAMP:20260425T135024
CREATED:20260331T215809Z
LAST-MODIFIED:20260331T215809Z
UID:43610-1777485600-1777491000@innovationwomen.com
SUMMARY:WEST Event
DESCRIPTION:WEST is a learning community that provides women in the enterprise of science and technology with the inspiration\, knowledge\, and connections to reach their full potential. \nKim Meninger will be presenting “Master the Moment: Bridging the Gap Between Instinctive Reaction & Intentional Leadership”.
URL:https://innovationwomen.com/event/west-event/
LOCATION:Foley Hoag LLP\, 155 Seaport Boulevard\, Boston\, MA\, United States
CATEGORIES:Register For Events
ATTACH;FMTTYPE=image/webp:https://innovationwomen.com/wp-content/uploads/2026/03/west-scaled.webp
END:VEVENT
BEGIN:VEVENT
DTSTART;VALUE=DATE:20260430
DTEND;VALUE=DATE:20260502
DTSTAMP:20260425T135024
CREATED:20260422T211110Z
LAST-MODIFIED:20260422T211110Z
UID:43805-1777507200-1777679999@innovationwomen.com
SUMMARY:She Shifts Summit
DESCRIPTION:What if one shift could change everything in your business and life? This two-day event is designed to move you — from stuck to certain\, from stretched to strategic. \nKim Groshek will be presenting “The Decision That Changes Everything”.
URL:https://innovationwomen.com/event/she-shifts-summit/
LOCATION:Online
CATEGORIES:Register For Events
ATTACH;FMTTYPE=image/jpeg:https://innovationwomen.com/wp-content/uploads/2026/04/Kim_Groshek-1.jpg
END:VEVENT
BEGIN:VEVENT
DTSTART;TZID=America/New_York:20260430T120000
DTEND;TZID=America/New_York:20260430T130000
DTSTAMP:20260425T135024
CREATED:20260331T220253Z
LAST-MODIFIED:20260331T220253Z
UID:43612-1777550400-1777554000@innovationwomen.com
SUMMARY:Women Accelerators Event
DESCRIPTION:Women Accelerators is a nonprofit 503 (c) (3) organization dedicated to promoting women’s advancement. Our focus is on providing women with the tools they need to succeed in bridging the gender gap. The lack of gender equality and the underrepresentation of women at the senior level are evident in the boardroom\, from Fortune 500 companies to startups. We serve women at all stages of their careers\, helping them build a solid foundation for success. \nKim Meninger will be presenting “Master the Moment: Bridging the Gap Between Instinctive Reaction & Intentional Leadership”.
URL:https://innovationwomen.com/event/women-accelerators-event/
LOCATION:Online
CATEGORIES:Register For Events
ATTACH;FMTTYPE=image/jpeg:https://innovationwomen.com/wp-content/uploads/2026/03/Website-Banner-2.jpg
END:VEVENT
END:VCALENDAR