BEGIN:VCALENDAR
VERSION:2.0
PRODID:-//Innovation Women - ECPv6.15.20//NONSGML v1.0//EN
CALSCALE:GREGORIAN
METHOD:PUBLISH
X-WR-CALNAME:Innovation Women
X-ORIGINAL-URL:https://innovationwomen.com
X-WR-CALDESC:Events for Innovation Women
REFRESH-INTERVAL;VALUE=DURATION:PT1H
X-Robots-Tag:noindex
X-PUBLISHED-TTL:PT1H
BEGIN:VTIMEZONE
TZID:UTC
BEGIN:STANDARD
TZOFFSETFROM:+0000
TZOFFSETTO:+0000
TZNAME:UTC
DTSTART:20230101T000000
END:STANDARD
END:VTIMEZONE
BEGIN:VTIMEZONE
TZID:America/New_York
BEGIN:DAYLIGHT
TZOFFSETFROM:-0500
TZOFFSETTO:-0400
TZNAME:EDT
DTSTART:20230312T070000
END:DAYLIGHT
BEGIN:STANDARD
TZOFFSETFROM:-0400
TZOFFSETTO:-0500
TZNAME:EST
DTSTART:20231105T060000
END:STANDARD
BEGIN:DAYLIGHT
TZOFFSETFROM:-0500
TZOFFSETTO:-0400
TZNAME:EDT
DTSTART:20240310T070000
END:DAYLIGHT
BEGIN:STANDARD
TZOFFSETFROM:-0400
TZOFFSETTO:-0500
TZNAME:EST
DTSTART:20241103T060000
END:STANDARD
BEGIN:DAYLIGHT
TZOFFSETFROM:-0500
TZOFFSETTO:-0400
TZNAME:EDT
DTSTART:20250309T070000
END:DAYLIGHT
BEGIN:STANDARD
TZOFFSETFROM:-0400
TZOFFSETTO:-0500
TZNAME:EST
DTSTART:20251102T060000
END:STANDARD
END:VTIMEZONE
BEGIN:VEVENT
DTSTART;VALUE=DATE:20240917
DTEND;VALUE=DATE:20240920
DTSTAMP:20260420T001647
CREATED:20240821T193050Z
LAST-MODIFIED:20240821T193050Z
UID:35782-1726531200-1726790399@innovationwomen.com
SUMMARY:National African American Insurance Association Annual Conference
DESCRIPTION:The premier event for African Americans in insurance and adjacent fields to build relationships\, network and gain invaluable industry experience\, the NAAIA National Conference includes many specialized spaces and opportunities for attendees to engage together. Participating exhibitors meet career-ready candidates actively or passively looking for their next opportunity\, enjoy the opportunity to gain brand awareness and demonstrate their commitment to DEI&B. \nPrecious Williams will be presenting  “Game Day in the SuperDome: Winning Big” and “Fresh Kicks: Building Your Personal Brand for Success”.
URL:https://innovationwomen.com/event/national-african-american-insurance-association-annual-conference/
LOCATION:New Orleans Marriott\, 555 Canal St\, New Orleans\, LA\, United States
CATEGORIES:Register For Events
ATTACH;FMTTYPE=image/jpeg:https://innovationwomen.com/wp-content/uploads/2024/08/naaia.jpg
END:VEVENT
BEGIN:VEVENT
DTSTART;VALUE=DATE:20240918
DTEND;VALUE=DATE:20240919
DTSTAMP:20260420T001647
CREATED:20240805T211727Z
LAST-MODIFIED:20240805T211727Z
UID:35647-1726617600-1726703999@innovationwomen.com
SUMMARY:Metaverse one 2024
DESCRIPTION:Metaverse One is 100% free\, 100% community driven online conference dedicated to the Microsoft Future Work technologies such as AI\, Copilot\, Metaverse\, Mixed & Extended Reality\, Azure\, Microsoft Teams\, Microsoft 365\, Microsoft Mesh\, Power Platform and more. Metaverse One also welcomes other Metaverse Platforms and technologies outside Microsoft ecosystem as the future is not built by Microsoft technology alone. \nShereen Moussa will be presenting “Transforming Daily Life with Generative AI”.
URL:https://innovationwomen.com/event/metaverse-one-2024/
LOCATION:Online
CATEGORIES:Register For Events
ATTACH;FMTTYPE=image/jpeg:https://innovationwomen.com/wp-content/uploads/2024/08/metaverse-one-2024-teaser-banner.jpg
END:VEVENT
BEGIN:VEVENT
DTSTART;VALUE=DATE:20240918
DTEND;VALUE=DATE:20240921
DTSTAMP:20260420T001647
CREATED:20240606T234212Z
LAST-MODIFIED:20240606T234212Z
UID:35053-1726617600-1726876799@innovationwomen.com
SUMMARY:Inbound 2024
DESCRIPTION:INBOUND is HubSpot’s dynamic three-day conference dedicated to the latest trends and tactics in marketing\, sales\, and AI. With inspiring keynotes\, educational breakouts\, HubSpot product announcements and demos\, hands-on workshops\, along with unique networking and entertainment experiences\, it’s a can’t-miss event for anyone looking to elevate their personal growth. \nCarole Mahoney will be presenting Give Your Buyers a Dopamine Hit at Inbound 2024
URL:https://innovationwomen.com/event/inbound-2024/
LOCATION:Boston Convention and Exhibition Center\, 415 Summer St\, Boston\, MA\, United States
CATEGORIES:Register For Events
ATTACH;FMTTYPE=image/webp:https://innovationwomen.com/wp-content/uploads/2024/06/inbound-2024.webp
END:VEVENT
BEGIN:VEVENT
DTSTART;TZID=America/New_York:20240918T083000
DTEND;TZID=America/New_York:20240918T150000
DTSTAMP:20260420T001647
CREATED:20240709T195211Z
LAST-MODIFIED:20240709T195211Z
UID:35316-1726648200-1726671600@innovationwomen.com
SUMMARY:INSTEADTALKS 360°
DESCRIPTION:Our exclusive series of single-day\, live/interactive INSTEADTALKS are catalysts for personal development\, deeper connections\, fresh ideas\, and a better understanding of ourselves and our world. We bring together a series of deep thinkers with inspiring topics\, poised to share and interact freely. \nNoreen Braman will be presenting Personal Strengths and How to Make Them Work For You.
URL:https://innovationwomen.com/event/insteadtalks-360/
LOCATION:Online
CATEGORIES:Register For Events
ATTACH;FMTTYPE=image/jpeg:https://innovationwomen.com/wp-content/uploads/2024/07/insteadtalks.jpg
END:VEVENT
BEGIN:VEVENT
DTSTART;TZID=America/New_York:20240918T083000
DTEND;TZID=America/New_York:20240918T150000
DTSTAMP:20260420T001647
CREATED:20240814T193353Z
LAST-MODIFIED:20240814T193353Z
UID:35695-1726648200-1726671600@innovationwomen.com
SUMMARY:INSTEADTALKS 360°
DESCRIPTION:Our exclusive series of single-day\, live/interactive INSTEADTALKS are catalysts for personal development\, deeper connections\, fresh ideas\, and a better understanding of ourselves and our world. We bring together a series of deep thinkers with inspiring topics\, poised to share and interact freely. Join us for five (6) 45-minute ConverSessions starting at 8:45 AM EST and ending at 3:00 PM EST\, with 15-minute breaks in between. And each ConverSession is founded upon our mantra of LESS presentation and MORE conversation. \nNoreen Braman will be presenting “Character Strengths and How to Make Them Work for You”.
URL:https://innovationwomen.com/event/insteadtalks-360-2/
LOCATION:Online
CATEGORIES:Register For Events
ATTACH;FMTTYPE=image/jpeg:https://innovationwomen.com/wp-content/uploads/2024/07/insteadtalks.jpg
END:VEVENT
BEGIN:VEVENT
DTSTART;TZID=America/New_York:20240918T093000
DTEND;TZID=America/New_York:20240918T150000
DTSTAMP:20260420T001647
CREATED:20240510T160536Z
LAST-MODIFIED:20240703T195610Z
UID:34217-1726651800-1726671600@innovationwomen.com
SUMMARY:Women's Business Summit 2024 - SCORE Northeastern Massachusetts
DESCRIPTION:Experience the dynamic energy of visionary women entrepreneurs at this year’s summit\, whether you’re just starting out or are already in  business.  Unlock your entrepreneurial spirit alongside accomplished female leaders from our vibrant community\, who share insights and inspiration. \nThe journey begins with invigorating and candid conversations over coffee in the scenic setting of the Andover Country Club. Prepare for a packed program featuring illuminating speakers\, interactive roundtable discussions\, enjoyable lunch and invaluable networking opportunities. \nEarly registrants will be invited to an exclusive post-event webinar with program speakers to further explore questions and brainstorm topics relevant to your business! A true business accelerator! Do not miss this opportunity! \nRegister by July 1st to attend the post-event exclusive Webinar. Last year was an early sell-out – Sign up today!
URL:https://innovationwomen.com/event/womens-business-summit-2024-score-northeastern-massachussetss/
LOCATION:Andover Country Club\, 60 Canterbury St\, Andover\, MA\, 01810\, United States
ATTACH;FMTTYPE=image/jpeg:https://innovationwomen.com/wp-content/uploads/2024/05/WBS_Summit_2024_Promo-_003_.jpg
END:VEVENT
BEGIN:VEVENT
DTSTART;TZID=America/New_York:20240918T093000
DTEND;TZID=America/New_York:20240918T150000
DTSTAMP:20260420T001647
CREATED:20240628T205004Z
LAST-MODIFIED:20240628T205004Z
UID:35250-1726651800-1726671600@innovationwomen.com
SUMMARY:SCORE NEMA: Women’s Business Summit 2024
DESCRIPTION:Experience the dynamic energy of visionary women entrepreneurs at this year’s summit\, whether you’re just starting out or are already in business. Unlock your entrepreneurial spirit alongside accomplished female leaders from our vibrant community\, who share insights and inspiration. \nBobbie Carlton will be presenting Visibility = Opportunity.
URL:https://innovationwomen.com/event/score-nema-womens-business-summit-2024/
LOCATION:Andover Country Club\, 60 Canterbury St\, Andover\, MA\, 01810\, United States
CATEGORIES:Register For Events
ATTACH;FMTTYPE=image/png:https://innovationwomen.com/wp-content/uploads/2024/06/WBS_ScoreLogo5.png
END:VEVENT
END:VCALENDAR