BEGIN:VCALENDAR
VERSION:2.0
PRODID:-//Innovation Women - ECPv6.15.20//NONSGML v1.0//EN
CALSCALE:GREGORIAN
METHOD:PUBLISH
X-ORIGINAL-URL:https://innovationwomen.com
X-WR-CALDESC:Events for Innovation Women
REFRESH-INTERVAL;VALUE=DURATION:PT1H
X-Robots-Tag:noindex
X-PUBLISHED-TTL:PT1H
BEGIN:VTIMEZONE
TZID:UTC
BEGIN:STANDARD
TZOFFSETFROM:+0000
TZOFFSETTO:+0000
TZNAME:UTC
DTSTART:20230101T000000
END:STANDARD
END:VTIMEZONE
BEGIN:VTIMEZONE
TZID:America/Los_Angeles
BEGIN:DAYLIGHT
TZOFFSETFROM:-0800
TZOFFSETTO:-0700
TZNAME:PDT
DTSTART:20230312T100000
END:DAYLIGHT
BEGIN:STANDARD
TZOFFSETFROM:-0700
TZOFFSETTO:-0800
TZNAME:PST
DTSTART:20231105T090000
END:STANDARD
BEGIN:DAYLIGHT
TZOFFSETFROM:-0800
TZOFFSETTO:-0700
TZNAME:PDT
DTSTART:20240310T100000
END:DAYLIGHT
BEGIN:STANDARD
TZOFFSETFROM:-0700
TZOFFSETTO:-0800
TZNAME:PST
DTSTART:20241103T090000
END:STANDARD
BEGIN:DAYLIGHT
TZOFFSETFROM:-0800
TZOFFSETTO:-0700
TZNAME:PDT
DTSTART:20250309T100000
END:DAYLIGHT
BEGIN:STANDARD
TZOFFSETFROM:-0700
TZOFFSETTO:-0800
TZNAME:PST
DTSTART:20251102T090000
END:STANDARD
END:VTIMEZONE
BEGIN:VEVENT
DTSTART;VALUE=DATE:20240930
DTEND;VALUE=DATE:20241002
DTSTAMP:20260421T172545
CREATED:20240726T213646Z
LAST-MODIFIED:20240726T213646Z
UID:35462-1727654400-1727827199@innovationwomen.com
SUMMARY:2024 GSC-SHRM Annual Conference and Expo
DESCRIPTION:You can’t start a fire without a spark – BE THE SPARK! Join us at the Garden State Council – SHRM Conference and Expo on Monday\, September 30 and Tuesday\, October 1 at the Atlantic City Convention Center in Atlantic City\, NJ where you can energize\, empower\, and engage within the HR community! \nYoko Kawai will be presenting “People First: Powering Up Your Workplace with Well-being & DEI Strategies”.
URL:https://innovationwomen.com/event/2024-gsc-shrm-annual-conference-and-expo/
LOCATION:Atlantic City Convention Center\, 1 Convention Blvd\, Atlantic City\, NJ\, United States
CATEGORIES:Register For Events
ATTACH;FMTTYPE=image/jpeg:https://innovationwomen.com/wp-content/uploads/2024/07/hr-sparks.jpg
END:VEVENT
BEGIN:VEVENT
DTSTART;VALUE=DATE:20240930
DTEND;VALUE=DATE:20241005
DTSTAMP:20260421T172545
CREATED:20240703T193646Z
LAST-MODIFIED:20240703T193646Z
UID:35287-1727654400-1728086399@innovationwomen.com
SUMMARY:The 2024 SAIA Annual Convention & Exposition
DESCRIPTION:The SAIA Annual Convention & Exposition brings together the largest gathering of scaffold and access industry professionals. The Convention features industry-focused educational sessions and showcases the nation’s top scaffold and access exhibitors.
URL:https://innovationwomen.com/event/the-2024-saia-annual-convention-exposition/
LOCATION:Hyatt Regency Denver\, 650 15th Street\, Denver\, CO\, United States
CATEGORIES:Register For Events
ATTACH;FMTTYPE=image/jpeg:https://innovationwomen.com/wp-content/uploads/2024/07/SAIA-3003-Annual-Convention-Logo_2024_Final1.jpg
END:VEVENT
BEGIN:VEVENT
DTSTART;TZID=America/Los_Angeles:20241001T150000
DTEND;TZID=America/Los_Angeles:20241001T170000
DTSTAMP:20260421T172545
CREATED:20240819T212132Z
LAST-MODIFIED:20240819T212132Z
UID:35733-1727794800-1727802000@innovationwomen.com
SUMMARY:The Engaging Conference 2024
DESCRIPTION:Experience the future of inclusive collaboration at The Engaging Conference 2024. Dive into a transformative space where ideas from all backgrounds\, abilities\, and identities converge. \nLearn how to design & deliver engagement at your in-person\, hybrid and virtual events. \nLearn from 5+ of the world’s experts in Engagement. \nJohn Chen will be presenting “6 Ways To Better Hybrid Speaking”.
URL:https://innovationwomen.com/event/the-engaging-conference-2024/
LOCATION:McMenamins Anderson School\, 18607 Bothell Way NE\, Bothell\, WA\, United States
CATEGORIES:Register For Events
ATTACH;FMTTYPE=image/jpeg:https://innovationwomen.com/wp-content/uploads/2024/08/engaging-conf.jpg
END:VEVENT
END:VCALENDAR