BEGIN:VCALENDAR
VERSION:2.0
PRODID:-//Innovation Women - ECPv6.15.20//NONSGML v1.0//EN
CALSCALE:GREGORIAN
METHOD:PUBLISH
X-WR-CALNAME:Innovation Women
X-ORIGINAL-URL:https://innovationwomen.com
X-WR-CALDESC:Events for Innovation Women
REFRESH-INTERVAL;VALUE=DURATION:PT1H
X-Robots-Tag:noindex
X-PUBLISHED-TTL:PT1H
BEGIN:VTIMEZONE
TZID:America/New_York
BEGIN:DAYLIGHT
TZOFFSETFROM:-0500
TZOFFSETTO:-0400
TZNAME:EDT
DTSTART:20240310T070000
END:DAYLIGHT
BEGIN:STANDARD
TZOFFSETFROM:-0400
TZOFFSETTO:-0500
TZNAME:EST
DTSTART:20241103T060000
END:STANDARD
BEGIN:DAYLIGHT
TZOFFSETFROM:-0500
TZOFFSETTO:-0400
TZNAME:EDT
DTSTART:20250309T070000
END:DAYLIGHT
BEGIN:STANDARD
TZOFFSETFROM:-0400
TZOFFSETTO:-0500
TZNAME:EST
DTSTART:20251102T060000
END:STANDARD
BEGIN:DAYLIGHT
TZOFFSETFROM:-0500
TZOFFSETTO:-0400
TZNAME:EDT
DTSTART:20260308T070000
END:DAYLIGHT
BEGIN:STANDARD
TZOFFSETFROM:-0400
TZOFFSETTO:-0500
TZNAME:EST
DTSTART:20261101T060000
END:STANDARD
END:VTIMEZONE
BEGIN:VTIMEZONE
TZID:UTC
BEGIN:STANDARD
TZOFFSETFROM:+0000
TZOFFSETTO:+0000
TZNAME:UTC
DTSTART:20240101T000000
END:STANDARD
END:VTIMEZONE
BEGIN:VTIMEZONE
TZID:America/Denver
BEGIN:DAYLIGHT
TZOFFSETFROM:-0700
TZOFFSETTO:-0600
TZNAME:MDT
DTSTART:20240310T090000
END:DAYLIGHT
BEGIN:STANDARD
TZOFFSETFROM:-0600
TZOFFSETTO:-0700
TZNAME:MST
DTSTART:20241103T080000
END:STANDARD
BEGIN:DAYLIGHT
TZOFFSETFROM:-0700
TZOFFSETTO:-0600
TZNAME:MDT
DTSTART:20250309T090000
END:DAYLIGHT
BEGIN:STANDARD
TZOFFSETFROM:-0600
TZOFFSETTO:-0700
TZNAME:MST
DTSTART:20251102T080000
END:STANDARD
BEGIN:DAYLIGHT
TZOFFSETFROM:-0700
TZOFFSETTO:-0600
TZNAME:MDT
DTSTART:20260308T090000
END:DAYLIGHT
BEGIN:STANDARD
TZOFFSETFROM:-0600
TZOFFSETTO:-0700
TZNAME:MST
DTSTART:20261101T080000
END:STANDARD
END:VTIMEZONE
BEGIN:VTIMEZONE
TZID:America/Los_Angeles
BEGIN:DAYLIGHT
TZOFFSETFROM:-0800
TZOFFSETTO:-0700
TZNAME:PDT
DTSTART:20240310T100000
END:DAYLIGHT
BEGIN:STANDARD
TZOFFSETFROM:-0700
TZOFFSETTO:-0800
TZNAME:PST
DTSTART:20241103T090000
END:STANDARD
BEGIN:DAYLIGHT
TZOFFSETFROM:-0800
TZOFFSETTO:-0700
TZNAME:PDT
DTSTART:20250309T100000
END:DAYLIGHT
BEGIN:STANDARD
TZOFFSETFROM:-0700
TZOFFSETTO:-0800
TZNAME:PST
DTSTART:20251102T090000
END:STANDARD
BEGIN:DAYLIGHT
TZOFFSETFROM:-0800
TZOFFSETTO:-0700
TZNAME:PDT
DTSTART:20260308T100000
END:DAYLIGHT
BEGIN:STANDARD
TZOFFSETFROM:-0700
TZOFFSETTO:-0800
TZNAME:PST
DTSTART:20261101T090000
END:STANDARD
END:VTIMEZONE
BEGIN:VTIMEZONE
TZID:America/Phoenix
BEGIN:STANDARD
TZOFFSETFROM:-0700
TZOFFSETTO:-0700
TZNAME:MST
DTSTART:20240101T000000
END:STANDARD
END:VTIMEZONE
BEGIN:VEVENT
DTSTART;TZID=America/New_York:20250201T100000
DTEND;TZID=America/New_York:20250201T160000
DTSTAMP:20260421T224526
CREATED:20250110T210157Z
LAST-MODIFIED:20250110T210157Z
UID:36865-1738404000-1738425600@innovationwomen.com
SUMMARY:ETV Empowerment Summit
DESCRIPTION:Controlling Our Destiny! Join our Informed & Inspired Village @ ETV’s Empowerment Summit! \nFeaturing a Black-Owned Business Marketplace\, Entrepreneurship\, Wellness & Wealth-Building expert panels and speakers\, and so much more! Attendees will learn to prepare for business success\, navigate challenges to building generational wealth\, and tap into tools for self-care. Great food\, music & fun! \nPrecious Williams will be presenting “Controlling Our Destiny”.
URL:https://innovationwomen.com/event/etv-empowerment-summit/
LOCATION:Park Avenue Club\, 184 Park Ave\, Florham Park\, NJ\, United States
CATEGORIES:Register For Events
ATTACH;FMTTYPE=image/jpeg:https://innovationwomen.com/wp-content/uploads/2025/01/etv.jpg
END:VEVENT
BEGIN:VEVENT
DTSTART;VALUE=DATE:20250205
DTEND;VALUE=DATE:20250208
DTSTAMP:20260421T224526
CREATED:20241204T220051Z
LAST-MODIFIED:20241204T220051Z
UID:36619-1738713600-1738972799@innovationwomen.com
SUMMARY:The NNSP Annual Conference on Community & Civic Engagement
DESCRIPTION:The NNSP Annual Conference on Community & Civic Engagement is an opportunity for educators nationwide to convene and collaborate around the development of community and civic engagement programs in their schools.  It brings together educators who are curious about the intersection of community and civic engagement\, social impact\, and traditional academic curriculum. We will share tangible examples of how schools can integrate opportunities for students to learn about the systemic issues prevalent in their communities and our nation\, connect their learning to those issues\, and create a student body with empathy\, knowledge\, and leadership skills to create meaningful community change.
URL:https://innovationwomen.com/event/the-nnsp-annual-conference-on-community-civic-engagement/
LOCATION:Residence Inn Arlington Capital View\, 2850 S Potomac Ave\, Arlington\, VA\, United States
CATEGORIES:Register For Events
ATTACH;FMTTYPE=image/jpeg:https://innovationwomen.com/wp-content/uploads/2024/12/closeup-washington.jpg
END:VEVENT
BEGIN:VEVENT
DTSTART;VALUE=DATE:20250207
DTEND;VALUE=DATE:20250210
DTSTAMP:20260421T224526
CREATED:20241230T221500Z
LAST-MODIFIED:20241230T221500Z
UID:36744-1738886400-1739145599@innovationwomen.com
SUMMARY:60th Annual TCTELA Conference
DESCRIPTION:The vision of the TCTELA is to provide language arts educators with access to professional development in a way that supports literacy in Texas schools so that all educators may assist their students in becoming lifelong learners. \nKim Groshek will be presenting “Pause Power for Educators”.
URL:https://innovationwomen.com/event/60th-annual-tctela-conference/
LOCATION:Moody Gardens Hotel\, 7 Hope Blvd\, Galveston\, TX\, United States
CATEGORIES:Register For Events
ATTACH;FMTTYPE=image/jpeg:https://innovationwomen.com/wp-content/uploads/2024/12/60thtctela.jpg
END:VEVENT
BEGIN:VEVENT
DTSTART;TZID=America/New_York:20250210T120000
DTEND;TZID=America/New_York:20250210T130000
DTSTAMP:20260421T224526
CREATED:20250203T195045Z
LAST-MODIFIED:20250203T195045Z
UID:37019-1739188800-1739192400@innovationwomen.com
SUMMARY:The Woman-Led Workplace Advantage: Creating Work-Life Balance
DESCRIPTION:Work-life balance is a key factor in employee satisfaction\, productivity and retention. Woman-led workplaces are leading the charge in fostering respectful and supportive environments for their employees. \nJoin us Monday Feb 10 for a discussion with leaders from our 2024 Woman-led Top Workplaces. In this Innovation Women and Lioness webinar\, they’ll share real strategies for:\n• Setting boundaries between work and personal life\n• Preventing burnout for themselves and their teams\n• Creating flexible yet productive work environments\nDon’t miss this opportunity to learn from the top leaders who are making work-life balance a reality.
URL:https://innovationwomen.com/event/the-woman-led-workplace-advantage-creating-work-life-balance/
LOCATION:Online
CATEGORIES:Register For Events
ATTACH;FMTTYPE=image/jpeg:https://innovationwomen.com/wp-content/uploads/2025/02/woman-led-workplace.jpg
END:VEVENT
BEGIN:VEVENT
DTSTART;TZID=America/Denver:20250211T180000
DTEND;TZID=America/Denver:20250211T193000
DTSTAMP:20260421T224526
CREATED:20250207T221305Z
LAST-MODIFIED:20250207T221305Z
UID:37060-1739296800-1739302200@innovationwomen.com
SUMMARY:Ecstatic Love: Magnetize Love\, Wealth\, and Miracles
DESCRIPTION:Step into the Flow of Love\, Money & Miracles\nJoin us for a powerful\, interactive roundtable event with 5 expert speakers as we unlock the secrets of Ecstatic Love as a Magnet for Prosperity. \nAmbika Devi will be presenting “Self-Love is the Magnet”.
URL:https://innovationwomen.com/event/ecstatic-love-magnetize-love-wealth-and-miracles/
LOCATION:Online
CATEGORIES:Register For Events
ATTACH;FMTTYPE=image/webp:https://innovationwomen.com/wp-content/uploads/2025/02/Ecstatic_Love.webp
END:VEVENT
BEGIN:VEVENT
DTSTART;VALUE=DATE:20250212
DTEND;VALUE=DATE:20250214
DTSTAMP:20260421T224526
CREATED:20250122T230203Z
LAST-MODIFIED:20250122T230203Z
UID:36928-1739318400-1739491199@innovationwomen.com
SUMMARY:KAI Symposium 2025
DESCRIPTION:Kirton’s Adaption Innovation Inventory (the KAI) measures this preference: how much you like structure in your life – whether at work\, rest or play. Your KAI score affects everything you do\, from how you cook a meal to how you deal with other people in your life. \nCate Hollowitsch will be presenting “Exploring the Roles of Homogenous and Heterogenous Cultures in Organizational Success”.
URL:https://innovationwomen.com/event/kai-symposium-2025/
LOCATION:Online
CATEGORIES:Register For Events
ATTACH;FMTTYPE=image/jpeg:https://innovationwomen.com/wp-content/uploads/2025/01/kai-symposium.jpg
END:VEVENT
BEGIN:VEVENT
DTSTART;VALUE=DATE:20250215
DTEND;VALUE=DATE:20250216
DTSTAMP:20260421T224526
CREATED:20250211T145818Z
LAST-MODIFIED:20250211T145818Z
UID:37067-1739577600-1739663999@innovationwomen.com
SUMMARY:Moulden Law | The Entrepreneur's Lawyer
DESCRIPTION:Moulden Law understands the effort you’ve invested in your business. That’s why we offer a comprehensive legal membership to protect your assets year-round. Our expert legal team provides continuous protection\, strategic guidance\, and personalized coaching to safeguard your ideas and brand identity. \nPrecious Williams will be presenting “Rainmaking 101: LIVE Masterclass at The Power of Differentiation and Make Them Remember Your Name”.
URL:https://innovationwomen.com/event/moulden-law-the-entrepreneurs-lawyer/
LOCATION:Online
CATEGORIES:Register For Events
ATTACH;FMTTYPE=image/png:https://innovationwomen.com/wp-content/uploads/2025/02/moulden-law.png
END:VEVENT
BEGIN:VEVENT
DTSTART;VALUE=DATE:20250218
DTEND;VALUE=DATE:20250221
DTSTAMP:20260421T224526
CREATED:20250218T225343Z
LAST-MODIFIED:20250218T225343Z
UID:37118-1739836800-1740095999@innovationwomen.com
SUMMARY:From Niche to Empire - Selling High Ticket Services
DESCRIPTION:Discover the secrets of pricing luxury services so you can boost your income and confidence without second-guessing.\nLearn from top industry experts how to create a strong emotional connection with your clients and make them crave what you offer.\nMaster simple\, effective lead generation methods to have potential clients lining up – all eager to hear about your services.\nGet insider tips on building lasting relationships with high-value clients to turn one-time deals into enduring partnerships. \nPhilippa Gamse will be presenting “Website Wealth: Finding the Hidden Gems”.
URL:https://innovationwomen.com/event/from-niche-to-empire-selling-high-ticket-services/
LOCATION:Online
CATEGORIES:Register For Events
ATTACH;FMTTYPE=image/png:https://innovationwomen.com/wp-content/uploads/2025/02/virtual-womens-expo.png
END:VEVENT
BEGIN:VEVENT
DTSTART;TZID=America/New_York:20250218T113000
DTEND;TZID=America/New_York:20250218T123000
DTSTAMP:20260421T224526
CREATED:20250206T222755Z
LAST-MODIFIED:20250206T222755Z
UID:37044-1739878200-1739881800@innovationwomen.com
SUMMARY:Small Museum Association Conference 2025
DESCRIPTION:The Small Museum Association is an all-volunteer organization serving small museums in the mid-Atlantic region and beyond. SMA’s mission is to develop and maintain a peer network among people who work for small museums\, giving them opportunities to learn\, share knowledge and support one another\, so that they\, in turn\, can better serve their institutions\, communities and profession. \nCheryl Fogle-Hatch will be presenting “Making Touch Objects for Museum Exhibits”. \n 
URL:https://innovationwomen.com/event/small-museum-association-conference-2025/
LOCATION:Gaithersburg Marriott Washingtonian Center\, 9751 Washingtonian Blvd\, Gaithersburg\, MD\, United States
CATEGORIES:Register For Events
ATTACH;FMTTYPE=image/png:https://innovationwomen.com/wp-content/uploads/2025/02/small-museum.png
END:VEVENT
BEGIN:VEVENT
DTSTART;TZID=America/New_York:20250219T140000
DTEND;TZID=America/New_York:20250219T150000
DTSTAMP:20260421T224526
CREATED:20250122T224640Z
LAST-MODIFIED:20250122T224640Z
UID:36923-1739973600-1739977200@innovationwomen.com
SUMMARY:IEEE-USA Livestream Webinar
DESCRIPTION:IEEE-USA is an organizational unit of IEEE\, created in 1973 to support the career and public policy interests of IEEE’s U.S. members. IEEE-USA is primarily supported by an annual assessment paid by U.S. IEEE Members. Through its products and services\, IEEE-USA serves as a resource for enhancing the professional growth and career advancement of U.S. IEEE Members. And through its Government Relations programs\, IEEE-USA works with all three branches of the federal government to help shape the workforce and technology policy to the benefit of members\, the profession and the American public. \nElizabeth Lions will be presenting “AI Unpacked: What Leaders Need to Know to Stay Ahead”.
URL:https://innovationwomen.com/event/ieee-usa-livestream-webinar/
LOCATION:Online
CATEGORIES:Register For Events
ATTACH;FMTTYPE=image/gif:https://innovationwomen.com/wp-content/uploads/2019/10/IEEE.gif
END:VEVENT
BEGIN:VEVENT
DTSTART;TZID=America/New_York:20250219T150000
DTEND;TZID=America/New_York:20250219T163000
DTSTAMP:20260421T224526
CREATED:20241216T212210Z
LAST-MODIFIED:20241216T212210Z
UID:36669-1739977200-1739982600@innovationwomen.com
SUMMARY:Writing to Build Your Authority
DESCRIPTION:To be recognized as an industry leader\, you must share your perspective with the right audience. \nWriting is one of the best ways to develop and share your perspective because it requires you to think deeply about your area of expertise and convey your message to others in a way that is clear and compelling. \nWhether you are writing for social media\, your newsletter\, or a trade journal\, writing will help differentiate you from the competition\, attract more of the right clients\, and establish you as an authoritative expert. \nErica Holthausen will be presenting “A Body of Work: Unlocking the Door to Opportunity”.
URL:https://innovationwomen.com/event/writing-to-build-your-authority-2/
LOCATION:Online
CATEGORIES:Register For Events
ATTACH;FMTTYPE=image/jpeg:https://innovationwomen.com/wp-content/uploads/2024/12/just-write.jpg
END:VEVENT
BEGIN:VEVENT
DTSTART;TZID=America/Los_Angeles:20250219T190000
DTEND;TZID=America/Los_Angeles:20250219T210000
DTSTAMP:20260421T224526
CREATED:20250204T231242Z
LAST-MODIFIED:20250204T231242Z
UID:37028-1739991600-1739998800@innovationwomen.com
SUMMARY:Barnes & Noble Book Signing
DESCRIPTION:Join Barnes & Noble – The Grove at Farmers Market on February 19\, 2025\, as we welcome Debra Eckerling to discuss and sign 52 SECRETS FOR GOAL-SETTING AND GOAL-GETTING: HOW TO STAY FOCUSED\, GROW YOUR NETWORK AND GET MORE DONE IN LESS TIME\, tools to create your own path to success by learning from the experiences of others.
URL:https://innovationwomen.com/event/barnes-noble-book-signing/
LOCATION:Barnes & Noble The Grove at Farmers Market\, 189 The Grove Drive Suite K 30\, Los Angeles\, CA\, United States
CATEGORIES:Register For Events
ATTACH;FMTTYPE=image/jpeg:https://innovationwomen.com/wp-content/uploads/2025/02/52-secrets.jpg
END:VEVENT
BEGIN:VEVENT
DTSTART;VALUE=DATE:20250220
DTEND;VALUE=DATE:20250223
DTSTAMP:20260421T224526
CREATED:20250213T220209Z
LAST-MODIFIED:20250213T220209Z
UID:37095-1740009600-1740268799@innovationwomen.com
SUMMARY:Chicago Dental Society Midwinter Meeting
DESCRIPTION:We look forward to seeing you Feb. 20-22\, 2025 at McCormick Place West in Chicago as we once again bring together our dental community from near and far. Hear exceptional speakers and programs for continuing education\, take in the latest in dental innovations from hundreds of exhibitors and enjoy entertaining events and receptions to celebrate our milestone anniversary year. \nSina Smith\, LAc\, MD will be presenting “Acupuncture for Dentists: History\, Science & Utility”.
URL:https://innovationwomen.com/event/chicago-dental-society-midwinter-meeting/
LOCATION:McCormick Place West\, 2301 S. Indiana Avenue\, Chicago\, IL\, United States
CATEGORIES:Register For Events
ATTACH;FMTTYPE=image/jpeg:https://innovationwomen.com/wp-content/uploads/2025/02/chicago-dental-society.jpg
END:VEVENT
BEGIN:VEVENT
DTSTART;TZID=America/Phoenix:20250222T080000
DTEND;TZID=America/Phoenix:20250222T160000
DTSTAMP:20260421T224526
CREATED:20250110T203912Z
LAST-MODIFIED:20250110T203912Z
UID:36856-1740211200-1740240000@innovationwomen.com
SUMMARY:Empowered Hearts Summit
DESCRIPTION:BOSSIS Management Solutions is thrilled to host the inaugural Empowered Hearts – A Business Summit for Women! Join us for an inspiring networking\, empowerment\, fun\, and evolution day with other like-minded women! \nDr. Minina Johnson will be presenting “Be ambitiouslyH.E.R.™️”.
URL:https://innovationwomen.com/event/empowered-hearts-summit/
LOCATION:Doubletree Hotel Mesa\, 1011 W Holmes Ave\, Mesa\, AZ\, United States
CATEGORIES:Register For Events
ATTACH;FMTTYPE=image/webp:https://innovationwomen.com/wp-content/uploads/2025/01/empowered-hearts.webp
END:VEVENT
BEGIN:VEVENT
DTSTART;TZID=America/New_York:20250224T110000
DTEND;TZID=America/New_York:20250224T120000
DTSTAMP:20260421T224526
CREATED:20250103T204958Z
LAST-MODIFIED:20250103T204958Z
UID:36781-1740394800-1740398400@innovationwomen.com
SUMMARY:Board Risk Committee Webinar
DESCRIPTION:The Board Risk Committee (BRC) is a trusted place for the exchange of ideas\, best practices\, and topics of interest. We are a thought leadership peer forum dedicated to Board Risk Committee members and Chief Risk Officers (CROs). The purpose is to keep Directors and CROs current and informed so that they can more effectively fulfill the responsibilities entrusted to them. \nSherrin Ingram will be presenting “Strategic Planning and Board Culture”.
URL:https://innovationwomen.com/event/board-risk-committee-webinar/
LOCATION:Online
CATEGORIES:Register For Events
ATTACH;FMTTYPE=image/png:https://innovationwomen.com/wp-content/uploads/2025/01/strategic-planning.png
END:VEVENT
BEGIN:VEVENT
DTSTART;VALUE=DATE:20250225
DTEND;VALUE=DATE:20250228
DTSTAMP:20260421T224526
CREATED:20250212T215835Z
LAST-MODIFIED:20250212T215835Z
UID:37080-1740441600-1740700799@innovationwomen.com
SUMMARY:GatherVerse Summit 2025
DESCRIPTION:GatherVerse is a global ecosystem where communities gather to discuss humanity-first standards in accessibility\, education\, equality\, community development\, safety & privacy\, wellness\, and ethics within ai\, the metaverse and emerging technologies. \nAnita Roach will be presenting “Foundations of Well-being Roundtable”.
URL:https://innovationwomen.com/event/gatherverse-summit-2025/
LOCATION:Online
CATEGORIES:Register For Events
ATTACH;FMTTYPE=image/jpeg:https://innovationwomen.com/wp-content/uploads/2025/02/gatherverse.jpg
END:VEVENT
BEGIN:VEVENT
DTSTART;TZID=America/Los_Angeles:20250225T110000
DTEND;TZID=America/Los_Angeles:20250225T120000
DTSTAMP:20260421T224526
CREATED:20250218T225830Z
LAST-MODIFIED:20250218T225830Z
UID:37121-1740481200-1740484800@innovationwomen.com
SUMMARY:SCORE Webinar - Turn Digital Tools in Dollars: Understanding People and Numbers
DESCRIPTION:This class is an interactive class to help you understand SEO from a real-world perspective. Amy helps her clients build their SEO foundation using Google My Business\, Google Analytics 4\, and Google Search Console. She will discuss the differences in Algorithms focused SEO and Customer Focused SEO. She will give you the first step in building your SEO and show you how to measure SEO\, If you have a Google Analytics Account you might even be asked to be in the hot seat and get a business strategy based on your numbers. \nAmy Graves will be presenting “Turn Digital Tools in Dollars: Understanding People and Numbers”.
URL:https://innovationwomen.com/event/score-webinar-turn-digital-tools-in-dollars-understanding-people-and-numbers/
LOCATION:Online
CATEGORIES:Register For Events
ATTACH;FMTTYPE=image/avif:https://innovationwomen.com/wp-content/uploads/2025/02/Graves-digitaltodollars_0.avif
END:VEVENT
BEGIN:VEVENT
DTSTART;TZID=America/New_York:20250225T190000
DTEND;TZID=America/New_York:20250225T200000
DTSTAMP:20260421T224526
CREATED:20250225T220451Z
LAST-MODIFIED:20250225T220451Z
UID:37148-1740510000-1740513600@innovationwomen.com
SUMMARY:Alzheimers Family Consulting and Koelsch Communities Monthly Webinar
DESCRIPTION:If you’re looking for dementia care support and someone to guide and support you through the dementia care journey while helping you regain your quality of life\, you’re in the right place. A dementia care coach might be able to help you. \nPam Ostrowski will be presenting “Dementia & Family Dynamics”.
URL:https://innovationwomen.com/event/alzheimers-family-consulting-and-koelsch-communities-monthly-webinar/
LOCATION:Online
CATEGORIES:Register For Events
END:VEVENT
BEGIN:VEVENT
DTSTART;TZID=America/New_York:20250226T120000
DTEND;TZID=America/New_York:20250226T130000
DTSTAMP:20260421T224526
CREATED:20250110T203431Z
LAST-MODIFIED:20250110T203431Z
UID:36855-1740571200-1740574800@innovationwomen.com
SUMMARY:SCORE Small Business Workshops
DESCRIPTION:SCORE can help you start\, grow or successfully exit a business. Small business owners who receive three or more hours of mentoring report higher revenues and increased growth. \nMary Cheyne will present “Multiply Your Small Business Success using Public Speaking even online”.
URL:https://innovationwomen.com/event/score-small-business-workshops/
LOCATION:Online
CATEGORIES:Register For Events
ATTACH;FMTTYPE=image/jpeg:https://innovationwomen.com/wp-content/uploads/2020/04/score-logo-600px.jpg
END:VEVENT
END:VCALENDAR