BEGIN:VCALENDAR
VERSION:2.0
PRODID:-//Innovation Women - ECPv6.15.20//NONSGML v1.0//EN
CALSCALE:GREGORIAN
METHOD:PUBLISH
X-ORIGINAL-URL:https://innovationwomen.com
X-WR-CALDESC:Events for Innovation Women
REFRESH-INTERVAL;VALUE=DURATION:PT1H
X-Robots-Tag:noindex
X-PUBLISHED-TTL:PT1H
BEGIN:VTIMEZONE
TZID:UTC
BEGIN:STANDARD
TZOFFSETFROM:+0000
TZOFFSETTO:+0000
TZNAME:UTC
DTSTART:20230101T000000
END:STANDARD
END:VTIMEZONE
BEGIN:VTIMEZONE
TZID:America/Denver
BEGIN:DAYLIGHT
TZOFFSETFROM:-0700
TZOFFSETTO:-0600
TZNAME:MDT
DTSTART:20230312T090000
END:DAYLIGHT
BEGIN:STANDARD
TZOFFSETFROM:-0600
TZOFFSETTO:-0700
TZNAME:MST
DTSTART:20231105T080000
END:STANDARD
BEGIN:DAYLIGHT
TZOFFSETFROM:-0700
TZOFFSETTO:-0600
TZNAME:MDT
DTSTART:20240310T090000
END:DAYLIGHT
BEGIN:STANDARD
TZOFFSETFROM:-0600
TZOFFSETTO:-0700
TZNAME:MST
DTSTART:20241103T080000
END:STANDARD
BEGIN:DAYLIGHT
TZOFFSETFROM:-0700
TZOFFSETTO:-0600
TZNAME:MDT
DTSTART:20250309T090000
END:DAYLIGHT
BEGIN:STANDARD
TZOFFSETFROM:-0600
TZOFFSETTO:-0700
TZNAME:MST
DTSTART:20251102T080000
END:STANDARD
END:VTIMEZONE
BEGIN:VEVENT
DTSTART;VALUE=DATE:20240507
DTEND;VALUE=DATE:20240513
DTSTAMP:20260419T150626
CREATED:20240305T220904Z
LAST-MODIFIED:20240305T220904Z
UID:33621-1715040000-1715558399@innovationwomen.com
SUMMARY:Hike Like A Woman Virtual Summit
DESCRIPTION:A five-day virtual gathering where women can connect\, learn from women experts in the outdoor industry\, and get inspired to adventure. \nAt the summit\, you’ll hear from speakers who are leaders in the outdoor and wellness space\, learn about trends in outdoor clothing and gear\, and have your questions about hiking\, camping\, backpacking\, adventure travel\, and wellness answered.
URL:https://innovationwomen.com/event/hike-like-a-woman-virtual-summit/
LOCATION:Online
CATEGORIES:Register For Events
ATTACH;FMTTYPE=image/png:https://innovationwomen.com/wp-content/uploads/2024/03/hike-like-a-woman.png
END:VEVENT
BEGIN:VEVENT
DTSTART;VALUE=DATE:20240508
DTEND;VALUE=DATE:20240511
DTSTAMP:20260419T150626
CREATED:20240315T222921Z
LAST-MODIFIED:20240315T222921Z
UID:33735-1715126400-1715385599@innovationwomen.com
SUMMARY:2024 WASBO Annual Conference
DESCRIPTION:The WASBO Conference brings together over 700 school finance and operations professionals from across Washington State. It is the leading conference for anyone involved in school finance and operations in Washington Schools eager to connect\, grow\, and learn. The conference kicks off with a general session at 1:00 PM on Wednesday\, runs throughout Thursday\, and concludes with a lunch and general session on Friday. This three-day affair offers over 125 workshop sessions\, 100 vendors in the exhibit hall\, and ample networking opportunities.
URL:https://innovationwomen.com/event/2024-wasbo-annual-conference/
LOCATION:Greater Tacoma Convention Center\, 1500 Commerce St\, Tacoma\, United States
CATEGORIES:Register For Events
ATTACH;FMTTYPE=image/png:https://innovationwomen.com/wp-content/uploads/2024/03/wasbo.png
END:VEVENT
BEGIN:VEVENT
DTSTART;TZID=America/Denver:20240510T110000
DTEND;TZID=America/Denver:20240510T150000
DTSTAMP:20260419T150626
CREATED:20231206T151740Z
LAST-MODIFIED:20231206T151740Z
UID:32619-1715338800-1715353200@innovationwomen.com
SUMMARY:National Speakers Association - Colorado Chapter
DESCRIPTION:We are speakers\, workshop leaders\, trainers\, corporate consultants\, business coaches\, life coaches\, authors\, aspiring speakers\, and thought leaders. And we’re excited to have you join us! \nPrecious Williams presents “The Niche Factor: Creating Your Own Speaking Lane”
URL:https://innovationwomen.com/event/national-speakers-association-colorado-chapter/
LOCATION:MCA The Cube\, 8371 Northfield Blvd\, Denver\, CO\, United States
CATEGORIES:Register For Events
ATTACH;FMTTYPE=image/jpeg:https://innovationwomen.com/wp-content/uploads/2023/12/nsa-colorado.jpg
END:VEVENT
END:VCALENDAR