BEGIN:VCALENDAR
VERSION:2.0
PRODID:-//Innovation Women - ECPv6.15.20//NONSGML v1.0//EN
CALSCALE:GREGORIAN
METHOD:PUBLISH
X-WR-CALNAME:Innovation Women
X-ORIGINAL-URL:https://innovationwomen.com
X-WR-CALDESC:Events for Innovation Women
REFRESH-INTERVAL;VALUE=DURATION:PT1H
X-Robots-Tag:noindex
X-PUBLISHED-TTL:PT1H
BEGIN:VTIMEZONE
TZID:UTC
BEGIN:STANDARD
TZOFFSETFROM:+0000
TZOFFSETTO:+0000
TZNAME:UTC
DTSTART:20240101T000000
END:STANDARD
END:VTIMEZONE
BEGIN:VTIMEZONE
TZID:America/Phoenix
BEGIN:STANDARD
TZOFFSETFROM:-0700
TZOFFSETTO:-0700
TZNAME:MST
DTSTART:20240101T000000
END:STANDARD
END:VTIMEZONE
BEGIN:VEVENT
DTSTART;VALUE=DATE:20250220
DTEND;VALUE=DATE:20250223
DTSTAMP:20260422T022337
CREATED:20250213T220209Z
LAST-MODIFIED:20250213T220209Z
UID:37095-1740009600-1740268799@innovationwomen.com
SUMMARY:Chicago Dental Society Midwinter Meeting
DESCRIPTION:We look forward to seeing you Feb. 20-22\, 2025 at McCormick Place West in Chicago as we once again bring together our dental community from near and far. Hear exceptional speakers and programs for continuing education\, take in the latest in dental innovations from hundreds of exhibitors and enjoy entertaining events and receptions to celebrate our milestone anniversary year. \nSina Smith\, LAc\, MD will be presenting “Acupuncture for Dentists: History\, Science & Utility”.
URL:https://innovationwomen.com/event/chicago-dental-society-midwinter-meeting/
LOCATION:McCormick Place West\, 2301 S. Indiana Avenue\, Chicago\, IL\, United States
CATEGORIES:Register For Events
ATTACH;FMTTYPE=image/jpeg:https://innovationwomen.com/wp-content/uploads/2025/02/chicago-dental-society.jpg
END:VEVENT
BEGIN:VEVENT
DTSTART;TZID=America/Phoenix:20250222T080000
DTEND;TZID=America/Phoenix:20250222T160000
DTSTAMP:20260422T022337
CREATED:20250110T203912Z
LAST-MODIFIED:20250110T203912Z
UID:36856-1740211200-1740240000@innovationwomen.com
SUMMARY:Empowered Hearts Summit
DESCRIPTION:BOSSIS Management Solutions is thrilled to host the inaugural Empowered Hearts – A Business Summit for Women! Join us for an inspiring networking\, empowerment\, fun\, and evolution day with other like-minded women! \nDr. Minina Johnson will be presenting “Be ambitiouslyH.E.R.™️”.
URL:https://innovationwomen.com/event/empowered-hearts-summit/
LOCATION:Doubletree Hotel Mesa\, 1011 W Holmes Ave\, Mesa\, AZ\, United States
CATEGORIES:Register For Events
ATTACH;FMTTYPE=image/webp:https://innovationwomen.com/wp-content/uploads/2025/01/empowered-hearts.webp
END:VEVENT
END:VCALENDAR