BEGIN:VCALENDAR
VERSION:2.0
PRODID:-//Innovation Women - ECPv6.15.20//NONSGML v1.0//EN
CALSCALE:GREGORIAN
METHOD:PUBLISH
X-ORIGINAL-URL:https://innovationwomen.com
X-WR-CALDESC:Events for Innovation Women
REFRESH-INTERVAL;VALUE=DURATION:PT1H
X-Robots-Tag:noindex
X-PUBLISHED-TTL:PT1H
BEGIN:VTIMEZONE
TZID:UTC
BEGIN:STANDARD
TZOFFSETFROM:+0000
TZOFFSETTO:+0000
TZNAME:UTC
DTSTART:20240101T000000
END:STANDARD
END:VTIMEZONE
BEGIN:VEVENT
DTSTART;VALUE=DATE:20250805
DTEND;VALUE=DATE:20250806
DTSTAMP:20260424T145242
CREATED:20250801T202035Z
LAST-MODIFIED:20250801T202035Z
UID:38287-1754352000-1754438399@innovationwomen.com
SUMMARY:PESI Inc. Online Seminars
DESCRIPTION:Since 1979\, PESI Inc.\, has provided cutting edge continuing education to professionals across the nation. We work alongside the world’s leading experts to create seminars\, conferences\, videos and books that meet the needs of adult learners. All of our continuing education seminars and products assure that professionals can meet the changing demands of their work by providing practical strategies\, methods and interventions they can use immediately to improve the outcomes of their clients. \nDr. Ashley Smith will be presenting “Integrative Mental Health: Treating Anxiety and Depression with a Whole-Person Perspective”. \n 
URL:https://innovationwomen.com/event/pesi-inc-online-seminars/
LOCATION:Online
CATEGORIES:Register For Events
ATTACH;FMTTYPE=image/jpeg:https://innovationwomen.com/wp-content/uploads/2025/08/150256.jpg
END:VEVENT
BEGIN:VEVENT
DTSTART;VALUE=DATE:20250807
DTEND;VALUE=DATE:20250809
DTSTAMP:20260424T145242
CREATED:20250711T204337Z
LAST-MODIFIED:20250711T204337Z
UID:38094-1754524800-1754697599@innovationwomen.com
SUMMARY:9th MedDev eMarketing Summit
DESCRIPTION:Now in its 9th incredible year\, the 2025 MedDev eMarketing Summit returns to San Diego this August—bringing together a vibrant community of MedTech marketers\, innovators\, and leaders passionate about transforming the way medical devices are brought to market. \nIkram Guerd will be presenting “From 0 to 3M views: How marketing can drive meaningful conversations in MedTech”.
URL:https://innovationwomen.com/event/9th-meddev-emarketing-summit/
LOCATION:Bahia Resort Hotel\, 998 W Mission Bay Dr\, San Diego\, CA\, United States
CATEGORIES:Register For Events
ATTACH;FMTTYPE=image/avif:https://innovationwomen.com/wp-content/uploads/2025/07/https___cdn.evbuc_.com_images_976408403_266439685004_1_original.avif
END:VEVENT
BEGIN:VEVENT
DTSTART;VALUE=DATE:20250820
DTEND;VALUE=DATE:20250822
DTSTAMP:20260424T145242
CREATED:20250801T201354Z
LAST-MODIFIED:20250801T201354Z
UID:38285-1755648000-1755820799@innovationwomen.com
SUMMARY:Advanced Clinical Anxiety & Mindfulness Training
DESCRIPTION:Other mental health professionals are leveling up their careers with Anxiety & Mindfulness Certifications — now it’s your turn. In just 4 days worth of course content\, you can complete the education requirements for Anxiety & Mindfulness Certifications through Evergreen\, live or recorded\, with expert training that actually sticks. Whether you’re brand-new to Anxiety & Mindfulness or sharpening your skills — this training gives you the confidence\, credibility\, and certification to advance your career. \nDr. Ashley Smith will be presenting “Anxiety Certification Course”.
URL:https://innovationwomen.com/event/advanced-clinical-anxiety-mindfulness-training/
LOCATION:Online
CATEGORIES:Register For Events
ATTACH;FMTTYPE=image/webp:https://innovationwomen.com/wp-content/uploads/2025/08/ecare.webp
END:VEVENT
END:VCALENDAR