BEGIN:VCALENDAR
VERSION:2.0
PRODID:-//Innovation Women - ECPv6.15.20//NONSGML v1.0//EN
CALSCALE:GREGORIAN
METHOD:PUBLISH
X-WR-CALNAME:Innovation Women
X-ORIGINAL-URL:https://innovationwomen.com
X-WR-CALDESC:Events for Innovation Women
REFRESH-INTERVAL;VALUE=DURATION:PT1H
X-Robots-Tag:noindex
X-PUBLISHED-TTL:PT1H
BEGIN:VTIMEZONE
TZID:UTC
BEGIN:STANDARD
TZOFFSETFROM:+0000
TZOFFSETTO:+0000
TZNAME:UTC
DTSTART:20220101T000000
END:STANDARD
END:VTIMEZONE
BEGIN:VTIMEZONE
TZID:America/New_York
BEGIN:DAYLIGHT
TZOFFSETFROM:-0500
TZOFFSETTO:-0400
TZNAME:EDT
DTSTART:20220313T070000
END:DAYLIGHT
BEGIN:STANDARD
TZOFFSETFROM:-0400
TZOFFSETTO:-0500
TZNAME:EST
DTSTART:20221106T060000
END:STANDARD
BEGIN:DAYLIGHT
TZOFFSETFROM:-0500
TZOFFSETTO:-0400
TZNAME:EDT
DTSTART:20230312T070000
END:DAYLIGHT
BEGIN:STANDARD
TZOFFSETFROM:-0400
TZOFFSETTO:-0500
TZNAME:EST
DTSTART:20231105T060000
END:STANDARD
BEGIN:DAYLIGHT
TZOFFSETFROM:-0500
TZOFFSETTO:-0400
TZNAME:EDT
DTSTART:20240310T070000
END:DAYLIGHT
BEGIN:STANDARD
TZOFFSETFROM:-0400
TZOFFSETTO:-0500
TZNAME:EST
DTSTART:20241103T060000
END:STANDARD
END:VTIMEZONE
BEGIN:VEVENT
DTSTART;VALUE=DATE:20231205
DTEND;VALUE=DATE:20231207
DTSTAMP:20260422T012525
CREATED:20231122T225402Z
LAST-MODIFIED:20231122T225402Z
UID:32151-1701734400-1701907199@innovationwomen.com
SUMMARY:ENGAGE 2023 Microsoft Technology Conference
DESCRIPTION:ENGAGE 2023 is a free virtual event featuring over 70 educational and promotional sessions\, encompassing a wide range of Microsoft technologies. Over the course of two knowledge- packed days\, ENGAGE 2023 offers a comprehensive platform for individuals and organizations alike to enhance their understanding and proficiency in the Microsoft ecosystem.
URL:https://innovationwomen.com/event/engage-2023-microsoft-technology-conference/
LOCATION:Online
CATEGORIES:Register For Events
ATTACH;FMTTYPE=image/png:https://innovationwomen.com/wp-content/uploads/2023/11/engage-2023.png
END:VEVENT
BEGIN:VEVENT
DTSTART;VALUE=DATE:20231205
DTEND;VALUE=DATE:20231207
DTSTAMP:20260422T012525
CREATED:20231206T145032Z
LAST-MODIFIED:20231206T145032Z
UID:32606-1701734400-1701907199@innovationwomen.com
SUMMARY:Engage 2023
DESCRIPTION:ENGAGE 2023 is a free virtual event featuring over 70 educational and promotional sessions\, encompassing a wide range of Microsoft technologies. Over the course of two knowledge- packed days\, ENGAGE 2023 offers a comprehensive platform for individuals and organizations alike to enhance their understanding and proficiency in the Microsoft ecosystem.
URL:https://innovationwomen.com/event/engage-2023/
LOCATION:Online
CATEGORIES:Register For Events
ATTACH;FMTTYPE=image/png:https://innovationwomen.com/wp-content/uploads/2023/12/3180443-654d56c861cb2.png
END:VEVENT
BEGIN:VEVENT
DTSTART;TZID=America/New_York:20231205T190000
DTEND;TZID=America/New_York:20231205T203000
DTSTAMP:20260422T012525
CREATED:20231103T214845Z
LAST-MODIFIED:20231103T214845Z
UID:29194-1701802800-1701808200@innovationwomen.com
SUMMARY:Rest\, Don’t Rush\, Into the Holidays With Dr. Sandra
DESCRIPTION:This workshop is an opportunity to create a new path through the holiday rush. While it can be a stressful time\, we can gather our inner resources and create a different experience. \nJoin Dr. Sandra in this interactive workshop to learn simple strategies to reset and shift more easily. Including Yoga Nidra practice. Yoga Nidra has been referred to as sleepless sleep. Researchers sometimes call it non-sleep deep rest. Yoga Nidra is an ancient practice that takes us through the states of consciousness from fully awake to deep rest. Deep rest is where we heal\, transform\, and create.
URL:https://innovationwomen.com/event/rest-dont-rush-into-the-holidays-with-dr-sandra/
LOCATION:Loop\, 80 Maple Avenue\, Montclair\, NJ\, United States
CATEGORIES:Register For Events
ATTACH;FMTTYPE=image/jpeg:https://innovationwomen.com/wp-content/uploads/2023/11/loopwithus_logo.jpg
END:VEVENT
END:VCALENDAR