BEGIN:VCALENDAR
VERSION:2.0
PRODID:-//Innovation Women - ECPv6.15.20//NONSGML v1.0//EN
CALSCALE:GREGORIAN
METHOD:PUBLISH
X-ORIGINAL-URL:https://innovationwomen.com
X-WR-CALDESC:Events for Innovation Women
REFRESH-INTERVAL;VALUE=DURATION:PT1H
X-Robots-Tag:noindex
X-PUBLISHED-TTL:PT1H
BEGIN:VTIMEZONE
TZID:America/New_York
BEGIN:DAYLIGHT
TZOFFSETFROM:-0500
TZOFFSETTO:-0400
TZNAME:EDT
DTSTART:20230312T070000
END:DAYLIGHT
BEGIN:STANDARD
TZOFFSETFROM:-0400
TZOFFSETTO:-0500
TZNAME:EST
DTSTART:20231105T060000
END:STANDARD
BEGIN:DAYLIGHT
TZOFFSETFROM:-0500
TZOFFSETTO:-0400
TZNAME:EDT
DTSTART:20240310T070000
END:DAYLIGHT
BEGIN:STANDARD
TZOFFSETFROM:-0400
TZOFFSETTO:-0500
TZNAME:EST
DTSTART:20241103T060000
END:STANDARD
BEGIN:DAYLIGHT
TZOFFSETFROM:-0500
TZOFFSETTO:-0400
TZNAME:EDT
DTSTART:20250309T070000
END:DAYLIGHT
BEGIN:STANDARD
TZOFFSETFROM:-0400
TZOFFSETTO:-0500
TZNAME:EST
DTSTART:20251102T060000
END:STANDARD
END:VTIMEZONE
BEGIN:VEVENT
DTSTART;TZID=America/New_York:20240110T120000
DTEND;TZID=America/New_York:20240110T133000
DTSTAMP:20260419T222122
CREATED:20231221T224338Z
LAST-MODIFIED:20231221T224338Z
UID:32870-1704888000-1704893400@innovationwomen.com
SUMMARY:Pitch Like a Pro: How to Avoid Death by PowerPoint
DESCRIPTION:Do you struggle to build an effective pitch deck? Do you wish you had the tools to build a memorable deck that stands out in the minds of your ideal investors? A pitch deck should help investors quickly understand the problem you’re solving and why your solution is worthy of investment. But too often poor presentations have the opposite effect. Busy\, confusing slides make it hard to follow and your presentation ends up overwhelming your audience with content that gets in the way of the story they need to hear. This webinar unpacks the visual and storytelling tools that are at the heart of every great pitch deck.
URL:https://innovationwomen.com/event/pitch-like-a-pro-how-to-avoid-death-by-powerpoint/
LOCATION:Online
CATEGORIES:Register For Events
ATTACH;FMTTYPE=image/png:https://innovationwomen.com/wp-content/uploads/2023/12/pitch-like-a-pro.png
END:VEVENT
BEGIN:VEVENT
DTSTART;TZID=America/New_York:20240110T123000
DTEND;TZID=America/New_York:20240110T133000
DTSTAMP:20260419T222122
CREATED:20231206T150527Z
LAST-MODIFIED:20231206T150527Z
UID:32611-1704889800-1704893400@innovationwomen.com
SUMMARY:Integrating Self Care Into Jam-Packed Schedules with Dr. Susan Lovelle
DESCRIPTION:Self-care is a critical part of a fulfilled\, productive life. Yet your day is already crammed full with work demands\, school activities\, attending sporting events\, and caring for your family. How do you find the time to adopt the practices you know are valuable for your well-being without feeling like you’re just trying to fit one more thing into an already jam-packed day?
URL:https://innovationwomen.com/event/integrating-self-care-into-jam-packed-schedules-with-dr-susan-lovelle/
LOCATION:Online
CATEGORIES:Register For Events
ATTACH;FMTTYPE=image/png:https://innovationwomen.com/wp-content/uploads/2023/12/Integratign-self-care-into-jam-packed-schedules.png
END:VEVENT
END:VCALENDAR