BEGIN:VCALENDAR
VERSION:2.0
PRODID:-//Innovation Women - ECPv6.15.20//NONSGML v1.0//EN
CALSCALE:GREGORIAN
METHOD:PUBLISH
X-ORIGINAL-URL:https://innovationwomen.com
X-WR-CALDESC:Events for Innovation Women
REFRESH-INTERVAL;VALUE=DURATION:PT1H
X-Robots-Tag:noindex
X-PUBLISHED-TTL:PT1H
BEGIN:VTIMEZONE
TZID:America/Los_Angeles
BEGIN:DAYLIGHT
TZOFFSETFROM:-0800
TZOFFSETTO:-0700
TZNAME:PDT
DTSTART:20250309T100000
END:DAYLIGHT
BEGIN:STANDARD
TZOFFSETFROM:-0700
TZOFFSETTO:-0800
TZNAME:PST
DTSTART:20251102T090000
END:STANDARD
BEGIN:DAYLIGHT
TZOFFSETFROM:-0800
TZOFFSETTO:-0700
TZNAME:PDT
DTSTART:20260308T100000
END:DAYLIGHT
BEGIN:STANDARD
TZOFFSETFROM:-0700
TZOFFSETTO:-0800
TZNAME:PST
DTSTART:20261101T090000
END:STANDARD
BEGIN:DAYLIGHT
TZOFFSETFROM:-0800
TZOFFSETTO:-0700
TZNAME:PDT
DTSTART:20270314T100000
END:DAYLIGHT
BEGIN:STANDARD
TZOFFSETFROM:-0700
TZOFFSETTO:-0800
TZNAME:PST
DTSTART:20271107T090000
END:STANDARD
END:VTIMEZONE
BEGIN:VTIMEZONE
TZID:America/New_York
BEGIN:DAYLIGHT
TZOFFSETFROM:-0500
TZOFFSETTO:-0400
TZNAME:EDT
DTSTART:20250309T070000
END:DAYLIGHT
BEGIN:STANDARD
TZOFFSETFROM:-0400
TZOFFSETTO:-0500
TZNAME:EST
DTSTART:20251102T060000
END:STANDARD
BEGIN:DAYLIGHT
TZOFFSETFROM:-0500
TZOFFSETTO:-0400
TZNAME:EDT
DTSTART:20260308T070000
END:DAYLIGHT
BEGIN:STANDARD
TZOFFSETFROM:-0400
TZOFFSETTO:-0500
TZNAME:EST
DTSTART:20261101T060000
END:STANDARD
BEGIN:DAYLIGHT
TZOFFSETFROM:-0500
TZOFFSETTO:-0400
TZNAME:EDT
DTSTART:20270314T070000
END:DAYLIGHT
BEGIN:STANDARD
TZOFFSETFROM:-0400
TZOFFSETTO:-0500
TZNAME:EST
DTSTART:20271107T060000
END:STANDARD
END:VTIMEZONE
BEGIN:VEVENT
DTSTART;TZID=America/Los_Angeles:20260304T070000
DTEND;TZID=America/Los_Angeles:20260304T190000
DTSTAMP:20260419T150438
CREATED:20260202T213558Z
LAST-MODIFIED:20260202T213558Z
UID:43264-1772607600-1772650800@innovationwomen.com
SUMMARY:Voices of Women Summit #6
DESCRIPTION:Join us for the sixth annual Voices of Women Summit\, a powerful one-day live virtual event on March 4\, 2026\, in celebration of International Women’s Day! This summit is a high-energy\, deeply inspiring\, and wildly fun gathering of women from around the world\, sharing their messages\, making an impact\, and shaping the future. \nKim Groshek will be presenting “Build What Outlasts You”.
URL:https://innovationwomen.com/event/voices-of-women-summit-6/
LOCATION:Online
CATEGORIES:Register For Events
ATTACH;FMTTYPE=image/png:https://innovationwomen.com/wp-content/uploads/2026/02/Kim_Groshek-speaking.png
END:VEVENT
BEGIN:VEVENT
DTSTART;TZID=America/New_York:20260304T100000
DTEND;TZID=America/New_York:20260304T163000
DTSTAMP:20260419T150438
CREATED:20260131T215102Z
LAST-MODIFIED:20260131T215102Z
UID:43261-1772618400-1772641800@innovationwomen.com
SUMMARY:CFW National - A Virtual Gathering
DESCRIPTION:CFW is the largest network of women’s conferences in the country\, empowering the nation’s leading employers\, teams\, and individuals to reach their full potential at work and in life. \nNaeemah Elias will be presenting “Transforming AI from Tool to Teammate”.
URL:https://innovationwomen.com/event/cfw-national-a-virtual-gathering/
LOCATION:Online
CATEGORIES:Register For Events
ATTACH;FMTTYPE=image/png:https://innovationwomen.com/wp-content/uploads/2026/01/cfw-national.png
END:VEVENT
END:VCALENDAR