BEGIN:VCALENDAR
VERSION:2.0
PRODID:-//Innovation Women - ECPv6.15.20//NONSGML v1.0//EN
CALSCALE:GREGORIAN
METHOD:PUBLISH
X-ORIGINAL-URL:https://innovationwomen.com
X-WR-CALDESC:Events for Innovation Women
REFRESH-INTERVAL;VALUE=DURATION:PT1H
X-Robots-Tag:noindex
X-PUBLISHED-TTL:PT1H
BEGIN:VTIMEZONE
TZID:UTC
BEGIN:STANDARD
TZOFFSETFROM:+0000
TZOFFSETTO:+0000
TZNAME:UTC
DTSTART:20230101T000000
END:STANDARD
END:VTIMEZONE
BEGIN:VTIMEZONE
TZID:America/New_York
BEGIN:DAYLIGHT
TZOFFSETFROM:-0500
TZOFFSETTO:-0400
TZNAME:EDT
DTSTART:20230312T070000
END:DAYLIGHT
BEGIN:STANDARD
TZOFFSETFROM:-0400
TZOFFSETTO:-0500
TZNAME:EST
DTSTART:20231105T060000
END:STANDARD
BEGIN:DAYLIGHT
TZOFFSETFROM:-0500
TZOFFSETTO:-0400
TZNAME:EDT
DTSTART:20240310T070000
END:DAYLIGHT
BEGIN:STANDARD
TZOFFSETFROM:-0400
TZOFFSETTO:-0500
TZNAME:EST
DTSTART:20241103T060000
END:STANDARD
BEGIN:DAYLIGHT
TZOFFSETFROM:-0500
TZOFFSETTO:-0400
TZNAME:EDT
DTSTART:20250309T070000
END:DAYLIGHT
BEGIN:STANDARD
TZOFFSETFROM:-0400
TZOFFSETTO:-0500
TZNAME:EST
DTSTART:20251102T060000
END:STANDARD
END:VTIMEZONE
BEGIN:VEVENT
DTSTART;VALUE=DATE:20241112
DTEND;VALUE=DATE:20241115
DTSTAMP:20260419T203904
CREATED:20241018T213116Z
LAST-MODIFIED:20241018T213214Z
UID:36141-1731369600-1731628799@innovationwomen.com
SUMMARY:Welcome To Holiday ThriveFest: Unlocking Health\, Happiness\, and Wellness Secrets
DESCRIPTION:Our summit aims to bring together experts in various aspects of wellness\, from natural dietary practices to exercise\, nutrition\, sleep\, and more. Introducing our Virtual Summit on “Holiday Bliss.” We aim to merge festivities with fitness\, budgeting with banquets\, and relaxation with rejuvenation. \nKim Groshek\, The Original Pause Lady™ will be presenting “Revolutionizing the Holiday Experience! at Holiday ThriveFest: Unlocking Health\, Happiness\, and Wellness Secrets”.
URL:https://innovationwomen.com/event/welcome-to-holiday-thrivefest-unlocking-health-happiness-and-wellness-secrets/
LOCATION:Online
CATEGORIES:Register For Events
ATTACH;FMTTYPE=image/jpeg:https://innovationwomen.com/wp-content/uploads/2024/10/holiday-thrivefest.jpg
END:VEVENT
BEGIN:VEVENT
DTSTART;TZID=America/New_York:20241114T120000
DTEND;TZID=America/New_York:20241114T133000
DTSTAMP:20260419T203904
CREATED:20241105T224820Z
LAST-MODIFIED:20241107T203416Z
UID:36415-1731585600-1731591000@innovationwomen.com
SUMMARY:FinArc's expert speaker webinar series
DESCRIPTION:FinArc’s expert speaker webinar series brings you interesting and informative experts to complement FinArc’s own wealth management expertise. Topics are selected to appeal to women\, sustainable investors and/or entrepreneurs; three groups that FinArc specializes in serving. \nAlison Jacobson will present “Shut the FEAR Up! A roadmap to Become Confident\, Courageous and Successful”.
URL:https://innovationwomen.com/event/finarcs-expert-speaker-webinar-series/
LOCATION:Online
CATEGORIES:Register For Events
ATTACH;FMTTYPE=image/jpeg:https://innovationwomen.com/wp-content/uploads/2024/11/finarc-investments.jpg
END:VEVENT
END:VCALENDAR