BEGIN:VCALENDAR
VERSION:2.0
PRODID:-//Innovation Women - ECPv6.15.20//NONSGML v1.0//EN
CALSCALE:GREGORIAN
METHOD:PUBLISH
X-ORIGINAL-URL:https://innovationwomen.com
X-WR-CALDESC:Events for Innovation Women
REFRESH-INTERVAL;VALUE=DURATION:PT1H
X-Robots-Tag:noindex
X-PUBLISHED-TTL:PT1H
BEGIN:VTIMEZONE
TZID:UTC
BEGIN:STANDARD
TZOFFSETFROM:+0000
TZOFFSETTO:+0000
TZNAME:UTC
DTSTART:20220101T000000
END:STANDARD
END:VTIMEZONE
BEGIN:VEVENT
DTSTART;VALUE=DATE:20231002
DTEND;VALUE=DATE:20231004
DTSTAMP:20260425T140049
CREATED:20230919T220839Z
LAST-MODIFIED:20230919T220839Z
UID:28003-1696204800-1696377599@innovationwomen.com
SUMMARY:ALM GC Conference East 2023
DESCRIPTION:General Counsel Conference East is the premier forum for General Counsel to learn\, network\, and evolve in their roles. With a focus on the in-house counsel’s perspective\, sessions will tackle topics covering Strategic Leadership\, Technology and Cybersecurity Risks\, Global Supply Chain Issues\, ESG Integration\, Emerging Data Privacy Laws and Regulatory Changes\, and MUCH MORE!
URL:https://innovationwomen.com/event/alm-gc-conference-east-2023/
LOCATION:New York Marriott at the Brooklyn Bridge\, 333 Adams St\, Brooklyn\, NY\, United States
CATEGORIES:Register For Events
ATTACH;FMTTYPE=image/jpeg:https://innovationwomen.com/wp-content/uploads/2023/09/alm-law.jpg
END:VEVENT
END:VCALENDAR