BEGIN:VCALENDAR
VERSION:2.0
PRODID:-//Innovation Women - ECPv6.15.20//NONSGML v1.0//EN
CALSCALE:GREGORIAN
METHOD:PUBLISH
X-WR-CALNAME:Innovation Women
X-ORIGINAL-URL:https://innovationwomen.com
X-WR-CALDESC:Events for Innovation Women
REFRESH-INTERVAL;VALUE=DURATION:PT1H
X-Robots-Tag:noindex
X-PUBLISHED-TTL:PT1H
BEGIN:VTIMEZONE
TZID:America/Chicago
BEGIN:DAYLIGHT
TZOFFSETFROM:-0600
TZOFFSETTO:-0500
TZNAME:CDT
DTSTART:20230312T080000
END:DAYLIGHT
BEGIN:STANDARD
TZOFFSETFROM:-0500
TZOFFSETTO:-0600
TZNAME:CST
DTSTART:20231105T070000
END:STANDARD
BEGIN:DAYLIGHT
TZOFFSETFROM:-0600
TZOFFSETTO:-0500
TZNAME:CDT
DTSTART:20240310T080000
END:DAYLIGHT
BEGIN:STANDARD
TZOFFSETFROM:-0500
TZOFFSETTO:-0600
TZNAME:CST
DTSTART:20241103T070000
END:STANDARD
BEGIN:DAYLIGHT
TZOFFSETFROM:-0600
TZOFFSETTO:-0500
TZNAME:CDT
DTSTART:20250309T080000
END:DAYLIGHT
BEGIN:STANDARD
TZOFFSETFROM:-0500
TZOFFSETTO:-0600
TZNAME:CST
DTSTART:20251102T070000
END:STANDARD
END:VTIMEZONE
BEGIN:VTIMEZONE
TZID:America/Denver
BEGIN:DAYLIGHT
TZOFFSETFROM:-0700
TZOFFSETTO:-0600
TZNAME:MDT
DTSTART:20230312T090000
END:DAYLIGHT
BEGIN:STANDARD
TZOFFSETFROM:-0600
TZOFFSETTO:-0700
TZNAME:MST
DTSTART:20231105T080000
END:STANDARD
BEGIN:DAYLIGHT
TZOFFSETFROM:-0700
TZOFFSETTO:-0600
TZNAME:MDT
DTSTART:20240310T090000
END:DAYLIGHT
BEGIN:STANDARD
TZOFFSETFROM:-0600
TZOFFSETTO:-0700
TZNAME:MST
DTSTART:20241103T080000
END:STANDARD
BEGIN:DAYLIGHT
TZOFFSETFROM:-0700
TZOFFSETTO:-0600
TZNAME:MDT
DTSTART:20250309T090000
END:DAYLIGHT
BEGIN:STANDARD
TZOFFSETFROM:-0600
TZOFFSETTO:-0700
TZNAME:MST
DTSTART:20251102T080000
END:STANDARD
END:VTIMEZONE
BEGIN:VTIMEZONE
TZID:UTC
BEGIN:STANDARD
TZOFFSETFROM:+0000
TZOFFSETTO:+0000
TZNAME:UTC
DTSTART:20230101T000000
END:STANDARD
END:VTIMEZONE
BEGIN:VEVENT
DTSTART;TZID=America/Chicago:20240501T120000
DTEND;TZID=America/Chicago:20240501T130000
DTSTAMP:20260424T031039
CREATED:20240409T205216Z
LAST-MODIFIED:20240409T205216Z
UID:33951-1714564800-1714568400@innovationwomen.com
SUMMARY:Ignite Growth: Explode Your Brand with the Power of Video
DESCRIPTION:Learn how to create impactful video content on a shoestring budget and amplify your brand reach. Feeling stuck in a marketing rut?  In today’s fast-paced digital landscape\, captivating video content is essential for any brand that wants to thrive. But where do you start? How do you create videos that truly connect with your audience and drive results?  Join us for this actionable webinar and discover how to leverage the power of video to skyrocket your brand growth.
URL:https://innovationwomen.com/event/ignite-growth-explode-your-brand-with-the-power-of-video/
LOCATION:Online
CATEGORIES:Register For Events
ATTACH;FMTTYPE=image/jpeg:https://innovationwomen.com/wp-content/uploads/2024/04/sba.jpg
END:VEVENT
BEGIN:VEVENT
DTSTART;TZID=America/Denver:20240510T110000
DTEND;TZID=America/Denver:20240510T150000
DTSTAMP:20260424T031039
CREATED:20231206T151740Z
LAST-MODIFIED:20231206T151740Z
UID:32619-1715338800-1715353200@innovationwomen.com
SUMMARY:National Speakers Association - Colorado Chapter
DESCRIPTION:We are speakers\, workshop leaders\, trainers\, corporate consultants\, business coaches\, life coaches\, authors\, aspiring speakers\, and thought leaders. And we’re excited to have you join us! \nPrecious Williams presents “The Niche Factor: Creating Your Own Speaking Lane”
URL:https://innovationwomen.com/event/national-speakers-association-colorado-chapter/
LOCATION:MCA The Cube\, 8371 Northfield Blvd\, Denver\, CO\, United States
CATEGORIES:Register For Events
ATTACH;FMTTYPE=image/jpeg:https://innovationwomen.com/wp-content/uploads/2023/12/nsa-colorado.jpg
END:VEVENT
BEGIN:VEVENT
DTSTART;VALUE=DATE:20240524
DTEND;VALUE=DATE:20240525
DTSTAMP:20260424T031039
CREATED:20231206T151055Z
LAST-MODIFIED:20231206T151055Z
UID:32616-1716508800-1716595199@innovationwomen.com
SUMMARY:Malden Chamber of Commerce Speaker Series: The Voices of Success
DESCRIPTION:We are pleased to offer you a series of locally and nationally known speakers who will share their inspirational life and work experiences. They will tell the stories of their successes and failures\, at the same time demonstrating the perseverance it takes to be successful. These speakers will offer real\, skill-based advice on topics ranging from painless networking\, perfecting the perfect pitch and impactful communication.
URL:https://innovationwomen.com/event/malden-chamber-of-commerce-speaker-series-the-voices-of-success/
LOCATION:Malden MA\, Malden\, MA\, United States
CATEGORIES:Register For Events
ATTACH;FMTTYPE=image/webp:https://innovationwomen.com/wp-content/uploads/2023/12/Voices-of-Success-600x600-1.webp
END:VEVENT
END:VCALENDAR