BEGIN:VCALENDAR
VERSION:2.0
PRODID:-//Innovation Women - ECPv6.15.20//NONSGML v1.0//EN
CALSCALE:GREGORIAN
METHOD:PUBLISH
X-WR-CALNAME:Innovation Women
X-ORIGINAL-URL:https://innovationwomen.com
X-WR-CALDESC:Events for Innovation Women
REFRESH-INTERVAL;VALUE=DURATION:PT1H
X-Robots-Tag:noindex
X-PUBLISHED-TTL:PT1H
BEGIN:VTIMEZONE
TZID:America/New_York
BEGIN:DAYLIGHT
TZOFFSETFROM:-0500
TZOFFSETTO:-0400
TZNAME:EDT
DTSTART:20220313T070000
END:DAYLIGHT
BEGIN:STANDARD
TZOFFSETFROM:-0400
TZOFFSETTO:-0500
TZNAME:EST
DTSTART:20221106T060000
END:STANDARD
BEGIN:DAYLIGHT
TZOFFSETFROM:-0500
TZOFFSETTO:-0400
TZNAME:EDT
DTSTART:20230312T070000
END:DAYLIGHT
BEGIN:STANDARD
TZOFFSETFROM:-0400
TZOFFSETTO:-0500
TZNAME:EST
DTSTART:20231105T060000
END:STANDARD
BEGIN:DAYLIGHT
TZOFFSETFROM:-0500
TZOFFSETTO:-0400
TZNAME:EDT
DTSTART:20240310T070000
END:DAYLIGHT
BEGIN:STANDARD
TZOFFSETFROM:-0400
TZOFFSETTO:-0500
TZNAME:EST
DTSTART:20241103T060000
END:STANDARD
END:VTIMEZONE
BEGIN:VTIMEZONE
TZID:UTC
BEGIN:STANDARD
TZOFFSETFROM:+0000
TZOFFSETTO:+0000
TZNAME:UTC
DTSTART:20220101T000000
END:STANDARD
END:VTIMEZONE
BEGIN:VEVENT
DTSTART;TZID=America/New_York:20231009T090000
DTEND;TZID=America/New_York:20231108T093000
DTSTAMP:20260422T105620
CREATED:20230915T221518Z
LAST-MODIFIED:20230915T221518Z
UID:27978-1696842000-1699435800@innovationwomen.com
SUMMARY:Freelance Business MONTH
DESCRIPTION:The Freelance Business Month is an event designed to unite the freelance ecosystem and to show the power of growing independent businesses. \nWith the key focus on independent professionals and their supporters\, the event will last the entire month and will be the epicentre of cultivating ideas\, knowledge\, skills sharing and learning new tools that enhance freelance productivity and efficiency.
URL:https://innovationwomen.com/event/freelance-business-month/
LOCATION:Online
CATEGORIES:Register For Events
ATTACH;FMTTYPE=image/jpeg:https://innovationwomen.com/wp-content/uploads/2023/09/freelance-business-month.jpg
END:VEVENT
BEGIN:VEVENT
DTSTART;VALUE=DATE:20231101
DTEND;VALUE=DATE:20231105
DTSTAMP:20260422T105620
CREATED:20230919T221135Z
LAST-MODIFIED:20230919T221135Z
UID:28007-1698796800-1699142399@innovationwomen.com
SUMMARY:Medical Fitness Association 33rd Annual Conference
DESCRIPTION:What’s included in your MFA Annual Conference registration? \nAccess to over 170 Educational Seminars\nOver 10 Hours of Continuing Education Credits\nEndless Networking Opportunities\nAccess to over 250 Exhibitors (even try out equipment!)\nCelebration of the 2023 MFA Award Winners\nWelcome Reception\nAccess to MFA & AB Show Keynotes
URL:https://innovationwomen.com/event/medical-fitness-association-33rd-annual-conference/
LOCATION:Baltimore Convention Center\, 1 W Pratt St\, Baltimore\, MD\, United States
CATEGORIES:Register For Events
ATTACH;FMTTYPE=image/png:https://innovationwomen.com/wp-content/uploads/2023/09/medical-fitness.png
END:VEVENT
BEGIN:VEVENT
DTSTART;VALUE=DATE:20231103
DTEND;VALUE=DATE:20231105
DTSTAMP:20260422T105620
CREATED:20231025T223904Z
LAST-MODIFIED:20231025T223904Z
UID:28909-1698969600-1699142399@innovationwomen.com
SUMMARY:The 53rd NYS TESOL Annual Conference
DESCRIPTION:The NYS TESOL 53rd Annual Conference invites you to participate\, present\, and collaborate among the TESOL community across NYS and the world. Be part of our two-day\, in-person\, summit of talks\, activities\, and workshops.
URL:https://innovationwomen.com/event/the-53rd-nys-tesol-annual-conference/
LOCATION:Hilton Albany Conference Center Hotel\, 40 Lodge St\, Albany\, NY\, United States
CATEGORIES:Register For Events
ATTACH;FMTTYPE=image/png:https://innovationwomen.com/wp-content/uploads/2023/10/53rd_Annual_Conf_Temporary_Logo_09012023103431.png
END:VEVENT
END:VCALENDAR