BEGIN:VCALENDAR
VERSION:2.0
PRODID:-//Innovation Women - ECPv6.15.20//NONSGML v1.0//EN
CALSCALE:GREGORIAN
METHOD:PUBLISH
X-ORIGINAL-URL:https://innovationwomen.com
X-WR-CALDESC:Events for Innovation Women
REFRESH-INTERVAL;VALUE=DURATION:PT1H
X-Robots-Tag:noindex
X-PUBLISHED-TTL:PT1H
BEGIN:VTIMEZONE
TZID:America/New_York
BEGIN:DAYLIGHT
TZOFFSETFROM:-0500
TZOFFSETTO:-0400
TZNAME:EDT
DTSTART:20220313T070000
END:DAYLIGHT
BEGIN:STANDARD
TZOFFSETFROM:-0400
TZOFFSETTO:-0500
TZNAME:EST
DTSTART:20221106T060000
END:STANDARD
BEGIN:DAYLIGHT
TZOFFSETFROM:-0500
TZOFFSETTO:-0400
TZNAME:EDT
DTSTART:20230312T070000
END:DAYLIGHT
BEGIN:STANDARD
TZOFFSETFROM:-0400
TZOFFSETTO:-0500
TZNAME:EST
DTSTART:20231105T060000
END:STANDARD
BEGIN:DAYLIGHT
TZOFFSETFROM:-0500
TZOFFSETTO:-0400
TZNAME:EDT
DTSTART:20240310T070000
END:DAYLIGHT
BEGIN:STANDARD
TZOFFSETFROM:-0400
TZOFFSETTO:-0500
TZNAME:EST
DTSTART:20241103T060000
END:STANDARD
END:VTIMEZONE
BEGIN:VTIMEZONE
TZID:UTC
BEGIN:STANDARD
TZOFFSETFROM:+0000
TZOFFSETTO:+0000
TZNAME:UTC
DTSTART:20220101T000000
END:STANDARD
END:VTIMEZONE
BEGIN:VEVENT
DTSTART;TZID=America/New_York:20231009T090000
DTEND;TZID=America/New_York:20231108T093000
DTSTAMP:20260420T134928
CREATED:20230915T221518Z
LAST-MODIFIED:20230915T221518Z
UID:27978-1696842000-1699435800@innovationwomen.com
SUMMARY:Freelance Business MONTH
DESCRIPTION:The Freelance Business Month is an event designed to unite the freelance ecosystem and to show the power of growing independent businesses. \nWith the key focus on independent professionals and their supporters\, the event will last the entire month and will be the epicentre of cultivating ideas\, knowledge\, skills sharing and learning new tools that enhance freelance productivity and efficiency.
URL:https://innovationwomen.com/event/freelance-business-month/
LOCATION:Online
CATEGORIES:Register For Events
ATTACH;FMTTYPE=image/jpeg:https://innovationwomen.com/wp-content/uploads/2023/09/freelance-business-month.jpg
END:VEVENT
BEGIN:VEVENT
DTSTART;VALUE=DATE:20231106
DTEND;VALUE=DATE:20231108
DTSTAMP:20260420T134928
CREATED:20231025T133517Z
LAST-MODIFIED:20231025T133517Z
UID:28859-1699228800-1699401599@innovationwomen.com
SUMMARY:Children Come First Conference
DESCRIPTION:Join us at the Kalahari Convention Center in Wisconsin Dells on November 6-7 for the highly anticipated 2023 Children Come First Conference\, hosted by Wisconsin Family Ties. As one of the largest and longest-running family-driven events in the state\, this conference is dedicated to addressing the pressing needs of children and families living with mental and behavioral health issues.
URL:https://innovationwomen.com/event/children-come-first-conference/
LOCATION:Kalahari Resort Wisconsin Dells\, 1305 Kalahari Drive\, Wisconsin Dells\, WI\, United States
CATEGORIES:Register For Events
ATTACH;FMTTYPE=image/png:https://innovationwomen.com/wp-content/uploads/2023/10/CCF-Conference-doodle-guy-logo-glow.png
END:VEVENT
BEGIN:VEVENT
DTSTART;VALUE=DATE:20231106
DTEND;VALUE=DATE:20231109
DTSTAMP:20260420T134928
CREATED:20231009T203238Z
LAST-MODIFIED:20231009T203238Z
UID:28336-1699228800-1699487999@innovationwomen.com
SUMMARY:California Assisted Living Association Conference
DESCRIPTION:Gather with your peers in the stunning oasis of Palm Springs from Nov. 6-8\, 2023\, and immerse yourself in an inspiring journey of growth and discovery. Engage with expert speakers who will delve into a wide range of captivating topics\, empowering you to strengthen your leadership role like never before. Embrace meaningful discussions that will rekindle your sense of higher purpose and leave you with a fresh perspective. Walk away enlightened\, uplifted and equipped with innovative tools and ideas\, ready to forge an extraordinary path in your profession and beyond.
URL:https://innovationwomen.com/event/california-assisted-living-association-conference/
LOCATION:Palm Springs Convention Center\, 277 N Avenida Caballeros\, Palm Springs\, CA\, United States
CATEGORIES:Register For Events
ATTACH;FMTTYPE=image/jpeg:https://innovationwomen.com/wp-content/uploads/2023/10/23sc-web-banner-2.jpg
END:VEVENT
END:VCALENDAR