BEGIN:VCALENDAR
VERSION:2.0
PRODID:-//Innovation Women - ECPv6.15.20//NONSGML v1.0//EN
CALSCALE:GREGORIAN
METHOD:PUBLISH
X-WR-CALNAME:Innovation Women
X-ORIGINAL-URL:https://innovationwomen.com
X-WR-CALDESC:Events for Innovation Women
REFRESH-INTERVAL;VALUE=DURATION:PT1H
X-Robots-Tag:noindex
X-PUBLISHED-TTL:PT1H
BEGIN:VTIMEZONE
TZID:UTC
BEGIN:STANDARD
TZOFFSETFROM:+0000
TZOFFSETTO:+0000
TZNAME:UTC
DTSTART:20230101T000000
END:STANDARD
END:VTIMEZONE
BEGIN:VEVENT
DTSTART;TZID=UTC:20240112T080000
DTEND;TZID=UTC:20240112T170000
DTSTAMP:20260420T115714
CREATED:20240112T231318Z
LAST-MODIFIED:20240112T231318Z
UID:33058-1705046400-1705078800@innovationwomen.com
SUMMARY:Empowering Design: The Art of Project Management for UX/UI Teams
DESCRIPTION:Join us for an insightful exploration into the specialized world of managing UX/UI design projects led by a seasoned expert with over 20 years of experience in various creative fields. Discover how to become an indispensable strategic partner to design teams\, leveraging deep product knowledge and fostering robust relationships. Learn key tactics for protecting design space\, facilitating effective communication across cross-functional teams\, and tailoring project management methodologies to enhance creative processes.
URL:https://innovationwomen.com/event/empowering-design-the-art-of-project-management-for-ux-ui-teams/
LOCATION:Online
CATEGORIES:Register For Events
ATTACH;FMTTYPE=image/gif:https://innovationwomen.com/wp-content/uploads/2023/12/project-management-institute.gif
END:VEVENT
END:VCALENDAR