BEGIN:VCALENDAR
VERSION:2.0
PRODID:-//Innovation Women - ECPv6.15.20//NONSGML v1.0//EN
CALSCALE:GREGORIAN
METHOD:PUBLISH
X-WR-CALNAME:Innovation Women
X-ORIGINAL-URL:https://innovationwomen.com
X-WR-CALDESC:Events for Innovation Women
REFRESH-INTERVAL;VALUE=DURATION:PT1H
X-Robots-Tag:noindex
X-PUBLISHED-TTL:PT1H
BEGIN:VTIMEZONE
TZID:UTC
BEGIN:STANDARD
TZOFFSETFROM:+0000
TZOFFSETTO:+0000
TZNAME:UTC
DTSTART:20230101T000000
END:STANDARD
END:VTIMEZONE
BEGIN:VTIMEZONE
TZID:America/New_York
BEGIN:DAYLIGHT
TZOFFSETFROM:-0500
TZOFFSETTO:-0400
TZNAME:EDT
DTSTART:20230312T070000
END:DAYLIGHT
BEGIN:STANDARD
TZOFFSETFROM:-0400
TZOFFSETTO:-0500
TZNAME:EST
DTSTART:20231105T060000
END:STANDARD
BEGIN:DAYLIGHT
TZOFFSETFROM:-0500
TZOFFSETTO:-0400
TZNAME:EDT
DTSTART:20240310T070000
END:DAYLIGHT
BEGIN:STANDARD
TZOFFSETFROM:-0400
TZOFFSETTO:-0500
TZNAME:EST
DTSTART:20241103T060000
END:STANDARD
BEGIN:DAYLIGHT
TZOFFSETFROM:-0500
TZOFFSETTO:-0400
TZNAME:EDT
DTSTART:20250309T070000
END:DAYLIGHT
BEGIN:STANDARD
TZOFFSETFROM:-0400
TZOFFSETTO:-0500
TZNAME:EST
DTSTART:20251102T060000
END:STANDARD
END:VTIMEZONE
BEGIN:VEVENT
DTSTART;VALUE=DATE:20240320
DTEND;VALUE=DATE:20240322
DTSTAMP:20260423T004009
CREATED:20240305T215138Z
LAST-MODIFIED:20240305T215138Z
UID:33613-1710892800-1711065599@innovationwomen.com
SUMMARY:Data Science Salon
DESCRIPTION:Data Science Salon is coming back to Austin\, TX on March 20-21. The intimate two-day 250 person conference curates data science sessions to bring industry leaders and specialists face-to-face to educate each other on innovative solutions in generative AI\, machine learning\, predictive analytics and acceptance around best practices. You will see a mix of use-cases\, technical talks and workshops\, and you will walk away with actionable insights from those working on the frontlines of machine learning in the enterprise. All sessions are recorded and will be available on demand 2-hours after the sessions.
URL:https://innovationwomen.com/event/data-science-salon/
LOCATION:Netsuite Oracle’s HQ\, 2300 Oracle Wy\, Austin\, TX\, United States
CATEGORIES:Register For Events
ATTACH;FMTTYPE=image/jpeg:https://innovationwomen.com/wp-content/uploads/2024/03/data-science.jpg
END:VEVENT
BEGIN:VEVENT
DTSTART;VALUE=DATE:20240320
DTEND;VALUE=DATE:20240323
DTSTAMP:20260423T004009
CREATED:20240223T010103Z
LAST-MODIFIED:20240223T010103Z
UID:33512-1710892800-1711151999@innovationwomen.com
SUMMARY:Leading from Strength | Convene
DESCRIPTION:The National Council of Nonprofits is the largest network of nonprofits in North America. We champion\, inform\, and connect organizations across the country to score big wins for nonprofits and the communities they serve.
URL:https://innovationwomen.com/event/leading-from-strength-convene/
LOCATION:Oklahoma Center for Nonprofits\, 701 N Lindsay Ave\, Oklahoma City\, OK\, United States
CATEGORIES:Register For Events
ATTACH;FMTTYPE=image/png:https://innovationwomen.com/wp-content/uploads/2024/02/national-council-of-nonprofits.png
END:VEVENT
BEGIN:VEVENT
DTSTART;TZID=America/New_York:20240320T140000
DTEND;TZID=America/New_York:20240320T150000
DTSTAMP:20260423T004009
CREATED:20240313T220040Z
LAST-MODIFIED:20240313T220040Z
UID:33676-1710943200-1710946800@innovationwomen.com
SUMMARY:Celebrating Women in Cybersecurity
DESCRIPTION:Women held 25% of cybersecurity jobs globally in 2022\, up from 20% in 2019 and around 10% in 2013. It is predicted that women will represent 30% of the global cybersecurity workforce by 2025\, reaching 35% by 2031. To celebrate these strides and achievements\, we are hosting a roundtable discussion on Wednesday\, March 20 from 2-3pm EST
URL:https://innovationwomen.com/event/celebrating-women-in-cybersecurity/
LOCATION:Online
CATEGORIES:Register For Events
ATTACH;FMTTYPE=image/jpeg:https://innovationwomen.com/wp-content/uploads/2024/03/ea3a4499fba6d258ff46658df8d5f3c2.jpg
END:VEVENT
END:VCALENDAR