BEGIN:VCALENDAR
VERSION:2.0
PRODID:-//Innovation Women - ECPv6.15.20//NONSGML v1.0//EN
CALSCALE:GREGORIAN
METHOD:PUBLISH
X-ORIGINAL-URL:https://innovationwomen.com
X-WR-CALDESC:Events for Innovation Women
REFRESH-INTERVAL;VALUE=DURATION:PT1H
X-Robots-Tag:noindex
X-PUBLISHED-TTL:PT1H
BEGIN:VTIMEZONE
TZID:UTC
BEGIN:STANDARD
TZOFFSETFROM:+0000
TZOFFSETTO:+0000
TZNAME:UTC
DTSTART:20230101T000000
END:STANDARD
END:VTIMEZONE
BEGIN:VEVENT
DTSTART;VALUE=DATE:20240908
DTEND;VALUE=DATE:20240911
DTSTAMP:20260423T111033
CREATED:20240703T194540Z
LAST-MODIFIED:20240703T194540Z
UID:35290-1725753600-1726012799@innovationwomen.com
SUMMARY:2024 SHRM NYS Conference
DESCRIPTION:Be part of a powerful HR network with 325\,000+ professionals like you\, all united in the mission to create a world of work that truly works for all. As a SHRM Member®\, you’ll pave the path of your success with invaluable resources\, world-class educational opportunities and premier events. Join us in shaping a brighter\, inclusive tomorrow. \nDiane Darling will be presenting Self-Leadership: What It Is and Why It’s Important for You
URL:https://innovationwomen.com/event/2024-shrm-nys-conference/
LOCATION:Albany Capital Center\, 55 Eagle St\, Albany\, NY\, United States
CATEGORIES:Register For Events
ATTACH;FMTTYPE=image/png:https://innovationwomen.com/wp-content/uploads/2024/07/2024-nys-shrm.png
END:VEVENT
BEGIN:VEVENT
DTSTART;VALUE=DATE:20240908
DTEND;VALUE=DATE:20240911
DTSTAMP:20260423T111033
CREATED:20240807T205558Z
LAST-MODIFIED:20240807T205558Z
UID:35660-1725753600-1726012799@innovationwomen.com
SUMMARY:2024 SHRM NYS Conference
DESCRIPTION:The State Council is meant to serve as the bridge between SHRM and local chapters in New York State. With over 300\,000 national SHRM members\, SHRM remains the voice of all things work\, workers and the workplace. \nRita Ernst will be presenting “Culture Repair: Restoring belonging\, accountability & engagement”.
URL:https://innovationwomen.com/event/2024-shrm-nys-conference-2/
LOCATION:Albany Capital Center\, 55 Eagle St\, Albany\, NY\, United States
CATEGORIES:Register For Events
ATTACH;FMTTYPE=image/png:https://innovationwomen.com/wp-content/uploads/2024/07/2024-nys-shrm.png
END:VEVENT
BEGIN:VEVENT
DTSTART;VALUE=DATE:20240908
DTEND;VALUE=DATE:20240911
DTSTAMP:20260423T111033
CREATED:20240821T193459Z
LAST-MODIFIED:20240821T193459Z
UID:35785-1725753600-1726012799@innovationwomen.com
SUMMARY:2024 SHRM NYS Conference
DESCRIPTION:The State Council is meant to serve as the bridge between SHRM and local chapters in New York State. With over 300\,000 national SHRM members\, SHRM remains the voice of all things work\, workers and the workplace. \nJulia Geisman will be presenting “Agile Leadership: The Key to Meeting Today’s Strategic Talent Demands”.
URL:https://innovationwomen.com/event/2024-shrm-nys-conference-4/
LOCATION:Albany Capital Center\, 55 Eagle St\, Albany\, NY\, United States
CATEGORIES:Register For Events
ATTACH;FMTTYPE=image/png:https://innovationwomen.com/wp-content/uploads/2024/07/2024-nys-shrm.png
END:VEVENT
END:VCALENDAR